BEGIN:VCALENDAR
VERSION:2.0
PRODID:-//Parks - ECPv6.15.14//NONSGML v1.0//EN
CALSCALE:GREGORIAN
METHOD:PUBLISH
X-WR-CALNAME:Parks
X-ORIGINAL-URL:https://parks.sbcounty.gov
X-WR-CALDESC:Events for Parks
REFRESH-INTERVAL;VALUE=DURATION:PT1H
X-Robots-Tag:noindex
X-PUBLISHED-TTL:PT1H
BEGIN:VTIMEZONE
TZID:America/Los_Angeles
BEGIN:DAYLIGHT
TZOFFSETFROM:-0800
TZOFFSETTO:-0700
TZNAME:PDT
DTSTART:20190310T100000
END:DAYLIGHT
BEGIN:STANDARD
TZOFFSETFROM:-0700
TZOFFSETTO:-0800
TZNAME:PST
DTSTART:20191103T090000
END:STANDARD
BEGIN:DAYLIGHT
TZOFFSETFROM:-0800
TZOFFSETTO:-0700
TZNAME:PDT
DTSTART:20200308T100000
END:DAYLIGHT
BEGIN:STANDARD
TZOFFSETFROM:-0700
TZOFFSETTO:-0800
TZNAME:PST
DTSTART:20201101T090000
END:STANDARD
BEGIN:DAYLIGHT
TZOFFSETFROM:-0800
TZOFFSETTO:-0700
TZNAME:PDT
DTSTART:20210314T100000
END:DAYLIGHT
BEGIN:STANDARD
TZOFFSETFROM:-0700
TZOFFSETTO:-0800
TZNAME:PST
DTSTART:20211107T090000
END:STANDARD
END:VTIMEZONE
BEGIN:VEVENT
DTSTART;TZID=America/Los_Angeles:20200919T090000
DTEND;TZID=America/Los_Angeles:20200919T160000
DTSTAMP:20260419T235056
CREATED:20200124T201234Z
LAST-MODIFIED:20200710T164935Z
UID:8959-1600506000-1600531200@parks.sbcounty.gov
SUMMARY:Doggie Poolooza: Cancelled
DESCRIPTION:As the dog days of summer come to an end and the regular summer swim season closes\, San Bernardino County Parks hosts its annual Doggie Pool-ooza event at Yucaipa Regional Park in Yucaipa. During this event owners can bring their four legged pals who have had to endure the summer heat in a fur coat\, for a last dip in the cool pool. In addition to the zero entry pool the event also boasts a Doggie Swimsuit Competition\, a Dog/Owner look-a-like contest\, Top Dog Talent Show\, and more.
URL:https://parks.sbcounty.gov/event/doggie-poolooza-3/
LOCATION:Yucaipa Regional Park\, 33900 Oak Glen Road\, Yucaipa\, CA\, 92399\, United States
ATTACH;FMTTYPE=image/jpeg:https://parks.sbcounty.gov/wp-content/uploads/sites/34/2020/01/Doggie-Poolooza-1.jpg
ORGANIZER;CN="Regional Parks":MAILTO:events@parks.sbcounty.gov
END:VEVENT
END:VCALENDAR