BEGIN:VCALENDAR
VERSION:2.0
PRODID:-//Parks - ECPv6.15.14//NONSGML v1.0//EN
CALSCALE:GREGORIAN
METHOD:PUBLISH
X-WR-CALNAME:Parks
X-ORIGINAL-URL:https://parks.sbcounty.gov
X-WR-CALDESC:Events for Parks
REFRESH-INTERVAL;VALUE=DURATION:PT1H
X-Robots-Tag:noindex
X-PUBLISHED-TTL:PT1H
BEGIN:VTIMEZONE
TZID:America/Los_Angeles
BEGIN:DAYLIGHT
TZOFFSETFROM:-0800
TZOFFSETTO:-0700
TZNAME:PDT
DTSTART:20250309T100000
END:DAYLIGHT
BEGIN:STANDARD
TZOFFSETFROM:-0700
TZOFFSETTO:-0800
TZNAME:PST
DTSTART:20251102T090000
END:STANDARD
BEGIN:DAYLIGHT
TZOFFSETFROM:-0800
TZOFFSETTO:-0700
TZNAME:PDT
DTSTART:20260308T100000
END:DAYLIGHT
BEGIN:STANDARD
TZOFFSETFROM:-0700
TZOFFSETTO:-0800
TZNAME:PST
DTSTART:20261101T090000
END:STANDARD
BEGIN:DAYLIGHT
TZOFFSETFROM:-0800
TZOFFSETTO:-0700
TZNAME:PDT
DTSTART:20270314T100000
END:DAYLIGHT
BEGIN:STANDARD
TZOFFSETFROM:-0700
TZOFFSETTO:-0800
TZNAME:PST
DTSTART:20271107T090000
END:STANDARD
END:VTIMEZONE
BEGIN:VEVENT
DTSTART;TZID=America/Los_Angeles:20260516T140000
DTEND;TZID=America/Los_Angeles:20260516T153000
DTSTAMP:20260422T183052
CREATED:20260422T213939Z
LAST-MODIFIED:20260422T214031Z
UID:58060-1778940000-1778945400@parks.sbcounty.gov
SUMMARY:May Flowers Activity at Glen Helen
DESCRIPTION:Join us for a blooming good time as we craft\, create\, and celebrate all things flowers. It’s the perfect to celebrate the beauty of spring with a fun-filled May Flowers craft day at Glen Helen Regional Park\, Saturday\, May 16\, from 2-3:30 p.m. \nJoin us to create colorful flower-themed art\, from hand-painted poppies to paper blossoms and garden-inspired crafts. It’s a wonderful way to welcome the season\, explore creativity\, and enjoy the vibrant colors of May! \nPark hours are 7:30 a.m. to 6:30 p.m. Bring the whole family\, pack a lunch and explore the great outdoors before or after the activity. Leashed pets are welcome too! \nAdmission is $15 per vehicle. All supplies are provided while they last. \nFor more information on Regional Parks\, visit parks.sbcounty.gov\, or follow parks on Facebook and Instagram to stay connected with the latest park news and events.
URL:https://parks.sbcounty.gov/event/may-flowers-at-glen-helen/
LOCATION:Glen Helen Regional Park\, 2555 Glen Helen Parkway\, San Bernardino\, CA\, 92407\, United States
CATEGORIES:Activities
ATTACH;FMTTYPE=image/jpeg:https://parks.sbcounty.gov/wp-content/uploads/sites/34/2026/04/May-Flowers-Website-Feature-Image-042226.jpg
ORGANIZER;CN="Dominique Hernandez":MAILTO:dominique.hernandez@parks.sbcounty.gov
END:VEVENT
END:VCALENDAR