BEGIN:VCALENDAR
VERSION:2.0
PRODID:-//Parks - ECPv6.15.14//NONSGML v1.0//EN
CALSCALE:GREGORIAN
METHOD:PUBLISH
X-WR-CALNAME:Parks
X-ORIGINAL-URL:https://parks.sbcounty.gov
X-WR-CALDESC:Events for Parks
REFRESH-INTERVAL;VALUE=DURATION:PT1H
X-Robots-Tag:noindex
X-PUBLISHED-TTL:PT1H
BEGIN:VTIMEZONE
TZID:America/Los_Angeles
BEGIN:DAYLIGHT
TZOFFSETFROM:-0800
TZOFFSETTO:-0700
TZNAME:PDT
DTSTART:20230312T100000
END:DAYLIGHT
BEGIN:STANDARD
TZOFFSETFROM:-0700
TZOFFSETTO:-0800
TZNAME:PST
DTSTART:20231105T090000
END:STANDARD
BEGIN:DAYLIGHT
TZOFFSETFROM:-0800
TZOFFSETTO:-0700
TZNAME:PDT
DTSTART:20240310T100000
END:DAYLIGHT
BEGIN:STANDARD
TZOFFSETFROM:-0700
TZOFFSETTO:-0800
TZNAME:PST
DTSTART:20241103T090000
END:STANDARD
BEGIN:DAYLIGHT
TZOFFSETFROM:-0800
TZOFFSETTO:-0700
TZNAME:PDT
DTSTART:20250309T100000
END:DAYLIGHT
BEGIN:STANDARD
TZOFFSETFROM:-0700
TZOFFSETTO:-0800
TZNAME:PST
DTSTART:20251102T090000
END:STANDARD
END:VTIMEZONE
BEGIN:VEVENT
DTSTART;TZID=America/Los_Angeles:20240121T120000
DTEND;TZID=America/Los_Angeles:20240121T140000
DTSTAMP:20260422T104556
CREATED:20240119T194140Z
LAST-MODIFIED:20240119T195025Z
UID:39456-1705838400-1705845600@parks.sbcounty.gov
SUMMARY:Snowflakes Arts & Crafts at Mojave Narrows
DESCRIPTION:Join us in making snowflake crafts at Mojave Narrows Regional Park on Sunday\, Jan. 21 from 12 p.m. to 2 p.m. Free while supplies last. Free with park admission and for those camping with us. Park admission is $10 per vehicle. All ages welcome! Activity date subject to change in the event of inclement weather conditions.
URL:https://parks.sbcounty.gov/event/snowflakes-arts-crafts-at-mojave-narrows/
LOCATION:Mojave Narrows\, 18000 Yates Road\, Victorville\, CA\, 92392\, United States
CATEGORIES:Activities
ATTACH;FMTTYPE=image/png:https://parks.sbcounty.gov/wp-content/uploads/sites/34/2024/01/Website-Feature-Image-Snowflake-Crafts-Mojave-Narrows-012124.png
END:VEVENT
END:VCALENDAR