BEGIN:VCALENDAR
VERSION:2.0
PRODID:-//Parks - ECPv6.15.14//NONSGML v1.0//EN
CALSCALE:GREGORIAN
METHOD:PUBLISH
X-ORIGINAL-URL:https://parks.sbcounty.gov
X-WR-CALDESC:Events for Parks
REFRESH-INTERVAL;VALUE=DURATION:PT1H
X-Robots-Tag:noindex
X-PUBLISHED-TTL:PT1H
BEGIN:VTIMEZONE
TZID:America/Los_Angeles
BEGIN:DAYLIGHT
TZOFFSETFROM:-0800
TZOFFSETTO:-0700
TZNAME:PDT
DTSTART:20190310T100000
END:DAYLIGHT
BEGIN:STANDARD
TZOFFSETFROM:-0700
TZOFFSETTO:-0800
TZNAME:PST
DTSTART:20191103T090000
END:STANDARD
BEGIN:DAYLIGHT
TZOFFSETFROM:-0800
TZOFFSETTO:-0700
TZNAME:PDT
DTSTART:20200308T100000
END:DAYLIGHT
BEGIN:STANDARD
TZOFFSETFROM:-0700
TZOFFSETTO:-0800
TZNAME:PST
DTSTART:20201101T090000
END:STANDARD
BEGIN:DAYLIGHT
TZOFFSETFROM:-0800
TZOFFSETTO:-0700
TZNAME:PDT
DTSTART:20210314T100000
END:DAYLIGHT
BEGIN:STANDARD
TZOFFSETFROM:-0700
TZOFFSETTO:-0800
TZNAME:PST
DTSTART:20211107T090000
END:STANDARD
END:VTIMEZONE
BEGIN:VEVENT
DTSTART;TZID=America/Los_Angeles:20200815T090000
DTEND;TZID=America/Los_Angeles:20200815T100000
DTSTAMP:20260421T110810
CREATED:20200307T002103Z
LAST-MODIFIED:20200814T205831Z
UID:10001625-1597482000-1597485600@parks.sbcounty.gov
SUMMARY:Cancelled: Who's Hangin' Out in Our Parks?
DESCRIPTION:This event has been cancelled. \n\nAn one hour interpretive tour talk and walk all about our park visitor\, the Great-Horned Owl.\nAll ages welcome.\nFree tour with vehicle entry.\nAdmission: Vehicle entry fee of $10.\n\nMUST RSVP PRIOR TO DATE\n\nRegister at https://whoshanginoutsbcrp.eventbrite.com\n\nEVENT FLIER\n\nPrint/Download Flier\n\n 
URL:https://parks.sbcounty.gov/event/whos-hanging-in-our-park-5/
LOCATION:Mojave Narrows\, 18000 Yates Road\, Victorville\, CA\, 92392\, United States
CATEGORIES:Educational
ATTACH;FMTTYPE=image/jpeg:https://parks.sbcounty.gov/wp-content/uploads/sites/34/2020/01/Great-Horned-Owl-Photo-e1580776001518.jpg
ORGANIZER;CN="Regional Parks":MAILTO:events@parks.sbcounty.gov
END:VEVENT
END:VCALENDAR