BEGIN:VCALENDAR
VERSION:2.0
PRODID:-//Parks - ECPv6.15.14//NONSGML v1.0//EN
CALSCALE:GREGORIAN
METHOD:PUBLISH
X-WR-CALNAME:Parks
X-ORIGINAL-URL:https://parks.sbcounty.gov
X-WR-CALDESC:Events for Parks
REFRESH-INTERVAL;VALUE=DURATION:PT1H
X-Robots-Tag:noindex
X-PUBLISHED-TTL:PT1H
BEGIN:VTIMEZONE
TZID:America/Los_Angeles
BEGIN:DAYLIGHT
TZOFFSETFROM:-0800
TZOFFSETTO:-0700
TZNAME:PDT
DTSTART:20200308T100000
END:DAYLIGHT
BEGIN:STANDARD
TZOFFSETFROM:-0700
TZOFFSETTO:-0800
TZNAME:PST
DTSTART:20201101T090000
END:STANDARD
BEGIN:DAYLIGHT
TZOFFSETFROM:-0800
TZOFFSETTO:-0700
TZNAME:PDT
DTSTART:20210314T100000
END:DAYLIGHT
BEGIN:STANDARD
TZOFFSETFROM:-0700
TZOFFSETTO:-0800
TZNAME:PST
DTSTART:20211107T090000
END:STANDARD
BEGIN:DAYLIGHT
TZOFFSETFROM:-0800
TZOFFSETTO:-0700
TZNAME:PDT
DTSTART:20220313T100000
END:DAYLIGHT
BEGIN:STANDARD
TZOFFSETFROM:-0700
TZOFFSETTO:-0800
TZNAME:PST
DTSTART:20221106T090000
END:STANDARD
END:VTIMEZONE
BEGIN:VEVENT
DTSTART;TZID=America/Los_Angeles:20210702T193000
DTEND;TZID=America/Los_Angeles:20210702T220000
DTSTAMP:20260425T092657
CREATED:20210628T231200Z
LAST-MODIFIED:20210628T231200Z
UID:10001979-1625254200-1625263200@parks.sbcounty.gov
SUMMARY:Movie in the Park: Trolls World
DESCRIPTION:FOR CAMPERS ONLY.  Free event with games and contests at 7:30 p.m. and the movie begins at 8:15 p.m. Free popcorn while supplies last. Location is at Shelter 1.
URL:https://parks.sbcounty.gov/event/movie-in-the-park-trolls-world/
LOCATION:Yucaipa Regional Park\, 33900 Oak Glen Road\, Yucaipa\, CA\, 92399\, United States
CATEGORIES:Special Events
ATTACH;FMTTYPE=image/png:https://parks.sbcounty.gov/wp-content/uploads/sites/34/2021/06/Movies-_-Yucaipa-1.png
ORGANIZER;CN="Regional Parks":MAILTO:events@parks.sbcounty.gov
END:VEVENT
BEGIN:VEVENT
DTSTART;TZID=America/Los_Angeles:20210702T203000
DTEND;TZID=America/Los_Angeles:20210702T213000
DTSTAMP:20260425T092657
CREATED:20210628T232117Z
LAST-MODIFIED:20210628T232117Z
UID:10001985-1625257800-1625261400@parks.sbcounty.gov
SUMMARY:Ken Frawley & Puppets
DESCRIPTION:FOR CAMPERS ONLY. Geared toward kids. Free event. Join Ken Frawley and his puppets for campfire entertainment.
URL:https://parks.sbcounty.gov/event/ken-frawley-puppets/
LOCATION:Mojave Narrows\, 18000 Yates Road\, Victorville\, CA\, 92392\, United States
CATEGORIES:Special Events
ATTACH;FMTTYPE=image/png:https://parks.sbcounty.gov/wp-content/uploads/sites/34/2021/06/ken-Frawley-MJN-07022021-1.png
ORGANIZER;CN="Regional Parks":MAILTO:events@parks.sbcounty.gov
END:VEVENT
END:VCALENDAR