BEGIN:VCALENDAR
VERSION:2.0
PRODID:-//Parks - ECPv6.15.14//NONSGML v1.0//EN
CALSCALE:GREGORIAN
METHOD:PUBLISH
X-WR-CALNAME:Parks
X-ORIGINAL-URL:https://parks.sbcounty.gov
X-WR-CALDESC:Events for Parks
REFRESH-INTERVAL;VALUE=DURATION:PT1H
X-Robots-Tag:noindex
X-PUBLISHED-TTL:PT1H
BEGIN:VTIMEZONE
TZID:America/Los_Angeles
BEGIN:DAYLIGHT
TZOFFSETFROM:-0800
TZOFFSETTO:-0700
TZNAME:PDT
DTSTART:20200308T100000
END:DAYLIGHT
BEGIN:STANDARD
TZOFFSETFROM:-0700
TZOFFSETTO:-0800
TZNAME:PST
DTSTART:20201101T090000
END:STANDARD
BEGIN:DAYLIGHT
TZOFFSETFROM:-0800
TZOFFSETTO:-0700
TZNAME:PDT
DTSTART:20210314T100000
END:DAYLIGHT
BEGIN:STANDARD
TZOFFSETFROM:-0700
TZOFFSETTO:-0800
TZNAME:PST
DTSTART:20211107T090000
END:STANDARD
BEGIN:DAYLIGHT
TZOFFSETFROM:-0800
TZOFFSETTO:-0700
TZNAME:PDT
DTSTART:20220313T100000
END:DAYLIGHT
BEGIN:STANDARD
TZOFFSETFROM:-0700
TZOFFSETTO:-0800
TZNAME:PST
DTSTART:20221106T090000
END:STANDARD
END:VTIMEZONE
BEGIN:VEVENT
DTSTART;TZID=America/Los_Angeles:20210716T190000
DTEND;TZID=America/Los_Angeles:20210716T220000
DTSTAMP:20260425T092606
CREATED:20210708T155018Z
LAST-MODIFIED:20210708T155142Z
UID:10002015-1626462000-1626472800@parks.sbcounty.gov
SUMMARY:Movie in the Park: Pirates of the Caribbean
DESCRIPTION:This event is only for campers at Mojave Narrows. There will free popcorn while supplies last. Games and contests will begin before the movie. Bring your own blanket and chairs. Flashlights are encouraged. The movie is rated PG-13. \nTimes: \n\n7:30 PM: Games & Contests\n8:15 PM: Movie\n\nLocation: Shelter 5
URL:https://parks.sbcounty.gov/event/movie-in-the-park-pirates-of-the-caribbean/
LOCATION:Mojave Narrows\, 18000 Yates Road\, Victorville\, CA\, 92392\, United States
CATEGORIES:Special Events
ATTACH;FMTTYPE=image/png:https://parks.sbcounty.gov/wp-content/uploads/sites/34/2021/07/Movies-_-mOJAVE-nARROWS-1.png
ORGANIZER;CN="Regional Parks":MAILTO:events@parks.sbcounty.gov
END:VEVENT
BEGIN:VEVENT
DTSTART;TZID=America/Los_Angeles:20210716T203000
DTEND;TZID=America/Los_Angeles:20210716T213000
DTSTAMP:20260425T092606
CREATED:20210708T160443Z
LAST-MODIFIED:20210708T160455Z
UID:10002021-1626467400-1626471000@parks.sbcounty.gov
SUMMARY:Ken Frawley & Puppets
DESCRIPTION:This event is for campers at Glen Helen Regional Park only. Join Ken Frawley and his puppets for campfire entertainment. Sing\, dance and laugh with your friends and family around the campfire. \nTime: 8:30-9:30 PM \nLocation: Glen Helen Regional Park Campground \n \n  \n 
URL:https://parks.sbcounty.gov/event/ken-frawley-puppets-3/
LOCATION:Glen Helen Regional Park\, 2555 Glen Helen Parkway\, San Bernardino\, CA\, 92407\, United States
CATEGORIES:Special Events
ATTACH;FMTTYPE=image/png:https://parks.sbcounty.gov/wp-content/uploads/sites/34/2021/07/ken-Frawley-GLN-07162021-1.png
ORGANIZER;CN="Regional Parks":MAILTO:events@parks.sbcounty.gov
END:VEVENT
END:VCALENDAR