BEGIN:VCALENDAR
VERSION:2.0
PRODID:-//Parks - ECPv6.15.14//NONSGML v1.0//EN
CALSCALE:GREGORIAN
METHOD:PUBLISH
X-ORIGINAL-URL:https://parks.sbcounty.gov
X-WR-CALDESC:Events for Parks
REFRESH-INTERVAL;VALUE=DURATION:PT1H
X-Robots-Tag:noindex
X-PUBLISHED-TTL:PT1H
BEGIN:VTIMEZONE
TZID:America/Los_Angeles
BEGIN:DAYLIGHT
TZOFFSETFROM:-0800
TZOFFSETTO:-0700
TZNAME:PDT
DTSTART:20230312T100000
END:DAYLIGHT
BEGIN:STANDARD
TZOFFSETFROM:-0700
TZOFFSETTO:-0800
TZNAME:PST
DTSTART:20231105T090000
END:STANDARD
BEGIN:DAYLIGHT
TZOFFSETFROM:-0800
TZOFFSETTO:-0700
TZNAME:PDT
DTSTART:20240310T100000
END:DAYLIGHT
BEGIN:STANDARD
TZOFFSETFROM:-0700
TZOFFSETTO:-0800
TZNAME:PST
DTSTART:20241103T090000
END:STANDARD
BEGIN:DAYLIGHT
TZOFFSETFROM:-0800
TZOFFSETTO:-0700
TZNAME:PDT
DTSTART:20250309T100000
END:DAYLIGHT
BEGIN:STANDARD
TZOFFSETFROM:-0700
TZOFFSETTO:-0800
TZNAME:PST
DTSTART:20251102T090000
END:STANDARD
END:VTIMEZONE
BEGIN:VEVENT
DTSTART;TZID=America/Los_Angeles:20240702T100000
DTEND;TZID=America/Los_Angeles:20240702T130000
DTSTAMP:20260421T170752
CREATED:20240628T192833Z
LAST-MODIFIED:20240628T192833Z
UID:10003523-1719914400-1719925200@parks.sbcounty.gov
SUMMARY:Patriotic Crafts at Prado
DESCRIPTION:Join us for some pre-Fourth of July activities\, and arts & crafts at Prado Regional Park from 10 a.m. to 1 p.m. All ages are welcome and leashed pets are welcome to join us too as we celebrate Independence Day. Load up the kids\, pack a picnic\, fish\, play ball and come out to experience some family fun. \nAdmission is $10 per vehicle and free for those camping with us.
URL:https://parks.sbcounty.gov/event/patriotic-crafts-at-prado/
LOCATION:Prado Regional Park\, 16700 S. Euclid Avenue\, Chino\, CA\, 91708\, United States
CATEGORIES:Activities
ATTACH;FMTTYPE=image/png:https://parks.sbcounty.gov/wp-content/uploads/sites/34/2024/06/Prado-Patriotic-Website-Crafts-July-2.png
ORGANIZER;CN="Parks General Inbox":MAILTO:parks@parks.sbcounty.gov
END:VEVENT
BEGIN:VEVENT
DTSTART;TZID=America/Los_Angeles:20240702T100000
DTEND;TZID=America/Los_Angeles:20240702T160000
DTSTAMP:20260421T170752
CREATED:20240614T223435Z
LAST-MODIFIED:20240614T223828Z
UID:10003252-1719914400-1719936000@parks.sbcounty.gov
SUMMARY:Swim at Glen Helen
DESCRIPTION:
URL:https://parks.sbcounty.gov/event/swim-at-glen-helen-5/2024-07-02/
LOCATION:Glen Helen Regional Park\, 2555 Glen Helen Parkway\, San Bernardino\, CA\, 92407\, United States
CATEGORIES:Glen Helen Pool
ATTACH;FMTTYPE=image/png:https://parks.sbcounty.gov/wp-content/uploads/sites/34/2024/05/Glen-Helen-Swim-Complex-1.png
ORGANIZER;CN="Parks General Inbox":MAILTO:parks@parks.sbcounty.gov
END:VEVENT
BEGIN:VEVENT
DTSTART;TZID=America/Los_Angeles:20240702T100000
DTEND;TZID=America/Los_Angeles:20240702T160000
DTSTAMP:20260421T170752
CREATED:20240614T225132Z
LAST-MODIFIED:20240614T225132Z
UID:10003270-1719914400-1719936000@parks.sbcounty.gov
SUMMARY:Swim at Yucaipa
DESCRIPTION:
URL:https://parks.sbcounty.gov/event/swim-at-yucaipa-9/2024-07-02/
LOCATION:Yucaipa Regional Park\, 33900 Oak Glen Road\, Yucaipa\, CA\, 92399\, United States
CATEGORIES:Yucaipa Pool
ATTACH;FMTTYPE=image/png:https://parks.sbcounty.gov/wp-content/uploads/sites/34/2024/05/Yucaipa-Pool-1.png
ORGANIZER;CN="Parks General Inbox":MAILTO:parks@parks.sbcounty.gov
END:VEVENT
BEGIN:VEVENT
DTSTART;TZID=America/Los_Angeles:20240702T143000
DTEND;TZID=America/Los_Angeles:20240702T163000
DTSTAMP:20260421T170752
CREATED:20240628T192645Z
LAST-MODIFIED:20240628T192645Z
UID:10003520-1719930600-1719937800@parks.sbcounty.gov
SUMMARY:Patriotic Crafts at Guasti
DESCRIPTION:Join us for some pre-Fourth of July activities\, and arts & crafts at Cucamonga-Guasti Regional Park from 2:30-4:30 p.m. All ages are welcome and leashed pets are welcome to join us too as we celebrate Independence Day. Load up the kids\, pack a picnic\, hit the splashpad\, and come out to experience some family fun. \nAdmission is $10 per vehicle.
URL:https://parks.sbcounty.gov/event/patriotic-crafts-at-guasti/
LOCATION:Cucamonga-Guasti\, 800 N. Archibald Avenue\, Ontario\, CA\, 91764\, United States
CATEGORIES:Activities
ATTACH;FMTTYPE=image/png:https://parks.sbcounty.gov/wp-content/uploads/sites/34/2024/06/Guasti-Patriotic-Crafts-July-2.png
ORGANIZER;CN="Parks General Inbox":MAILTO:parks@parks.sbcounty.gov
END:VEVENT
END:VCALENDAR