BEGIN:VCALENDAR
VERSION:2.0
PRODID:-//Parks - ECPv6.15.14//NONSGML v1.0//EN
CALSCALE:GREGORIAN
METHOD:PUBLISH
X-ORIGINAL-URL:https://parks.sbcounty.gov
X-WR-CALDESC:Events for Parks
REFRESH-INTERVAL;VALUE=DURATION:PT1H
X-Robots-Tag:noindex
X-PUBLISHED-TTL:PT1H
BEGIN:VTIMEZONE
TZID:America/Los_Angeles
BEGIN:DAYLIGHT
TZOFFSETFROM:-0800
TZOFFSETTO:-0700
TZNAME:PDT
DTSTART:20210314T100000
END:DAYLIGHT
BEGIN:STANDARD
TZOFFSETFROM:-0700
TZOFFSETTO:-0800
TZNAME:PST
DTSTART:20211107T090000
END:STANDARD
BEGIN:DAYLIGHT
TZOFFSETFROM:-0800
TZOFFSETTO:-0700
TZNAME:PDT
DTSTART:20220313T100000
END:DAYLIGHT
BEGIN:STANDARD
TZOFFSETFROM:-0700
TZOFFSETTO:-0800
TZNAME:PST
DTSTART:20221106T090000
END:STANDARD
BEGIN:DAYLIGHT
TZOFFSETFROM:-0800
TZOFFSETTO:-0700
TZNAME:PDT
DTSTART:20230312T100000
END:DAYLIGHT
BEGIN:STANDARD
TZOFFSETFROM:-0700
TZOFFSETTO:-0800
TZNAME:PST
DTSTART:20231105T090000
END:STANDARD
END:VTIMEZONE
BEGIN:VEVENT
DTSTART;TZID=America/Los_Angeles:20221006T160000
DTEND;TZID=America/Los_Angeles:20221006T164500
DTSTAMP:20260419T152753
CREATED:20220816T232805Z
LAST-MODIFIED:20220816T232805Z
UID:10002294-1665072000-1665074700@parks.sbcounty.gov
SUMMARY:POUND® ROCKOUT. WORKOUT. @ Cucamonga-Guasti Regional Park
DESCRIPTION:Release your inner rock star! Join our Recreation Coordinator in getting a full body workout while rocking out in this cardio jam session! \nOctober 6 – Cucamonga-Guasti Regional Park\, 4 p.m. – 4:45 p.m.
URL:https://parks.sbcounty.gov/event/pound-rockout-workout-cucamonga-guasti-regional-park/
LOCATION:Cucamonga-Guasti\, 800 N. Archibald Avenue\, Ontario\, CA\, 91764\, United States
CATEGORIES:Activities,Fitness & Athletics
ATTACH;FMTTYPE=image/jpeg:https://parks.sbcounty.gov/wp-content/uploads/sites/34/2022/08/Pound-Exercise-Class-2.jpg
END:VEVENT
BEGIN:VEVENT
DTSTART;TZID=America/Los_Angeles:20221012T153000
DTEND;TZID=America/Los_Angeles:20221012T170000
DTSTAMP:20260419T152753
CREATED:20221011T232937Z
LAST-MODIFIED:20221011T233029Z
UID:10002336-1665588600-1665594000@parks.sbcounty.gov
SUMMARY:Pumpkin Carving Contest
DESCRIPTION:Head to Prado Regional Park and put your pumpkin carving skills to work at the Pumpkin Carving Contest. Bring friends and family to have a friendly competition in the best carving. \n \nPrizes will be awarded in the following categories: \nMOST CREATIVE \nSCARIEST \nFUNNIEST
URL:https://parks.sbcounty.gov/event/pumpkin-carving-contest/
LOCATION:Prado Regional Park\, 16700 S. Euclid Avenue\, Chino\, CA\, 91708\, United States
CATEGORIES:Activities
ATTACH;FMTTYPE=image/jpeg:https://parks.sbcounty.gov/wp-content/uploads/sites/34/2022/10/pumpkin-carving.jpg
END:VEVENT
BEGIN:VEVENT
DTSTART;TZID=America/Los_Angeles:20221015T180000
DTEND;TZID=America/Los_Angeles:20221015T210000
DTSTAMP:20260419T152753
CREATED:20221011T184007Z
LAST-MODIFIED:20221011T184007Z
UID:10002312-1665856800-1665867600@parks.sbcounty.gov
SUMMARY:Mojave Narrows Free Halloween Harvest Festival
DESCRIPTION:San Bernardino County Regional Parks and El Dorado Broadcasters in Victor Valley are hosting a free\, family-friendly event at Mojave Narrows Regional Park in Victorville on Saturday\, Oct. 15 and Sunday\, Oct. 16 from 6 p.m. to 9 p.m. \nThis nighttime event will offer free haunted hayrides\, traditional carnival games\, vendor booths\, music and more. \nAnyone that would like to ride the Haunted Hayride must pre-register at https://y102fm.com/halloween-harvest-festival to secure your specific day and time before spots run out! The hayrides run every 20 minutes. \nEl Dorado Broadcasters own seven radio stations in Victor Valley and three radio stations in Yuma\, Ariz. \nMojave Narrows Regional Park is located at 18000 Yates Road\, Victorville. Parking opens at 5 p.m.
URL:https://parks.sbcounty.gov/event/mojave-narrows-free-halloween-harvest-festival/
LOCATION:Mojave Narrows\, 18000 Yates Road\, Victorville\, CA\, 92392\, United States
CATEGORIES:Activities,Special Events
ATTACH;FMTTYPE=image/png:https://parks.sbcounty.gov/wp-content/uploads/sites/34/2022/10/Regional-Parks-Harvest-Festival.png
END:VEVENT
BEGIN:VEVENT
DTSTART;TZID=America/Los_Angeles:20221016T180000
DTEND;TZID=America/Los_Angeles:20221016T210000
DTSTAMP:20260419T152753
CREATED:20221011T184226Z
LAST-MODIFIED:20221011T184243Z
UID:10002315-1665943200-1665954000@parks.sbcounty.gov
SUMMARY:Mojave Narrows Free Halloween Harvest Festival
DESCRIPTION:San Bernardino County Regional Parks and El Dorado Broadcasters in Victor Valley are hosting a free\, family-friendly event at Mojave Narrows Regional Park in Victorville on Saturday\, Oct. 15 and Sunday\, Oct. 16 from 6 p.m. to 9 p.m. \nThis nighttime event will offer free haunted hayrides\, traditional carnival games\, vendor booths\, music and more. \nAnyone that would like to ride the Haunted Hayride must pre-register at https://y102fm.com/halloween-harvest-festival to secure your specific day and time before spots run out! The hayrides run every 20 minutes. \nEl Dorado Broadcasters own seven radio stations in Victor Valley and three radio stations in Yuma\, Ariz. \nMojave Narrows Regional Park is located at 18000 Yates Road\, Victorville. Parking opens at 5 p.m.
URL:https://parks.sbcounty.gov/event/mojave-narrows-free-halloween-harvest-festival-2/
LOCATION:Mojave Narrows\, 18000 Yates Road\, Victorville\, CA\, 92392\, United States
CATEGORIES:Activities,Special Events
ATTACH;FMTTYPE=image/png:https://parks.sbcounty.gov/wp-content/uploads/sites/34/2022/10/Regional-Parks-Harvest-Festival.png
END:VEVENT
BEGIN:VEVENT
DTSTART;TZID=America/Los_Angeles:20221021T160000
DTEND;TZID=America/Los_Angeles:20221021T210000
DTSTAMP:20260419T152753
CREATED:20221011T195558Z
LAST-MODIFIED:20221011T200710Z
UID:10002318-1666368000-1666386000@parks.sbcounty.gov
SUMMARY:Calico Ghost Haunt: Pumpkin Mayhem
DESCRIPTION:Every year\, Calico Ghost Town brings out the scare\, fun and excitement of Halloween. This annual event includes\, trick-or-treating\, costume contests\, pumpkin carving\, kids’ carnival tent\, live entertainment stage shows\, haunted attractions and more. \nFor event details\, visit parks.sbcounty.gov/calico-ghost-haunt \n \nAdmission Prices\nAdults (12 & over): $15\nYouth (ages 4-11): $10\nAges 3 and under: Free admission \nCalico Days Camping\nFour (4) tickets are included with camping reservations.\nVisit www.sbcountyparks.com to make a reservation. \nEvent Contact\nKaren Stevenson\, Regional Parks Recreation Coordinator\nemail: events@parks.sbcounty.gov\nphone: 909.387.2461 \n 
URL:https://parks.sbcounty.gov/event/calico-ghost-haunt-pumpkin-mayhem-2/
LOCATION:Calico Ghost Town\, 36600 Ghost Town Road\, Yermo\, CA\, 92398\, United States
CATEGORIES:Activities,Annual Event,Special Events
ATTACH;FMTTYPE=image/png:https://parks.sbcounty.gov/wp-content/uploads/sites/34/2022/10/Calico-Ghost-Haunt-Web-Feature-Image.png
END:VEVENT
BEGIN:VEVENT
DTSTART;TZID=America/Los_Angeles:20221022T090000
DTEND;TZID=America/Los_Angeles:20221022T220000
DTSTAMP:20260419T152753
CREATED:20221011T200858Z
LAST-MODIFIED:20221011T201428Z
UID:10002321-1666429200-1666476000@parks.sbcounty.gov
SUMMARY:Calico Ghost Haunt: Pumpkin Mayhem
DESCRIPTION:Every year\, Calico Ghost Town brings out the scare\, fun and excitement of Halloween. This annual event includes\, trick-or-treating\, costume contests\, pumpkin carving\, kids’ carnival tent\, live entertainment stage shows\, haunted attractions and more. \nFor event details\, visit parks.sbcounty.gov/calico-ghost-haunt \n \nAdmission Prices\nAdults (12 & over): $15\nYouth (ages 4-11): $10\nAges 3 and under: Free admission \nCalico Days Camping\nFour (4) tickets are included with camping reservations.\nVisit www.sbcountyparks.com to make a reservation. \nEvent Contact\nKaren Stevenson\, Regional Parks Recreation Coordinator\nemail: events@parks.sbcounty.gov\nphone: 909.387.2461
URL:https://parks.sbcounty.gov/event/calico-ghost-haunt-pumpkin-mayhem-3/
LOCATION:Calico Ghost Town\, 36600 Ghost Town Road\, Yermo\, CA\, 92398\, United States
CATEGORIES:Activities,Annual Event
ATTACH;FMTTYPE=image/png:https://parks.sbcounty.gov/wp-content/uploads/sites/34/2022/10/Calico-Ghost-Haunt-Web-Feature-Image.png
END:VEVENT
BEGIN:VEVENT
DTSTART;TZID=America/Los_Angeles:20221023T090000
DTEND;TZID=America/Los_Angeles:20221023T170000
DTSTAMP:20260419T152753
CREATED:20221011T201204Z
LAST-MODIFIED:20221011T201204Z
UID:10002324-1666515600-1666544400@parks.sbcounty.gov
SUMMARY:Calico Ghost Haunt: Pumpkin Mayhem
DESCRIPTION:Every year\, Calico Ghost Town brings out the scare\, fun and excitement of Halloween. This annual event includes\, trick-or-treating\, costume contests\, pumpkin carving\, kids’ carnival tent\, live entertainment stage shows\, haunted attractions and more. \nFor event details\, visit parks.sbcounty.gov/calico-ghost-haunt \n \nAdmission Prices\nAdults (12 & over): $15\nYouth (ages 4-11): $10\nAges 3 and under: Free admission \nCalico Days Camping\nFour (4) tickets are included with camping reservations.\nVisit www.sbcountyparks.com to make a reservation. \nEvent Contact\nKaren Stevenson\, Regional Parks Recreation Coordinator\nemail: events@parks.sbcounty.gov\nphone: 909.387.2461 \n 
URL:https://parks.sbcounty.gov/event/calico-ghost-haunt-pumpkin-mayhem-4/
LOCATION:Calico Ghost Town\, 36600 Ghost Town Road\, Yermo\, CA\, 92398\, United States
CATEGORIES:Activities,Annual Event
ATTACH;FMTTYPE=image/png:https://parks.sbcounty.gov/wp-content/uploads/sites/34/2022/10/Calico-Ghost-Haunt-Web-Feature-Image.png
END:VEVENT
BEGIN:VEVENT
DTSTART;TZID=America/Los_Angeles:20221028T160000
DTEND;TZID=America/Los_Angeles:20221028T210000
DTSTAMP:20260419T152753
CREATED:20221011T201754Z
LAST-MODIFIED:20221011T201849Z
UID:10002327-1666972800-1666990800@parks.sbcounty.gov
SUMMARY:Calico Ghost Haunt: Pumpkin Mayhem
DESCRIPTION:Every year\, Calico Ghost Town brings out the scare\, fun and excitement of Halloween. This annual event includes\, trick-or-treating\, costume contests\, pumpkin carving\, kids’ carnival tent\, live entertainment stage shows\, haunted attractions and more. \nFor event details\, visit parks.sbcounty.gov/calico-ghost-haunt \n \nAdmission Prices\nAdults (12 & over): $15\nYouth (ages 4-11): $10\nAges 3 and under: Free admission \nCalico Days Camping\nFour (4) tickets are included with camping reservations.\nVisit www.sbcountyparks.com to make a reservation. \nEvent Contact\nKaren Stevenson\, Regional Parks Recreation Coordinator\nemail: events@parks.sbcounty.gov\nphone: 909.387.2461 \n 
URL:https://parks.sbcounty.gov/event/32215/
LOCATION:Calico Ghost Town\, 36600 Ghost Town Road\, Yermo\, CA\, 92398\, United States
CATEGORIES:Activities,Annual Event
ATTACH;FMTTYPE=image/png:https://parks.sbcounty.gov/wp-content/uploads/sites/34/2022/10/Calico-Ghost-Haunt-Web-Feature-Image.png
END:VEVENT
BEGIN:VEVENT
DTSTART;TZID=America/Los_Angeles:20221029T090000
DTEND;TZID=America/Los_Angeles:20221029T220000
DTSTAMP:20260419T152753
CREATED:20221011T202034Z
LAST-MODIFIED:20221011T202034Z
UID:10002330-1667034000-1667080800@parks.sbcounty.gov
SUMMARY:Calico Ghost Haunt: Pumpkin Mayhem
DESCRIPTION:Every year\, Calico Ghost Town brings out the scare\, fun and excitement of Halloween. This annual event includes\, trick-or-treating\, costume contests\, pumpkin carving\, kids’ carnival tent\, live entertainment stage shows\, haunted attractions and more. \nFor event details\, visit parks.sbcounty.gov/calico-ghost-haunt \n \nAdmission Prices\nAdults (12 & over): $15\nYouth (ages 4-11): $10\nAges 3 and under: Free admission \nCalico Days Camping\nFour (4) tickets are included with camping reservations.\nVisit www.sbcountyparks.com to make a reservation. \nEvent Contact\nKaren Stevenson\, Regional Parks Recreation Coordinator\nemail: events@parks.sbcounty.gov\nphone: 909.387.2461 \n 
URL:https://parks.sbcounty.gov/event/calico-ghost-haunt-pumpkin-mayhem-5/
LOCATION:Calico Ghost Town\, 36600 Ghost Town Road\, Yermo\, CA\, 92398\, United States
CATEGORIES:Activities,Annual Event
ATTACH;FMTTYPE=image/png:https://parks.sbcounty.gov/wp-content/uploads/sites/34/2022/10/Calico-Ghost-Haunt-Web-Feature-Image.png
END:VEVENT
BEGIN:VEVENT
DTSTART;TZID=America/Los_Angeles:20221030T090000
DTEND;TZID=America/Los_Angeles:20221030T170000
DTSTAMP:20260419T152753
CREATED:20221011T202133Z
LAST-MODIFIED:20221011T202209Z
UID:10002333-1667120400-1667149200@parks.sbcounty.gov
SUMMARY:Calico Ghost Haunt: Pumpkin Mayhem
DESCRIPTION:Every year\, Calico Ghost Town brings out the scare\, fun and excitement of Halloween. This annual event includes\, trick-or-treating\, costume contests\, pumpkin carving\, kids’ carnival tent\, live entertainment stage shows\, haunted attractions and more. \nFor event details\, visit parks.sbcounty.gov/calico-ghost-haunt \n \nAdmission Prices\nAdults (12 & over): $15\nYouth (ages 4-11): $10\nAges 3 and under: Free admission \nCalico Days Camping\nFour (4) tickets are included with camping reservations.\nVisit www.sbcountyparks.com to make a reservation. \nEvent Contact\nKaren Stevenson\, Regional Parks Recreation Coordinator\nemail: events@parks.sbcounty.gov\nphone: 909.387.2461 \n 
URL:https://parks.sbcounty.gov/event/calico-ghost-haunt-pumpkin-mayhem-6/
LOCATION:Calico Ghost Town\, 36600 Ghost Town Road\, Yermo\, CA\, 92398\, United States
CATEGORIES:Activities,Annual Event
ATTACH;FMTTYPE=image/png:https://parks.sbcounty.gov/wp-content/uploads/sites/34/2022/10/Calico-Ghost-Haunt-Web-Feature-Image.png
END:VEVENT
END:VCALENDAR