BEGIN:VCALENDAR
VERSION:2.0
PRODID:-//Parks - ECPv6.15.14//NONSGML v1.0//EN
CALSCALE:GREGORIAN
METHOD:PUBLISH
X-ORIGINAL-URL:https://parks.sbcounty.gov
X-WR-CALDESC:Events for Parks
REFRESH-INTERVAL;VALUE=DURATION:PT1H
X-Robots-Tag:noindex
X-PUBLISHED-TTL:PT1H
BEGIN:VTIMEZONE
TZID:America/Los_Angeles
BEGIN:DAYLIGHT
TZOFFSETFROM:-0800
TZOFFSETTO:-0700
TZNAME:PDT
DTSTART:20210314T100000
END:DAYLIGHT
BEGIN:STANDARD
TZOFFSETFROM:-0700
TZOFFSETTO:-0800
TZNAME:PST
DTSTART:20211107T090000
END:STANDARD
BEGIN:DAYLIGHT
TZOFFSETFROM:-0800
TZOFFSETTO:-0700
TZNAME:PDT
DTSTART:20220313T100000
END:DAYLIGHT
BEGIN:STANDARD
TZOFFSETFROM:-0700
TZOFFSETTO:-0800
TZNAME:PST
DTSTART:20221106T090000
END:STANDARD
BEGIN:DAYLIGHT
TZOFFSETFROM:-0800
TZOFFSETTO:-0700
TZNAME:PDT
DTSTART:20230312T100000
END:DAYLIGHT
BEGIN:STANDARD
TZOFFSETFROM:-0700
TZOFFSETTO:-0800
TZNAME:PST
DTSTART:20231105T090000
END:STANDARD
END:VTIMEZONE
BEGIN:VEVENT
DTSTART;TZID=America/Los_Angeles:20220728T130000
DTEND;TZID=America/Los_Angeles:20220728T163000
DTSTAMP:20260419T102115
CREATED:20220720T230651Z
LAST-MODIFIED:20220720T232125Z
UID:10002219-1659013200-1659025800@parks.sbcounty.gov
SUMMARY:Yucaipa Summer Days Activities in the Park
DESCRIPTION:Summer has officially begun and come out for our Summer Days family events. Explore the park\, create arts & crafts and play a variety of games.
URL:https://parks.sbcounty.gov/event/yucaipa-summer-days-activities-in-the-park-4/
LOCATION:Yucaipa Regional Park\, 33900 Oak Glen Road\, Yucaipa\, CA\, 92399\, United States
CATEGORIES:Activities
ATTACH;FMTTYPE=image/png:https://parks.sbcounty.gov/wp-content/uploads/sites/34/2022/07/Park-Summer-Days-Yuciapa-072122.png
END:VEVENT
BEGIN:VEVENT
DTSTART;TZID=America/Los_Angeles:20220721T130000
DTEND;TZID=America/Los_Angeles:20220721T163000
DTSTAMP:20260419T102115
CREATED:20220720T225355Z
LAST-MODIFIED:20220720T232151Z
UID:10002201-1658408400-1658421000@parks.sbcounty.gov
SUMMARY:Yucaipa Summer Days Activities in the Park
DESCRIPTION:Summer has officially begun and come out for our Summer Days family events. Explore the park\, create arts & crafts and play a variety of games.
URL:https://parks.sbcounty.gov/event/yucaipa-summer-days-activities-in-the-park-3/
LOCATION:Yucaipa Regional Park\, 33900 Oak Glen Road\, Yucaipa\, CA\, 92399\, United States
CATEGORIES:Activities
ATTACH;FMTTYPE=image/png:https://parks.sbcounty.gov/wp-content/uploads/sites/34/2022/07/Park-Summer-Days-Yuciapa-072122.png
END:VEVENT
BEGIN:VEVENT
DTSTART;TZID=America/Los_Angeles:20220717T130000
DTEND;TZID=America/Los_Angeles:20220717T163000
DTSTAMP:20260419T102115
CREATED:20220705T045531Z
LAST-MODIFIED:20220705T045531Z
UID:10002162-1658062800-1658075400@parks.sbcounty.gov
SUMMARY:Cornhole Tournament
DESCRIPTION:Grab a friend\, sibling\, parent or co-worker and get ready to throw some beanbags to sink a cornhole! \nGames will be played 2v2 at single elimination. This tournament is for 18+ years of age. \nThe league will take place at Yucaipa Regional Park. \n$20 per team. Register your team HERE.
URL:https://parks.sbcounty.gov/event/cornhole-tournament/
LOCATION:Yucaipa Regional Park\, 33900 Oak Glen Road\, Yucaipa\, CA\, 92399\, United States
CATEGORIES:Activities
ATTACH;FMTTYPE=image/jpeg:https://parks.sbcounty.gov/wp-content/uploads/sites/34/2022/07/Cornhole-Tournament-1.jpg
ORGANIZER;CN="Regional Parks":MAILTO:events@parks.sbcounty.gov
END:VEVENT
BEGIN:VEVENT
DTSTART;TZID=America/Los_Angeles:20220711T133000
DTEND;TZID=America/Los_Angeles:20220711T150000
DTSTAMP:20260419T102115
CREATED:20220701T155920Z
LAST-MODIFIED:20220701T155947Z
UID:10002159-1657546200-1657551600@parks.sbcounty.gov
SUMMARY:Prado Snow Cone Day
DESCRIPTION:Join us to build your own snow cone with lots of flavors to choose from. Beat the heat and visit our splash pad while you are here. More summer days activities are list on our schedule.
URL:https://parks.sbcounty.gov/event/prado-snow-cone-day/
LOCATION:Prado Regional Park\, 16700 S. Euclid Avenue\, Chino\, CA\, 91708\, United States
CATEGORIES:Activities
ATTACH;FMTTYPE=image/png:https://parks.sbcounty.gov/wp-content/uploads/sites/34/2022/07/Snow-Cone-Day-Guasti-Website-1.png
END:VEVENT
BEGIN:VEVENT
DTSTART;TZID=America/Los_Angeles:20220711T103000
DTEND;TZID=America/Los_Angeles:20220711T120000
DTSTAMP:20260419T102115
CREATED:20220701T155612Z
LAST-MODIFIED:20220701T155612Z
UID:10002156-1657535400-1657540800@parks.sbcounty.gov
SUMMARY:Guasti Snow Cone Day
DESCRIPTION:Join us to build your own snow cone with lots of flavors to choose from. Beat the heat and visit our splash pad while you are here. More summer days activities are list on our schedule.
URL:https://parks.sbcounty.gov/event/guasti-snow-cone-day/
LOCATION:Cucamonga-Guasti\, 800 N. Archibald Avenue\, Ontario\, CA\, 91764\, United States
CATEGORIES:Activities
ATTACH;FMTTYPE=image/png:https://parks.sbcounty.gov/wp-content/uploads/sites/34/2022/07/Snow-Cone-Day-Guasti-Website.png
END:VEVENT
BEGIN:VEVENT
DTSTART;TZID=America/Los_Angeles:20220707T130000
DTEND;TZID=America/Los_Angeles:20220707T163000
DTSTAMP:20260419T102115
CREATED:20220629T224635Z
LAST-MODIFIED:20220629T225553Z
UID:10002012-1657198800-1657211400@parks.sbcounty.gov
SUMMARY:Glen Helen Summer Days Activities in the Park
DESCRIPTION:Summer has officially begun and come out for our Summer Days family events. Explore the park\, create arts & crafts and play a variety of games.
URL:https://parks.sbcounty.gov/event/yucaipa-summer-days-activities-in-the-park-2/
LOCATION:Glen Helen Regional Park\, 2555 Glen Helen Parkway\, San Bernardino\, CA\, 92407\, United States
CATEGORIES:Activities,Educational
ATTACH;FMTTYPE=image/png:https://parks.sbcounty.gov/wp-content/uploads/sites/34/2022/06/Park-Summer-Days-Event-Glen-Helen-2.png
END:VEVENT
BEGIN:VEVENT
DTSTART;TZID=America/Los_Angeles:20220701T130000
DTEND;TZID=America/Los_Angeles:20220701T163000
DTSTAMP:20260419T102115
CREATED:20220627T232211Z
LAST-MODIFIED:20220629T225504Z
UID:10001994-1656680400-1656693000@parks.sbcounty.gov
SUMMARY:Prado Summer Days Activities in the Park
DESCRIPTION:Summer has officially begun and come out for our Summer Days family events. Explore the park\, create arts & crafts and play a variety of games. Beat the heat at our splash pad\, open all day.
URL:https://parks.sbcounty.gov/event/prado-summer-days-activities-in-the-park/
LOCATION:Prado Regional Park\, 16700 S. Euclid Avenue\, Chino\, CA\, 91708\, United States
CATEGORIES:Activities,Educational
ATTACH;FMTTYPE=image/png:https://parks.sbcounty.gov/wp-content/uploads/sites/34/2022/06/Park-Summer-Days-Event-Prado.png
END:VEVENT
BEGIN:VEVENT
DTSTART;TZID=America/Los_Angeles:20220630T130000
DTEND;TZID=America/Los_Angeles:20220630T163000
DTSTAMP:20260419T102115
CREATED:20220627T212636Z
LAST-MODIFIED:20220629T225210Z
UID:10001988-1656594000-1656606600@parks.sbcounty.gov
SUMMARY:Yucaipa Summer Days Activities in the Park
DESCRIPTION:Summer has officially begun and come out for our Summer Days family events. Explore the park\, create arts & crafts and play a variety of games. \nBeat the heat at the swim complex. \nSwim Complex Information\nThe swim facility is open from 10 AM to 4 PM\, Tuesday through Sundays. Pool admission is $7 person\, ages 4 years and older (excluding holidays\, holiday weekends and special events). Swim admission and all day waterslides is $12 (excluding holidays\, holiday weekends and special events). Swim admission and all-day waterslides on holidays\, holiday weekends and special events is $17. Must be at least 48 inches in height to ride the slides. We advise to arrive early at the pool. The pool tends to hit capacity early in the afternoon. Once the pool hits capacity\, no new arrivals will be allowed in the pool area.
URL:https://parks.sbcounty.gov/event/yucaipa-summer-days-activities-in-the-park/
LOCATION:Yucaipa Regional Park\, 33900 Oak Glen Road\, Yucaipa\, CA\, 92399\, United States
CATEGORIES:Activities,Educational
ATTACH;FMTTYPE=image/png:https://parks.sbcounty.gov/wp-content/uploads/sites/34/2022/06/Park-Summer-Days-Event-Yuciapa.png
END:VEVENT
END:VCALENDAR