BEGIN:VCALENDAR
VERSION:2.0
PRODID:-//Parks - ECPv6.15.14//NONSGML v1.0//EN
CALSCALE:GREGORIAN
METHOD:PUBLISH
X-ORIGINAL-URL:https://parks.sbcounty.gov
X-WR-CALDESC:Events for Parks
REFRESH-INTERVAL;VALUE=DURATION:PT1H
X-Robots-Tag:noindex
X-PUBLISHED-TTL:PT1H
BEGIN:VTIMEZONE
TZID:America/Los_Angeles
BEGIN:DAYLIGHT
TZOFFSETFROM:-0800
TZOFFSETTO:-0700
TZNAME:PDT
DTSTART:20220313T100000
END:DAYLIGHT
BEGIN:STANDARD
TZOFFSETFROM:-0700
TZOFFSETTO:-0800
TZNAME:PST
DTSTART:20221106T090000
END:STANDARD
BEGIN:DAYLIGHT
TZOFFSETFROM:-0800
TZOFFSETTO:-0700
TZNAME:PDT
DTSTART:20230312T100000
END:DAYLIGHT
BEGIN:STANDARD
TZOFFSETFROM:-0700
TZOFFSETTO:-0800
TZNAME:PST
DTSTART:20231105T090000
END:STANDARD
BEGIN:DAYLIGHT
TZOFFSETFROM:-0800
TZOFFSETTO:-0700
TZNAME:PDT
DTSTART:20240310T100000
END:DAYLIGHT
BEGIN:STANDARD
TZOFFSETFROM:-0700
TZOFFSETTO:-0800
TZNAME:PST
DTSTART:20241103T090000
END:STANDARD
END:VTIMEZONE
BEGIN:VEVENT
DTSTART;TZID=America/Los_Angeles:20231111T130000
DTEND;TZID=America/Los_Angeles:20231111T160000
DTSTAMP:20260425T195803
CREATED:20231101T000540Z
LAST-MODIFIED:20231101T000540Z
UID:10002909-1699707600-1699718400@parks.sbcounty.gov
SUMMARY:Fall Festival at Lake Gregory Top Town Crestline
DESCRIPTION:Join us in Top Town for this free\, family-friendly\, fall fun! Enjoy bounce houses\, face painting\, holiday craft making\, live music from The High-D Boys\, food vendors\, local shopping\, and a beer garden. 1-4 PM in Top Town Crestline. For more event information\, contact 909-338-2706.
URL:https://parks.sbcounty.gov/event/fall-festival-at-lake-gregory-top-town-crestline/
CATEGORIES:Concessionaire Event,Lake Gregory Recreation Company
ATTACH;FMTTYPE=image/jpeg:https://parks.sbcounty.gov/wp-content/uploads/sites/34/2023/10/Fall-Festival-2023.jpg
ORGANIZER;CN="Lake Gregroy Recreation Company":MAILTO:info@lakegregory.com
END:VEVENT
END:VCALENDAR