BEGIN:VCALENDAR
VERSION:2.0
PRODID:-//Parks - ECPv6.15.14//NONSGML v1.0//EN
CALSCALE:GREGORIAN
METHOD:PUBLISH
X-WR-CALNAME:Parks
X-ORIGINAL-URL:https://parks.sbcounty.gov
X-WR-CALDESC:Events for Parks
REFRESH-INTERVAL;VALUE=DURATION:PT1H
X-Robots-Tag:noindex
X-PUBLISHED-TTL:PT1H
BEGIN:VTIMEZONE
TZID:America/Los_Angeles
BEGIN:DAYLIGHT
TZOFFSETFROM:-0800
TZOFFSETTO:-0700
TZNAME:PDT
DTSTART:20230312T100000
END:DAYLIGHT
BEGIN:STANDARD
TZOFFSETFROM:-0700
TZOFFSETTO:-0800
TZNAME:PST
DTSTART:20231105T090000
END:STANDARD
BEGIN:DAYLIGHT
TZOFFSETFROM:-0800
TZOFFSETTO:-0700
TZNAME:PDT
DTSTART:20240310T100000
END:DAYLIGHT
BEGIN:STANDARD
TZOFFSETFROM:-0700
TZOFFSETTO:-0800
TZNAME:PST
DTSTART:20241103T090000
END:STANDARD
BEGIN:DAYLIGHT
TZOFFSETFROM:-0800
TZOFFSETTO:-0700
TZNAME:PDT
DTSTART:20250309T100000
END:DAYLIGHT
BEGIN:STANDARD
TZOFFSETFROM:-0700
TZOFFSETTO:-0800
TZNAME:PST
DTSTART:20251102T090000
END:STANDARD
BEGIN:DAYLIGHT
TZOFFSETFROM:-0800
TZOFFSETTO:-0700
TZNAME:PDT
DTSTART:20260308T100000
END:DAYLIGHT
BEGIN:STANDARD
TZOFFSETFROM:-0700
TZOFFSETTO:-0800
TZNAME:PST
DTSTART:20261101T090000
END:STANDARD
END:VTIMEZONE
BEGIN:VEVENT
DTSTART;TZID=America/Los_Angeles:20250912T173000
DTEND;TZID=America/Los_Angeles:20250912T193000
DTSTAMP:20260424T133520
CREATED:20250825T234027Z
LAST-MODIFIED:20250828T222621Z
UID:10005113-1757698200-1757705400@parks.sbcounty.gov
SUMMARY:Night Scavenger Hunt at Mojave River Forks
DESCRIPTION:Join Regional Parks as we explore the Mojave River Forks after in search of owls\, glowing scorpions and other nocturnal creatures on Friday\, Sept. 12\, from 5:30-7:30 p.m. With the stunning night sky as our backdrop\, we’ll uncover hidden surprises and learn about the incredible wildlife that comes to life after sunset. This family-friendly adventure is perfect for explorers of all ages. Leashed pets are welcome too! Grab your flashlight\, bring your sense of adventure and get ready for a night to remember! Admission is $15 per vehicle (only cash will be accepted). Note: please wear comfortable clothing and shoes and bring water. The River Forks is a campground only.
URL:https://parks.sbcounty.gov/event/night-scavenger-hunt-at-mojave-river-forks/
LOCATION:Mojave River Forks\, 17891 CA 173\, Hesperia\, CA\, 92345\, United States
CATEGORIES:Activities
ATTACH;FMTTYPE=image/jpeg:https://parks.sbcounty.gov/wp-content/uploads/sites/34/2025/08/Website-Feature-Night-Scavenger-Hike-082225.jpg
ORGANIZER;CN="Dominique Hernandez":MAILTO:dominique.hernandez@parks.sbcounty.gov
END:VEVENT
BEGIN:VEVENT
DTSTART;TZID=America/Los_Angeles:20250517T190000
DTEND;TZID=America/Los_Angeles:20250517T220000
DTSTAMP:20260424T133520
CREATED:20250318T161752Z
LAST-MODIFIED:20250515T224634Z
UID:10004567-1747508400-1747519200@parks.sbcounty.gov
SUMMARY:Stargazing at Mojave River Forks
DESCRIPTION:Wind and Inclement Weather Advisory  \n  \nMeet Our Stargazing Party Guest Speaker: Brian Cox! \nJoin us under the stars as we welcome Brian Cox\, a passionate amateur astronomer and astrophotographer\, to our Stargazing Party! Brian’s journey has taken him from computer technician to firefighter\, educator\, and now freelance science communicator. With a background in computer science from Cal State San Bernardino and years of experience teaching fire science\, electronics\, and programming\, Brian brings a unique blend of technical knowledge and hands-on curiosity to the night sky. \nA proud member of the High Desert Astronomical Society\, Brian loves nothing more than sharing the beauty of the cosmos. At our event\, he’ll guide us through a tour of the stars\, answer your astronomy questions\, and ignite your sense of wonder.\nDon’t miss this chance to explore the universe with someone who truly lives to learn and inspire! \nNOTE: Mojave River Forks is a campground and we recommend dressing appropriately for the event. \nDue to the location and limited cell and Wi-Fi service at the campground\, we are only accepting cash or prepaid admission for this event. \nAdmission $15 per vehicle. Free for those camping with us. All ages are welcome\, including leashed pets. Gates open at 5 p.m. \nFor camping reservations\, visit our camping reservation website. For more information on Mojave River Forks\, visit the Forks webpage. \nFollow us on Facebook and Instagram to stay connected on the latest park news.
URL:https://parks.sbcounty.gov/event/stargazing-at-mojave-river-forks/
LOCATION:Mojave River Forks\, 17891 CA 173\, Hesperia\, CA\, 92345\, United States
CATEGORIES:Activities
ATTACH;FMTTYPE=image/jpeg:https://parks.sbcounty.gov/wp-content/uploads/sites/34/2025/03/V4-2025-ADA-Mojave-River-Forks-Stargazing-Social-Media-Graphic-033125-3.jpg
ORGANIZER;CN="Dominique Hernandez":MAILTO:dominique.hernandez@parks.sbcounty.gov
END:VEVENT
BEGIN:VEVENT
DTSTART;TZID=America/Los_Angeles:20240427T180000
DTEND;TZID=America/Los_Angeles:20240427T210000
DTSTAMP:20260424T133520
CREATED:20240405T224351Z
LAST-MODIFIED:20240419T192622Z
UID:10003019-1714240800-1714251600@parks.sbcounty.gov
SUMMARY:Stargazing Party at Mojave River Forks
DESCRIPTION:Learn more about the stars\, moon and constellations. Special guest speaker\, retired NASA Astronaut Jose Hernandez will be onsite to talk about his experience as an astronaut with NASA. Local astronomy clubs will also be on-hand to guide us through the universe. The County Library will be on-hand with their adventure bus and arts & crafts tables. \nThere will be a campifre\, activities and free refreshments\, including s’mores\, popcorn and hot chocolate\, All free while supplies last. Telescopes will be provided (on a limited basis) by Regional Parks\, astronomy clubs or bring your own telescope or binoculars. \nThe event is free for those camping with us at Mojave River Forks. \nPlease arrive early and allow time for parking. The gates open at 5 p.m. Our schedule will begin as promptly as we can. \nSchedule of Events \n\n6 PM: Welcome!\n6: 05 PM: Introduce guest speaker\, Dr. Jose Hernandez\n6:10 PM: Dr. Hernandez’ presentation/speaking\n7 PM: Enjoy refreshments\, crafts\, information\, and setup for stargazing\n9 PM: Closing remarks\n\nNOTE: Mojave River Forks is a campground and we recommend to dress appropriately for the event. Bring your own chairs\, blankets and coolers as well. Leashed pets are welcome. FYI: Due to the location of the event\, cell and Wi-Fi service is spotty at the campground. \nDue to limited Wi-Fi at the campground\, we are accepting cash or prepaid admission only. To prepay online\, scan the QR code or visit here. \nMojave River Forks Regional Park is located at 17891 CA 173 in Hesperia. Click here for map location. For more information on our County Library branches\, visit sbclib.org. \n 
URL:https://parks.sbcounty.gov/event/stargazing-party-at-mojave-river-forks/
LOCATION:Mojave River Forks\, 17891 CA 173\, Hesperia\, CA\, 92345\, United States
CATEGORIES:Activities
ATTACH;FMTTYPE=image/png:https://parks.sbcounty.gov/wp-content/uploads/sites/34/2024/04/Final-Website-Mojave-River-Forks-Stargazing-Feature-Image-041124.png
END:VEVENT
END:VCALENDAR