BEGIN:VCALENDAR
VERSION:2.0
PRODID:-//Parks - ECPv6.15.14//NONSGML v1.0//EN
CALSCALE:GREGORIAN
METHOD:PUBLISH
X-WR-CALNAME:Parks
X-ORIGINAL-URL:https://parks.sbcounty.gov
X-WR-CALDESC:Events for Parks
REFRESH-INTERVAL;VALUE=DURATION:PT1H
X-Robots-Tag:noindex
X-PUBLISHED-TTL:PT1H
BEGIN:VTIMEZONE
TZID:America/Los_Angeles
BEGIN:DAYLIGHT
TZOFFSETFROM:-0800
TZOFFSETTO:-0700
TZNAME:PDT
DTSTART:20250309T100000
END:DAYLIGHT
BEGIN:STANDARD
TZOFFSETFROM:-0700
TZOFFSETTO:-0800
TZNAME:PST
DTSTART:20251102T090000
END:STANDARD
BEGIN:DAYLIGHT
TZOFFSETFROM:-0800
TZOFFSETTO:-0700
TZNAME:PDT
DTSTART:20260308T100000
END:DAYLIGHT
BEGIN:STANDARD
TZOFFSETFROM:-0700
TZOFFSETTO:-0800
TZNAME:PST
DTSTART:20261101T090000
END:STANDARD
BEGIN:DAYLIGHT
TZOFFSETFROM:-0800
TZOFFSETTO:-0700
TZNAME:PDT
DTSTART:20270314T100000
END:DAYLIGHT
BEGIN:STANDARD
TZOFFSETFROM:-0700
TZOFFSETTO:-0800
TZNAME:PST
DTSTART:20271107T090000
END:STANDARD
END:VTIMEZONE
BEGIN:VEVENT
DTSTART;TZID=America/Los_Angeles:20260207T103000
DTEND;TZID=America/Los_Angeles:20260207T120000
DTSTAMP:20260425T082050
CREATED:20260126T180435Z
LAST-MODIFIED:20260126T180435Z
UID:10006419-1770460200-1770465600@parks.sbcounty.gov
SUMMARY:Valentine's Day Crafts at Yucaipa
DESCRIPTION:Join Regional Parks on Saturday\, Feb. 7 at Yucaipa Regional Park from 10:30 a.m. to 12 p.m. for a hands-on activity making adorable Valentine’s Day cards or other sweet-themed decorations for that special someone. \nWhether you’re crafting for a friend\, a family member\, or just for fun\, we’ve got plenty of materials and inspiration to help your imagination bloom. All supplies are provided while they last. \nThis activity is perfect for families\, kids\, and anyone who enjoys a little heartfelt crafting in an outdoor setting. All ages are welcome. Pets are also welcome! \nCome spend the day with us and enjoy our beautiful lakes\, playgrounds and other amenities. Pack a lunch or come fishing\, both Glen Helen and Yucaipa offer plenty of grills\, picnic shelters\, walking or biking paths and green open spaces to play ball. \nAdmission is $15 per vehicle and free for those camping with us. Yucaipa is open daily from 7:30 a.m. to 5 p.m. \nFollow parks on Facebook and Instagram to stay connected with the latest park news and events.
URL:https://parks.sbcounty.gov/event/valentines-day-crafts-at-yucaipa/
LOCATION:Yucaipa Regional Park\, 33900 Oak Glen Road\, Yucaipa\, CA\, 92399\, United States
CATEGORIES:Activities
ATTACH;FMTTYPE=image/jpeg:https://parks.sbcounty.gov/wp-content/uploads/sites/34/2026/01/Website-Feature-Image-Valentines-Day-Crafts-012626.jpg
ORGANIZER;CN="Dominique Hernandez":MAILTO:dominique.hernandez@parks.sbcounty.gov
END:VEVENT
BEGIN:VEVENT
DTSTART;TZID=America/Los_Angeles:20260221T080000
DTEND;TZID=America/Los_Angeles:20260221T110000
DTSTAMP:20260425T082050
CREATED:20260209T231015Z
LAST-MODIFIED:20260210T165445Z
UID:10006426-1771660800-1771671600@parks.sbcounty.gov
SUMMARY:REGISTRATION CLOSED! Youth Trout Derby at Yucaipa
DESCRIPTION:EVENT UPDATE: Due to an overwhelming response\, we have met capacity and registration is now closed. We will be hosting another trout derby for all ages on March 7\, at Mojave Narrows Regional Park. We will post the details soon! Thank you and hope to see you at the Parks! \nJoin Regional Parks\, the Yucaipa Valley Lions Club & the California Fish & Wildlife for our youth derby for kids ages 4-15. Poles and bait  will be available. Volunteers will be on-site to assist youth. All youth must be accompanied by an adult or guardian.  \n\nCheck-in begins at 8 a.m.\nPrizes will be awarded at 11 a.m.\nEntry fee is $15 per vehicle (up to 6 youth per vehicle).\n\nWHAT TO BRING \n\nSunscreen\nSnacks\nA hat\nChairs for seating.\nFishing poles will be available; however\, we strongly recommend bringing your own\, as supplies are limited.\nComfortable shoes (waterproof or water resistant would be best).\nReusable water bottle.\nA bag for any caught fish.\nFood and drinks will be available for purchase during the event.
URL:https://parks.sbcounty.gov/event/youth-trout-derby-at-yucaipa/
LOCATION:Yucaipa Regional Park\, 33900 Oak Glen Road\, Yucaipa\, CA\, 92399\, United States
CATEGORIES:Activities,Annual Event,Fishing
ATTACH;FMTTYPE=image/jpeg:https://parks.sbcounty.gov/wp-content/uploads/sites/34/2026/02/2026-Yucaipa-Trout-Derby-for-Kids-Registration-Closed-Website-Feature-Image-021026.jpg
ORGANIZER;CN="Dominique Hernandez":MAILTO:dominique.hernandez@parks.sbcounty.gov
END:VEVENT
BEGIN:VEVENT
DTSTART;TZID=America/Los_Angeles:20260314T100000
DTEND;TZID=America/Los_Angeles:20260314T113000
DTSTAMP:20260425T082050
CREATED:20260311T204258Z
LAST-MODIFIED:20260311T204258Z
UID:10006441-1773482400-1773487800@parks.sbcounty.gov
SUMMARY:Bear Necessities at Yucaipa
DESCRIPTION:Join us at Yucaipa Regional Park on Saturday\, March 14\, from 10 a.m. to 11:30 a.m. as we explore some “beary” important safety tips and tricks when a bear is nearby and how identify the different types of bears native to our region.\n\n\n\nForget about your worries and your strife when you learn some “paws-itively” wild facts about bears native to North America. We will also talk just how to respect to our furry wildlife neighbors.\n\nIt’s a fun way to learn about bear biology and just how necessary the conservation is when recreating outdoors. Plus\, we will conduct a field experiment. Join us!\n\n\n\nAdmission is $15 per vehicle and free for those camping with us. All ages are welcome\, including leashed pets. All supplies will be provided while they last.\n\n\n\nPark hours are 7:30 a.m. to 6:30 p.m.\n\nBring the whole family\, pack a lunch and explore the great outdoors before or after the activity.
URL:https://parks.sbcounty.gov/event/bear-necessities-at-yucaipa-2/
LOCATION:Yucaipa Regional Park\, 33900 Oak Glen Road\, Yucaipa\, CA\, 92399\, United States
CATEGORIES:Activities
ATTACH;FMTTYPE=image/jpeg:https://parks.sbcounty.gov/wp-content/uploads/sites/34/2025/10/Bear-Necessities-Website-Feature-Image-102225.jpg
ORGANIZER;CN="Dominique Hernandez":MAILTO:dominique.hernandez@parks.sbcounty.gov
END:VEVENT
BEGIN:VEVENT
DTSTART;TZID=America/Los_Angeles:20260405T110000
DTEND;TZID=America/Los_Angeles:20260405T120000
DTSTAMP:20260425T082050
CREATED:20260323T172719Z
LAST-MODIFIED:20260323T172720Z
UID:10006453-1775386800-1775390400@parks.sbcounty.gov
SUMMARY:Easter Scavenger Hunts at All Parks
DESCRIPTION:This Easter\, Regional Parks is excited to host a new activity giving the entire family an opportunity to participate together in a scavenger hunt following clever clues and solving playful riddles at stations located throughout the park. The scavenger hunt activity replaces the traditional Easter egg hunts and baskets or bags are no longer needed. \nThe morning scavenger hunt time is 11 a.m. on Sunday\, April 5\, at all the participating parks below: \n\nCucamonga-Guasti: 800 N. Archibald Ave.\, Ontario\nGlen Helen: 2555 Glen Helen Pkwy.\, San Bernardino\nMojave Narrows: 18000 Yates Road\, Victorville\nPrado: 16700 S. Euclid Ave.\, Chino\nYucaipa: 33900 Oak Glen Road\, Yucaipa\n\nThe duration depends on each participant and how fast the clues are found to crack the Bunny Code word. \n CRACK THE BUNNY CODE \nTo get started\, participants will receive one clue card with the first riddle that will lead them to the first location. Each location will have a sign with a QR code that once scanned\, will reveal another clue and location. Each QR code also reveals a letter. At the end of the hunt\, all the letters will reveal the Bunny’s secret code word. The first 140 participants to Crack the Bunny Code for each time slot at each park will receive a goodie prize. Prizes are limited on a first come\, first-served basis. \nA Smart phone with a QR code scanning feature is needed. If a participant does not have access to a Smart phone to scan a QR code\, paper copies of the clues are available at the gatehouse upon request. There are 11 stations total and the code word contains 11 letters. \nThe morning and afternoon hunts will have different letters and clues. \nFIND THE GOLDEN EGG \nOne Golden will be hidden somewhere in each participating park between the hours of 7:30 a.m. to 6:30 p.m. Find the egg and win an Easter basket. \nAll ages are welcome! Regional Parks are pet-friendly and are open from 7:30 a.m. to 6:30 p.m. \nAdmission is $20 per vehicle and free for those camping with us at Mojave Narrows\, Prado and Yucaipa Regional Parks. \nFollow parks on Facebook and Instagram to stay connected with the latest park news and events.
URL:https://parks.sbcounty.gov/event/easter-scavenger-hunts-at-all-parks-2/
LOCATION:Cucamonga-Guasti\, 800 N. Archibald Avenue\, Ontario\, CA\, 91764\, United States
CATEGORIES:Activities,Annual Event
ATTACH;FMTTYPE=image/jpeg:https://parks.sbcounty.gov/wp-content/uploads/sites/34/2026/03/All-Parks-Easter-Website-Feature-Image-032026.jpg
ORGANIZER;CN="Dominique Hernandez":MAILTO:dominique.hernandez@parks.sbcounty.gov
END:VEVENT
BEGIN:VEVENT
DTSTART;TZID=America/Los_Angeles:20260405T130000
DTEND;TZID=America/Los_Angeles:20260405T140000
DTSTAMP:20260425T082050
CREATED:20260320T225237Z
LAST-MODIFIED:20260323T172558Z
UID:10006456-1775394000-1775397600@parks.sbcounty.gov
SUMMARY:Easter Scavenger Hunts at All Parks
DESCRIPTION:This Easter\, Regional Parks is excited to host a new activity giving the entire family an opportunity to participate together in a scavenger hunt following clever clues and solving playful riddles at stations located throughout the park. The scavenger hunt activity replaces the traditional Easter egg hunts and baskets or bags are no longer needed. \nThe afternoon scavenger hunt time is 1 p.m. on Sunday\, April 5\, at all the participating parks below: \n\nCucamonga-Guasti: 800 N. Archibald Ave.\, Ontario\nGlen Helen: 2555 Glen Helen Pkwy.\, San Bernardino\nMojave Narrows: 18000 Yates Road\, Victorville\nPrado: 16700 S. Euclid Ave.\, Chino\nYucaipa: 33900 Oak Glen Road\, Yucaipa\n\nThe duration depends on each participant and how fast the clues are found to crack the Bunny Code word. \n CRACK THE BUNNY CODE \nTo get started\, participants will receive one clue card with the first riddle that will lead them to the first location. Each location will have a sign with a QR code that once scanned\, will reveal another clue and location. Each QR code also reveals a letter. At the end of the hunt\, all the letters will reveal the Bunny’s secret code word. The first 140 participants to Crack the Bunny Code for each time slot at each park will receive a goodie prize. Prizes are limited on a first come\, first-served basis. \nA Smart phone with a QR code scanning feature is needed. If a participant does not have access to a Smart phone to scan a QR code\, paper copies of the clues are available at the gatehouse upon request. There are 11 stations total and the code word contains 11 letters. \nThe morning and afternoon hunts will have different letters and clues. \nFIND THE GOLDEN EGG \nOne Golden will be hidden somewhere in each participating park between the hours of 7:30 a.m. to 6:30 p.m. Find the egg and win an Easter basket. \nAll ages are welcome! Regional Parks are pet-friendly and are open from 7:30 a.m. to 6:30 p.m. \nAdmission is $20 per vehicle and free for those camping with us at Mojave Narrows\, Prado and Yucaipa Regional Parks. \nFollow parks on Facebook and Instagram to stay connected with the latest park news and events.
URL:https://parks.sbcounty.gov/event/easter-scavenger-hunts-at-all-parks/
LOCATION:Cucamonga-Guasti\, 800 N. Archibald Avenue\, Ontario\, CA\, 91764\, United States
CATEGORIES:Activities,Annual Event
ATTACH;FMTTYPE=image/jpeg:https://parks.sbcounty.gov/wp-content/uploads/sites/34/2026/03/All-Parks-Easter-Website-Feature-Image-032026.jpg
ORGANIZER;CN="Dominique Hernandez":MAILTO:dominique.hernandez@parks.sbcounty.gov
END:VEVENT
BEGIN:VEVENT
DTSTART;TZID=America/Los_Angeles:20260418T100000
DTEND;TZID=America/Los_Angeles:20260418T113000
DTSTAMP:20260425T082050
CREATED:20260415T163336Z
LAST-MODIFIED:20260416T230050Z
UID:10006496-1776506400-1776511800@parks.sbcounty.gov
SUMMARY:Cancelled: Bee Pollination STEAM activity at Yucaipa
DESCRIPTION:Due to unforeseen circumstances\, this event is cancelled. We apologize for any inconvenience. \n  \nBee ready for a fun and buzz-worthy STEAM adventure on Saturday\, April 18\, at Yucaipa Regional Park\, as we introduce the world of bees and why they are vital to our eco-system. \nIn this activity\, each young scientist will create their very own bee and use it to “pollinate” colorful construction-paper flowers\, bringing science\, creativity\, and problem-solving together in a playful way. \nAll ages are welcome! Admission is $15 per vehicle and free for those camping with us. Supplies are provided while they last. \nRegional Parks are open daily from 7:30 a.m. to 6:30 p.m. \nFollow Regional Parks on Facebook and Instagram for the latest park news and events. \n 
URL:https://parks.sbcounty.gov/event/bee-pollination-steam-activity-at-yucaipa/
LOCATION:Yucaipa Regional Park\, 33900 Oak Glen Road\, Yucaipa\, CA\, 92399\, United States
CATEGORIES:Activities
ATTACH;FMTTYPE=image/jpeg:https://parks.sbcounty.gov/wp-content/uploads/sites/34/2026/04/Event-Cancelled-Bee-Pollination-Website-Feature-Image-041626-.jpg
ORGANIZER;CN="Dominique Hernandez":MAILTO:dominique.hernandez@parks.sbcounty.gov
END:VEVENT
BEGIN:VEVENT
DTSTART;TZID=America/Los_Angeles:20260516T100000
DTEND;TZID=America/Los_Angeles:20260516T113000
DTSTAMP:20260425T082050
CREATED:20260422T200832Z
LAST-MODIFIED:20260422T215201Z
UID:10006520-1778925600-1778931000@parks.sbcounty.gov
SUMMARY:May Flowers Activity at Yucaipa
DESCRIPTION:Join us for a blooming good time as we craft\, create\, and celebrate all things flowers. It’s the perfect to celebrate the beauty of spring with a fun-filled May Flowers craft day at Yucaipa Regional Park\, Saturday\, May 16\, from 10-11:30 a.m. \nJoin us to create colorful flower-themed art\, from hand-painted poppies to paper blossoms and garden-inspired crafts. It’s a wonderful way to welcome the season\, explore creativity\, and enjoy the vibrant colors of May! \nPark hours are 7:30 a.m. to 6:30 p.m. Bring the whole family\, pack a lunch and explore the great outdoors before or after the activity. Leashed pets are welcome too! \nAdmission is $15 per vehicle and free for those camping with us. All supplies are provided while they last. \nFor more information on Regional Parks\, visit parks.sbcounty.gov\, or follow parks on Facebook and Instagram to stay connected with the latest park news and events. \n  \n 
URL:https://parks.sbcounty.gov/event/may-flower-activity-at-yucaipa/
LOCATION:Yucaipa Regional Park\, 33900 Oak Glen Road\, Yucaipa\, CA\, 92399\, United States
CATEGORIES:Activities
ATTACH;FMTTYPE=image/jpeg:https://parks.sbcounty.gov/wp-content/uploads/sites/34/2026/04/May-Flowers-Website-Feature-Image-042226.jpg
ORGANIZER;CN="Dominique Hernandez":MAILTO:dominique.hernandez@parks.sbcounty.gov
END:VEVENT
END:VCALENDAR