BEGIN:VCALENDAR
VERSION:2.0
PRODID:-//Parks - ECPv6.15.14//NONSGML v1.0//EN
CALSCALE:GREGORIAN
METHOD:PUBLISH
X-WR-CALNAME:Parks
X-ORIGINAL-URL:https://parks.sbcounty.gov
X-WR-CALDESC:Events for Parks
REFRESH-INTERVAL;VALUE=DURATION:PT1H
X-Robots-Tag:noindex
X-PUBLISHED-TTL:PT1H
BEGIN:VTIMEZONE
TZID:America/Los_Angeles
BEGIN:DAYLIGHT
TZOFFSETFROM:-0800
TZOFFSETTO:-0700
TZNAME:PDT
DTSTART:20250309T100000
END:DAYLIGHT
BEGIN:STANDARD
TZOFFSETFROM:-0700
TZOFFSETTO:-0800
TZNAME:PST
DTSTART:20251102T090000
END:STANDARD
BEGIN:DAYLIGHT
TZOFFSETFROM:-0800
TZOFFSETTO:-0700
TZNAME:PDT
DTSTART:20260308T100000
END:DAYLIGHT
BEGIN:STANDARD
TZOFFSETFROM:-0700
TZOFFSETTO:-0800
TZNAME:PST
DTSTART:20261101T090000
END:STANDARD
BEGIN:DAYLIGHT
TZOFFSETFROM:-0800
TZOFFSETTO:-0700
TZNAME:PDT
DTSTART:20270314T100000
END:DAYLIGHT
BEGIN:STANDARD
TZOFFSETFROM:-0700
TZOFFSETTO:-0800
TZNAME:PST
DTSTART:20271107T090000
END:STANDARD
END:VTIMEZONE
BEGIN:VEVENT
DTSTART;TZID=America/Los_Angeles:20260411T140000
DTEND;TZID=America/Los_Angeles:20260411T153000
DTSTAMP:20260422T161837
CREATED:20260406T180801Z
LAST-MODIFIED:20260406T180801Z
UID:10006494-1775916000-1775921400@parks.sbcounty.gov
SUMMARY:Create Your Own Herb Garden at Cucamonga-Guasti
DESCRIPTION:Join Regional Parks at Cucamonga-Guasti Regional Park on Saturday\, April 11\, for a fun and educational day of planting\, growing and discovering the wonders of herbs! In this hands-on event\, kids will learn all about different herbs — how they grow\, what they need\, and how they can be used in cooking and even crafts! \nEach little gardener will plant their own herb garden to take home\, choosing from a variety of delicious and fragrant herbs like basil\, mint\, and thyme. It’s the perfect way to introduce children to the joys of gardening and the magic of fresh\, homegrown flavors! \nAdmission is $15 per vehicle. Supplies are provided while they last. All ages welcome! \nFollow Regional Parks on Facebook and Instagram for the latest park news and events.
URL:https://parks.sbcounty.gov/event/create-your-own-herb-garden-at-cucamonga-guasti/
LOCATION:Cucamonga-Guasti\, 800 N. Archibald Avenue\, Ontario\, CA\, 91764\, United States
CATEGORIES:Activities
ATTACH;FMTTYPE=image/jpeg:https://parks.sbcounty.gov/wp-content/uploads/sites/34/2026/04/Create-your-Own-Herb-Garden-Website-Feature-Image.jpg
ORGANIZER;CN="Dominique Hernandez":MAILTO:dominique.hernandez@parks.sbcounty.gov
END:VEVENT
BEGIN:VEVENT
DTSTART;TZID=America/Los_Angeles:20260425T133000
DTEND;TZID=America/Los_Angeles:20260425T150000
DTSTAMP:20260422T161837
CREATED:20260422T193334Z
LAST-MODIFIED:20260422T193334Z
UID:10006514-1777123800-1777129200@parks.sbcounty.gov
SUMMARY:Bear Necessities at Cucamonga-Guasti
DESCRIPTION:Join us at Cucamonga-Guasti Regional Park on Saturday\, April 25\, as we explore some “beary” important safety tips and tricks when a bear is nearby and how to identify the different types of bears native to our region. \nForget about your worries and your strife when you learn some “paws-itively” wild facts about bears native to North America. We’ll also talk about how to respect our furry wildlife neighbors. It’s a fun way to learn about bear biology and just how necessary the conservation is when recreating outdoors. Plus\, we will conduct a field experiment. Join us! It would be unbearable without you! \nAdmission is $15 per vehicle and free for those camping with us at Prado. All ages are welcome\, including leashed pets. All supplies will be provided while they last. \nPark hours are 7:30 a.m. to 6:30 p.m. Bring the whole family\, pack a lunch and explore the great outdoors before or after the activity. \nFor more information on Regional Parks\, visit parks.sbcounty.gov\, or follow parks on Facebook and Instagram to stay connected with the latest park news and events.
URL:https://parks.sbcounty.gov/event/bear-necessities-at-cucamonga-guasti/
LOCATION:Cucamonga-Guasti\, 800 N. Archibald Avenue\, Ontario\, CA\, 91764\, United States
CATEGORIES:Activities
ATTACH;FMTTYPE=image/jpeg:https://parks.sbcounty.gov/wp-content/uploads/sites/34/2025/10/Bear-Necessities-Website-Feature-Image-102225.jpg
ORGANIZER;CN="Dominique Hernandez":MAILTO:dominique.hernandez@parks.sbcounty.gov
END:VEVENT
END:VCALENDAR