BEGIN:VCALENDAR
VERSION:2.0
PRODID:-//Parks - ECPv6.15.14//NONSGML v1.0//EN
CALSCALE:GREGORIAN
METHOD:PUBLISH
X-WR-CALNAME:Parks
X-ORIGINAL-URL:https://parks.sbcounty.gov
X-WR-CALDESC:Events for Parks
REFRESH-INTERVAL;VALUE=DURATION:PT1H
X-Robots-Tag:noindex
X-PUBLISHED-TTL:PT1H
BEGIN:VTIMEZONE
TZID:America/Los_Angeles
BEGIN:DAYLIGHT
TZOFFSETFROM:-0800
TZOFFSETTO:-0700
TZNAME:PDT
DTSTART:20250309T100000
END:DAYLIGHT
BEGIN:STANDARD
TZOFFSETFROM:-0700
TZOFFSETTO:-0800
TZNAME:PST
DTSTART:20251102T090000
END:STANDARD
BEGIN:DAYLIGHT
TZOFFSETFROM:-0800
TZOFFSETTO:-0700
TZNAME:PDT
DTSTART:20260308T100000
END:DAYLIGHT
BEGIN:STANDARD
TZOFFSETFROM:-0700
TZOFFSETTO:-0800
TZNAME:PST
DTSTART:20261101T090000
END:STANDARD
BEGIN:DAYLIGHT
TZOFFSETFROM:-0800
TZOFFSETTO:-0700
TZNAME:PDT
DTSTART:20270314T100000
END:DAYLIGHT
BEGIN:STANDARD
TZOFFSETFROM:-0700
TZOFFSETTO:-0800
TZNAME:PST
DTSTART:20271107T090000
END:STANDARD
END:VTIMEZONE
BEGIN:VEVENT
DTSTART;TZID=America/Los_Angeles:20260513T143000
DTEND;TZID=America/Los_Angeles:20260513T153000
DTSTAMP:20260422T160547
CREATED:20260406T161138Z
LAST-MODIFIED:20260406T161138Z
UID:10006467-1778682600-1778686200@parks.sbcounty.gov
SUMMARY:Park Advisory Commission Meeting
DESCRIPTION:Agenda to follow.
URL:https://parks.sbcounty.gov/event/park-advisory-commission-meeting-19/
LOCATION:Regional Parks Admin Office Conference Room\, 268 W. Hospitality Lane\, 3rd FL\, San Bernardino\, 92408\, United States
CATEGORIES:Park Advisory Commission Meeting
ATTACH;FMTTYPE=image/png:https://parks.sbcounty.gov/wp-content/uploads/sites/34/2022/07/Park-Advisory-Commission-Meeting.png
ORGANIZER;CN="Heather%C2%A0Placencia":MAILTO:heather.placencia@parks.sbcounty.gov
END:VEVENT
BEGIN:VEVENT
DTSTART;TZID=America/Los_Angeles:20260516T100000
DTEND;TZID=America/Los_Angeles:20260516T113000
DTSTAMP:20260422T160547
CREATED:20260422T200832Z
LAST-MODIFIED:20260422T215201Z
UID:10006520-1778925600-1778931000@parks.sbcounty.gov
SUMMARY:May Flowers Activity at Yucaipa
DESCRIPTION:Join us for a blooming good time as we craft\, create\, and celebrate all things flowers. It’s the perfect to celebrate the beauty of spring with a fun-filled May Flowers craft day at Yucaipa Regional Park\, Saturday\, May 16\, from 10-11:30 a.m. \nJoin us to create colorful flower-themed art\, from hand-painted poppies to paper blossoms and garden-inspired crafts. It’s a wonderful way to welcome the season\, explore creativity\, and enjoy the vibrant colors of May! \nPark hours are 7:30 a.m. to 6:30 p.m. Bring the whole family\, pack a lunch and explore the great outdoors before or after the activity. Leashed pets are welcome too! \nAdmission is $15 per vehicle and free for those camping with us. All supplies are provided while they last. \nFor more information on Regional Parks\, visit parks.sbcounty.gov\, or follow parks on Facebook and Instagram to stay connected with the latest park news and events. \n  \n 
URL:https://parks.sbcounty.gov/event/may-flower-activity-at-yucaipa/
LOCATION:Yucaipa Regional Park\, 33900 Oak Glen Road\, Yucaipa\, CA\, 92399\, United States
CATEGORIES:Activities
ATTACH;FMTTYPE=image/jpeg:https://parks.sbcounty.gov/wp-content/uploads/sites/34/2026/04/May-Flowers-Website-Feature-Image-042226.jpg
ORGANIZER;CN="Dominique Hernandez":MAILTO:dominique.hernandez@parks.sbcounty.gov
END:VEVENT
BEGIN:VEVENT
DTSTART;TZID=America/Los_Angeles:20260516T140000
DTEND;TZID=America/Los_Angeles:20260516T153000
DTSTAMP:20260422T160547
CREATED:20260422T213939Z
LAST-MODIFIED:20260422T214031Z
UID:10006523-1778940000-1778945400@parks.sbcounty.gov
SUMMARY:May Flowers Activity at Glen Helen
DESCRIPTION:Join us for a blooming good time as we craft\, create\, and celebrate all things flowers. It’s the perfect to celebrate the beauty of spring with a fun-filled May Flowers craft day at Glen Helen Regional Park\, Saturday\, May 16\, from 2-3:30 p.m. \nJoin us to create colorful flower-themed art\, from hand-painted poppies to paper blossoms and garden-inspired crafts. It’s a wonderful way to welcome the season\, explore creativity\, and enjoy the vibrant colors of May! \nPark hours are 7:30 a.m. to 6:30 p.m. Bring the whole family\, pack a lunch and explore the great outdoors before or after the activity. Leashed pets are welcome too! \nAdmission is $15 per vehicle. All supplies are provided while they last. \nFor more information on Regional Parks\, visit parks.sbcounty.gov\, or follow parks on Facebook and Instagram to stay connected with the latest park news and events.
URL:https://parks.sbcounty.gov/event/may-flowers-at-glen-helen/
LOCATION:Glen Helen Regional Park\, 2555 Glen Helen Parkway\, San Bernardino\, CA\, 92407\, United States
CATEGORIES:Activities
ATTACH;FMTTYPE=image/jpeg:https://parks.sbcounty.gov/wp-content/uploads/sites/34/2026/04/May-Flowers-Website-Feature-Image-042226.jpg
ORGANIZER;CN="Dominique Hernandez":MAILTO:dominique.hernandez@parks.sbcounty.gov
END:VEVENT
BEGIN:VEVENT
DTSTART;TZID=America/Los_Angeles:20260524T090000
DTEND;TZID=America/Los_Angeles:20260524T110000
DTSTAMP:20260422T160547
CREATED:20260112T173546Z
LAST-MODIFIED:20260320T233334Z
UID:10006400-1779613200-1779620400@parks.sbcounty.gov
SUMMARY:Equine Education Day at Prado Equestrian Center
DESCRIPTION:This event for Sunday\, Feb. 22 is booked up. The next event is Sunday\, April 26 from 9 a.m. to 11 a.m. \nThe Prado Equestrian Center is hosting a unique experience for kids ages 12 and under to spend a day on the ranch learning all about horses! Kids will have a chance to learn how to groom\, feed and interact with a horse! \nDates include: \nA two-hour session from 9-11 a.m. \n\nSunday\, April 26: Spots available.\nSunday\, May 24\nSunday\, July 26\nSunday Aug. 23\nSunday\, Oct. 25\n\nA fun introduction to horses and equestrian life for the whole family to enjoy! All children will also get to paint their own horseshoe to take home as well as a certificate of completion. \nEach session is $35 for two hours\, from 9-11 a.m. The Prado Park Equestrian Center (PPEC) is located inside Prado Regional Park. The Equestrian Center’s entrance is located at 16629 Johnson Ave.\, Chino. \nTo reserve your spot\, email pradoequestriancenter@gmail.com or visit their website at pradoequestrian.com.
URL:https://parks.sbcounty.gov/event/equine-education-day-at-prado-equestrian-center/2026-05-24/
LOCATION:Prado Park Equestrian Center\, 16629 Johnson Ave.\, Chino\, CA\, 91708\, United States
CATEGORIES:Activities
ATTACH;FMTTYPE=image/jpeg:https://parks.sbcounty.gov/wp-content/uploads/sites/34/2026/01/Prado-Equestrian-Center-Equine-Education-Days-Feature-Image-010926.jpg
ORGANIZER;CN="Prado Equestrian Center":MAILTO:pradoequestriancenter@gmail.com
END:VEVENT
BEGIN:VEVENT
DTSTART;TZID=America/Los_Angeles:20260610T143000
DTEND;TZID=America/Los_Angeles:20260610T153000
DTSTAMP:20260422T160547
CREATED:20260406T161242Z
LAST-MODIFIED:20260406T161402Z
UID:10006470-1781101800-1781105400@parks.sbcounty.gov
SUMMARY:Park Advisory Commission Meeting
DESCRIPTION:Agenda to follow.
URL:https://parks.sbcounty.gov/event/park-advisory-commission-meeting-20/
LOCATION:Regional Parks Admin Office Conference Room\, 268 W. Hospitality Lane\, 3rd FL\, San Bernardino\, 92408\, United States
CATEGORIES:Park Advisory Commission Meeting
ATTACH;FMTTYPE=image/png:https://parks.sbcounty.gov/wp-content/uploads/sites/34/2022/07/Park-Advisory-Commission-Meeting.png
ORGANIZER;CN="Heather%C2%A0Placencia":MAILTO:heather.placencia@parks.sbcounty.gov
END:VEVENT
BEGIN:VEVENT
DTSTART;TZID=America/Los_Angeles:20260708T143000
DTEND;TZID=America/Los_Angeles:20260708T153000
DTSTAMP:20260422T160547
CREATED:20260406T161346Z
LAST-MODIFIED:20260406T161346Z
UID:10006473-1783521000-1783524600@parks.sbcounty.gov
SUMMARY:Park Advisory Commission Meeting
DESCRIPTION:Agenda to follow.
URL:https://parks.sbcounty.gov/event/park-advisory-commission-meeting-21/
LOCATION:Regional Parks Admin Office Conference Room\, 268 W. Hospitality Lane\, 3rd FL\, San Bernardino\, 92408\, United States
CATEGORIES:Park Advisory Commission Meeting
ATTACH;FMTTYPE=image/png:https://parks.sbcounty.gov/wp-content/uploads/sites/34/2022/07/Park-Advisory-Commission-Meeting.png
ORGANIZER;CN="Heather%C2%A0Placencia":MAILTO:heather.placencia@parks.sbcounty.gov
END:VEVENT
BEGIN:VEVENT
DTSTART;TZID=America/Los_Angeles:20260726T090000
DTEND;TZID=America/Los_Angeles:20260726T110000
DTSTAMP:20260422T160547
CREATED:20260112T173546Z
LAST-MODIFIED:20260320T233334Z
UID:10006403-1785056400-1785063600@parks.sbcounty.gov
SUMMARY:Equine Education Day at Prado Equestrian Center
DESCRIPTION:This event for Sunday\, Feb. 22 is booked up. The next event is Sunday\, April 26 from 9 a.m. to 11 a.m. \nThe Prado Equestrian Center is hosting a unique experience for kids ages 12 and under to spend a day on the ranch learning all about horses! Kids will have a chance to learn how to groom\, feed and interact with a horse! \nDates include: \nA two-hour session from 9-11 a.m. \n\nSunday\, April 26: Spots available.\nSunday\, May 24\nSunday\, July 26\nSunday Aug. 23\nSunday\, Oct. 25\n\nA fun introduction to horses and equestrian life for the whole family to enjoy! All children will also get to paint their own horseshoe to take home as well as a certificate of completion. \nEach session is $35 for two hours\, from 9-11 a.m. The Prado Park Equestrian Center (PPEC) is located inside Prado Regional Park. The Equestrian Center’s entrance is located at 16629 Johnson Ave.\, Chino. \nTo reserve your spot\, email pradoequestriancenter@gmail.com or visit their website at pradoequestrian.com.
URL:https://parks.sbcounty.gov/event/equine-education-day-at-prado-equestrian-center/2026-07-26/
LOCATION:Prado Park Equestrian Center\, 16629 Johnson Ave.\, Chino\, CA\, 91708\, United States
CATEGORIES:Activities
ATTACH;FMTTYPE=image/jpeg:https://parks.sbcounty.gov/wp-content/uploads/sites/34/2026/01/Prado-Equestrian-Center-Equine-Education-Days-Feature-Image-010926.jpg
ORGANIZER;CN="Prado Equestrian Center":MAILTO:pradoequestriancenter@gmail.com
END:VEVENT
BEGIN:VEVENT
DTSTART;TZID=America/Los_Angeles:20260812T143000
DTEND;TZID=America/Los_Angeles:20260812T153000
DTSTAMP:20260422T160547
CREATED:20260406T161512Z
LAST-MODIFIED:20260406T161512Z
UID:10006476-1786545000-1786548600@parks.sbcounty.gov
SUMMARY:Park Advisory Commission Meeting
DESCRIPTION:Agenda to follow.
URL:https://parks.sbcounty.gov/event/park-advisory-commission-meeting-22/
LOCATION:Regional Parks Admin Office Conference Room\, 268 W. Hospitality Lane\, 3rd FL\, San Bernardino\, 92408\, United States
CATEGORIES:Park Advisory Commission Meeting
ATTACH;FMTTYPE=image/png:https://parks.sbcounty.gov/wp-content/uploads/sites/34/2022/07/Park-Advisory-Commission-Meeting.png
ORGANIZER;CN="Heather%C2%A0Placencia":MAILTO:heather.placencia@parks.sbcounty.gov
END:VEVENT
BEGIN:VEVENT
DTSTART;TZID=America/Los_Angeles:20260823T090000
DTEND;TZID=America/Los_Angeles:20260823T110000
DTSTAMP:20260422T160547
CREATED:20260112T173546Z
LAST-MODIFIED:20260320T233334Z
UID:10006406-1787475600-1787482800@parks.sbcounty.gov
SUMMARY:Equine Education Day at Prado Equestrian Center
DESCRIPTION:This event for Sunday\, Feb. 22 is booked up. The next event is Sunday\, April 26 from 9 a.m. to 11 a.m. \nThe Prado Equestrian Center is hosting a unique experience for kids ages 12 and under to spend a day on the ranch learning all about horses! Kids will have a chance to learn how to groom\, feed and interact with a horse! \nDates include: \nA two-hour session from 9-11 a.m. \n\nSunday\, April 26: Spots available.\nSunday\, May 24\nSunday\, July 26\nSunday Aug. 23\nSunday\, Oct. 25\n\nA fun introduction to horses and equestrian life for the whole family to enjoy! All children will also get to paint their own horseshoe to take home as well as a certificate of completion. \nEach session is $35 for two hours\, from 9-11 a.m. The Prado Park Equestrian Center (PPEC) is located inside Prado Regional Park. The Equestrian Center’s entrance is located at 16629 Johnson Ave.\, Chino. \nTo reserve your spot\, email pradoequestriancenter@gmail.com or visit their website at pradoequestrian.com.
URL:https://parks.sbcounty.gov/event/equine-education-day-at-prado-equestrian-center/2026-08-23/
LOCATION:Prado Park Equestrian Center\, 16629 Johnson Ave.\, Chino\, CA\, 91708\, United States
CATEGORIES:Activities
ATTACH;FMTTYPE=image/jpeg:https://parks.sbcounty.gov/wp-content/uploads/sites/34/2026/01/Prado-Equestrian-Center-Equine-Education-Days-Feature-Image-010926.jpg
ORGANIZER;CN="Prado Equestrian Center":MAILTO:pradoequestriancenter@gmail.com
END:VEVENT
BEGIN:VEVENT
DTSTART;TZID=America/Los_Angeles:20260909T143000
DTEND;TZID=America/Los_Angeles:20260909T153000
DTSTAMP:20260422T160547
CREATED:20260406T161628Z
LAST-MODIFIED:20260406T161628Z
UID:10006479-1788964200-1788967800@parks.sbcounty.gov
SUMMARY:Park Advisory Commission Meeting
DESCRIPTION:Agenda to follow.
URL:https://parks.sbcounty.gov/event/park-advisory-commission-meeting-23/
LOCATION:Regional Parks Admin Office Conference Room\, 268 W. Hospitality Lane\, 3rd FL\, San Bernardino\, 92408\, United States
CATEGORIES:Park Advisory Commission Meeting
ATTACH;FMTTYPE=image/png:https://parks.sbcounty.gov/wp-content/uploads/sites/34/2022/07/Park-Advisory-Commission-Meeting.png
ORGANIZER;CN="Heather%C2%A0Placencia":MAILTO:heather.placencia@parks.sbcounty.gov
END:VEVENT
BEGIN:VEVENT
DTSTART;TZID=America/Los_Angeles:20261014T143000
DTEND;TZID=America/Los_Angeles:20261014T153000
DTSTAMP:20260422T160547
CREATED:20260406T161718Z
LAST-MODIFIED:20260406T162043Z
UID:10006482-1791988200-1791991800@parks.sbcounty.gov
SUMMARY:Park Advisory Commission Meeting
DESCRIPTION:Agenda to follow.
URL:https://parks.sbcounty.gov/event/park-advisory-commission-meeting-24/
LOCATION:Regional Parks Admin Office Conference Room\, 268 W. Hospitality Lane\, 3rd FL\, San Bernardino\, 92408\, United States
CATEGORIES:Park Advisory Commission Meeting
ATTACH;FMTTYPE=image/png:https://parks.sbcounty.gov/wp-content/uploads/sites/34/2022/07/Park-Advisory-Commission-Meeting.png
ORGANIZER;CN="Heather%C2%A0Placencia":MAILTO:heather.placencia@parks.sbcounty.gov
END:VEVENT
BEGIN:VEVENT
DTSTART;TZID=America/Los_Angeles:20261025T090000
DTEND;TZID=America/Los_Angeles:20261025T110000
DTSTAMP:20260422T160547
CREATED:20260112T173546Z
LAST-MODIFIED:20260320T233334Z
UID:10006409-1792918800-1792926000@parks.sbcounty.gov
SUMMARY:Equine Education Day at Prado Equestrian Center
DESCRIPTION:This event for Sunday\, Feb. 22 is booked up. The next event is Sunday\, April 26 from 9 a.m. to 11 a.m. \nThe Prado Equestrian Center is hosting a unique experience for kids ages 12 and under to spend a day on the ranch learning all about horses! Kids will have a chance to learn how to groom\, feed and interact with a horse! \nDates include: \nA two-hour session from 9-11 a.m. \n\nSunday\, April 26: Spots available.\nSunday\, May 24\nSunday\, July 26\nSunday Aug. 23\nSunday\, Oct. 25\n\nA fun introduction to horses and equestrian life for the whole family to enjoy! All children will also get to paint their own horseshoe to take home as well as a certificate of completion. \nEach session is $35 for two hours\, from 9-11 a.m. The Prado Park Equestrian Center (PPEC) is located inside Prado Regional Park. The Equestrian Center’s entrance is located at 16629 Johnson Ave.\, Chino. \nTo reserve your spot\, email pradoequestriancenter@gmail.com or visit their website at pradoequestrian.com.
URL:https://parks.sbcounty.gov/event/equine-education-day-at-prado-equestrian-center/2026-10-25/
LOCATION:Prado Park Equestrian Center\, 16629 Johnson Ave.\, Chino\, CA\, 91708\, United States
CATEGORIES:Activities
ATTACH;FMTTYPE=image/jpeg:https://parks.sbcounty.gov/wp-content/uploads/sites/34/2026/01/Prado-Equestrian-Center-Equine-Education-Days-Feature-Image-010926.jpg
ORGANIZER;CN="Prado Equestrian Center":MAILTO:pradoequestriancenter@gmail.com
END:VEVENT
BEGIN:VEVENT
DTSTART;TZID=America/Los_Angeles:20261104T143000
DTEND;TZID=America/Los_Angeles:20261104T153000
DTSTAMP:20260422T160547
CREATED:20260406T161820Z
LAST-MODIFIED:20260406T161820Z
UID:10006485-1793802600-1793806200@parks.sbcounty.gov
SUMMARY:Park Advisory Commission Meeting
DESCRIPTION:Agenda to follow.
URL:https://parks.sbcounty.gov/event/park-advisory-commission-meeting-25/
LOCATION:Regional Parks Admin Office Conference Room\, 268 W. Hospitality Lane\, 3rd FL\, San Bernardino\, 92408\, United States
CATEGORIES:Park Advisory Commission Meeting
ATTACH;FMTTYPE=image/png:https://parks.sbcounty.gov/wp-content/uploads/sites/34/2022/07/Park-Advisory-Commission-Meeting.png
ORGANIZER;CN="Heather%C2%A0Placencia":MAILTO:heather.placencia@parks.sbcounty.gov
END:VEVENT
BEGIN:VEVENT
DTSTART;TZID=America/Los_Angeles:20261209T143000
DTEND;TZID=America/Los_Angeles:20261209T153000
DTSTAMP:20260422T160547
CREATED:20260406T161926Z
LAST-MODIFIED:20260406T161926Z
UID:10006488-1796826600-1796830200@parks.sbcounty.gov
SUMMARY:Park Advisory Commission Meeting
DESCRIPTION:Agenda to follow.
URL:https://parks.sbcounty.gov/event/park-advisory-commission-meeting-26/
LOCATION:Regional Parks Admin Office Conference Room\, 268 W. Hospitality Lane\, 3rd FL\, San Bernardino\, 92408\, United States
CATEGORIES:Park Advisory Commission Meeting
ATTACH;FMTTYPE=image/png:https://parks.sbcounty.gov/wp-content/uploads/sites/34/2022/07/Park-Advisory-Commission-Meeting.png
ORGANIZER;CN="Heather%C2%A0Placencia":MAILTO:heather.placencia@parks.sbcounty.gov
END:VEVENT
END:VCALENDAR