BEGIN:VCALENDAR
VERSION:2.0
PRODID:-//Parks - ECPv6.15.14//NONSGML v1.0//EN
CALSCALE:GREGORIAN
METHOD:PUBLISH
X-WR-CALNAME:Parks
X-ORIGINAL-URL:https://parks.sbcounty.gov
X-WR-CALDESC:Events for Parks
REFRESH-INTERVAL;VALUE=DURATION:PT1H
X-Robots-Tag:noindex
X-PUBLISHED-TTL:PT1H
BEGIN:VTIMEZONE
TZID:America/Los_Angeles
BEGIN:DAYLIGHT
TZOFFSETFROM:-0800
TZOFFSETTO:-0700
TZNAME:PDT
DTSTART:20190310T100000
END:DAYLIGHT
BEGIN:STANDARD
TZOFFSETFROM:-0700
TZOFFSETTO:-0800
TZNAME:PST
DTSTART:20191103T090000
END:STANDARD
BEGIN:DAYLIGHT
TZOFFSETFROM:-0800
TZOFFSETTO:-0700
TZNAME:PDT
DTSTART:20200308T100000
END:DAYLIGHT
BEGIN:STANDARD
TZOFFSETFROM:-0700
TZOFFSETTO:-0800
TZNAME:PST
DTSTART:20201101T090000
END:STANDARD
BEGIN:DAYLIGHT
TZOFFSETFROM:-0800
TZOFFSETTO:-0700
TZNAME:PDT
DTSTART:20210314T100000
END:DAYLIGHT
BEGIN:STANDARD
TZOFFSETFROM:-0700
TZOFFSETTO:-0800
TZNAME:PST
DTSTART:20211107T090000
END:STANDARD
END:VTIMEZONE
BEGIN:VEVENT
DTSTART;TZID=America/Los_Angeles:20200717T180000
DTEND;TZID=America/Los_Angeles:20200717T220000
DTSTAMP:20260421T152411
CREATED:20200124T192329Z
LAST-MODIFIED:20200708T172111Z
UID:10001553-1595008800-1595023200@parks.sbcounty.gov
SUMMARY:Night Fishing Cancelled
DESCRIPTION:Due to high levels of cyanobacteria at Prado Regional Park lake there will be no fishing and boating allowed until further notice. Please follow the posted notice.  \nDebido a los altos niveles de cianobacterias en el lago de Prado Parque Regional\, la pesca y la navegacion no estan permitidas hasta nuevo aviso. Noticia aqui.
URL:https://parks.sbcounty.gov/event/night-fishing-8/
LOCATION:Prado Regional Park\, 16700 S. Euclid Avenue\, Chino\, CA\, 91708\, United States
CATEGORIES:Fishing
ATTACH;FMTTYPE=image/jpeg:https://parks.sbcounty.gov/wp-content/uploads/sites/34/2020/01/Night-Fishing-Photo-e1580776024964.jpg
ORGANIZER;CN="Regional Parks":MAILTO:events@parks.sbcounty.gov
END:VEVENT
BEGIN:VEVENT
DTSTART;TZID=America/Los_Angeles:20200718T090000
DTEND;TZID=America/Los_Angeles:20200718T100000
DTSTAMP:20260421T152411
CREATED:20200124T192622Z
LAST-MODIFIED:20200608T173358Z
UID:10001556-1595062800-1595066400@parks.sbcounty.gov
SUMMARY:Who’s Hangin' Out in Our Parks?
DESCRIPTION:An one hour interpretive tour talk and walk all about our park visitor\, the Great-Horned Owl.\nAll ages welcome.\nFree tour with vehicle entry.\nAdmission: Vehicle entry fee of $10.\n\nMUST RSVP PRIOR TO DATE\n\nRegister at https://whoshanginoutsbcrp.eventbrite.com\n\nEVENT FLIER\n\nPrint/Download Flier\n\n 
URL:https://parks.sbcounty.gov/event/whos-hanging-out-in-our-parks-18/
LOCATION:Prado Regional Park\, 16700 S. Euclid Avenue\, Chino\, CA\, 91708\, United States
CATEGORIES:Educational
ATTACH;FMTTYPE=image/jpeg:https://parks.sbcounty.gov/wp-content/uploads/sites/34/2020/01/Great-Horned-Owl-Photo-e1580776001518.jpg
ORGANIZER;CN="Regional Parks":MAILTO:events@parks.sbcounty.gov
END:VEVENT
END:VCALENDAR