BEGIN:VCALENDAR
VERSION:2.0
PRODID:-//Parks - ECPv6.15.14//NONSGML v1.0//EN
CALSCALE:GREGORIAN
METHOD:PUBLISH
X-ORIGINAL-URL:https://parks.sbcounty.gov
X-WR-CALDESC:Events for Parks
REFRESH-INTERVAL;VALUE=DURATION:PT1H
X-Robots-Tag:noindex
X-PUBLISHED-TTL:PT1H
BEGIN:VTIMEZONE
TZID:America/Los_Angeles
BEGIN:DAYLIGHT
TZOFFSETFROM:-0800
TZOFFSETTO:-0700
TZNAME:PDT
DTSTART:20190310T100000
END:DAYLIGHT
BEGIN:STANDARD
TZOFFSETFROM:-0700
TZOFFSETTO:-0800
TZNAME:PST
DTSTART:20191103T090000
END:STANDARD
BEGIN:DAYLIGHT
TZOFFSETFROM:-0800
TZOFFSETTO:-0700
TZNAME:PDT
DTSTART:20200308T100000
END:DAYLIGHT
BEGIN:STANDARD
TZOFFSETFROM:-0700
TZOFFSETTO:-0800
TZNAME:PST
DTSTART:20201101T090000
END:STANDARD
BEGIN:DAYLIGHT
TZOFFSETFROM:-0800
TZOFFSETTO:-0700
TZNAME:PDT
DTSTART:20210314T100000
END:DAYLIGHT
BEGIN:STANDARD
TZOFFSETFROM:-0700
TZOFFSETTO:-0800
TZNAME:PST
DTSTART:20211107T090000
END:STANDARD
END:VTIMEZONE
BEGIN:VEVENT
DTSTART;TZID=America/Los_Angeles:20200912T090000
DTEND;TZID=America/Los_Angeles:20200912T160000
DTSTAMP:20260425T080159
CREATED:20200124T200840Z
LAST-MODIFIED:20200710T164837Z
UID:10001565-1599901200-1599926400@parks.sbcounty.gov
SUMMARY:Doggie Poolooza: Cancelled
DESCRIPTION:As the dog days of summer come to an end and the regular summer swim season closes\, San Bernardino County Parks hosts its annual Doggie Pool-ooza event at Yucaipa Regional Park in Yucaipa. During this event owners can bring their four legged pals who have had to endure the summer heat in a fur coat\, for a last dip in the cool pool. In addition to the zero entry pool the event also boasts a Doggie Swimsuit Competition\, a Dog/Owner look-a-like contest\, Top Dog Talent Show\, and more.
URL:https://parks.sbcounty.gov/event/doggie-poolooza/
LOCATION:Yucaipa Regional Park\, 33900 Oak Glen Road\, Yucaipa\, CA\, 92399\, United States
ATTACH;FMTTYPE=image/jpeg:https://parks.sbcounty.gov/wp-content/uploads/sites/34/2020/01/Doggie-Poolooza-1.jpg
ORGANIZER;CN="Regional Parks":MAILTO:events@parks.sbcounty.gov
END:VEVENT
BEGIN:VEVENT
DTSTART;TZID=America/Los_Angeles:20200913T090000
DTEND;TZID=America/Los_Angeles:20200913T160000
DTSTAMP:20260425T080159
CREATED:20200124T201111Z
LAST-MODIFIED:20200710T164909Z
UID:10001568-1599987600-1600012800@parks.sbcounty.gov
SUMMARY:Doggie Poolooza: Cancelled
DESCRIPTION:As the dog days of summer come to an end and the regular summer swim season closes\, San Bernardino County Parks hosts its annual Doggie Pool-ooza event at Yucaipa Regional Park in Yucaipa. During this event owners can bring their four legged pals who have had to endure the summer heat in a fur coat\, for a last dip in the cool pool. In addition to the zero entry pool the event also boasts a Doggie Swimsuit Competition\, a Dog/Owner look-a-like contest\, Top Dog Talent Show\, and more.
URL:https://parks.sbcounty.gov/event/doggie-poolooza-2/
LOCATION:Yucaipa Regional Park\, 33900 Oak Glen Road\, Yucaipa\, CA\, 92399\, United States
ATTACH;FMTTYPE=image/jpeg:https://parks.sbcounty.gov/wp-content/uploads/sites/34/2020/01/Doggie-Poolooza-2.jpg
ORGANIZER;CN="Regional Parks":MAILTO:events@parks.sbcounty.gov
END:VEVENT
BEGIN:VEVENT
DTSTART;TZID=America/Los_Angeles:20200919T090000
DTEND;TZID=America/Los_Angeles:20200919T160000
DTSTAMP:20260425T080159
CREATED:20200124T201234Z
LAST-MODIFIED:20200710T164935Z
UID:10001571-1600506000-1600531200@parks.sbcounty.gov
SUMMARY:Doggie Poolooza: Cancelled
DESCRIPTION:As the dog days of summer come to an end and the regular summer swim season closes\, San Bernardino County Parks hosts its annual Doggie Pool-ooza event at Yucaipa Regional Park in Yucaipa. During this event owners can bring their four legged pals who have had to endure the summer heat in a fur coat\, for a last dip in the cool pool. In addition to the zero entry pool the event also boasts a Doggie Swimsuit Competition\, a Dog/Owner look-a-like contest\, Top Dog Talent Show\, and more.
URL:https://parks.sbcounty.gov/event/doggie-poolooza-3/
LOCATION:Yucaipa Regional Park\, 33900 Oak Glen Road\, Yucaipa\, CA\, 92399\, United States
ATTACH;FMTTYPE=image/jpeg:https://parks.sbcounty.gov/wp-content/uploads/sites/34/2020/01/Doggie-Poolooza-1.jpg
ORGANIZER;CN="Regional Parks":MAILTO:events@parks.sbcounty.gov
END:VEVENT
BEGIN:VEVENT
DTSTART;TZID=America/Los_Angeles:20200925T160000
DTEND;TZID=America/Los_Angeles:20200925T230000
DTSTAMP:20260425T080159
CREATED:20200214T173534Z
LAST-MODIFIED:20200720T182904Z
UID:10001604-1601049600-1601074800@parks.sbcounty.gov
SUMMARY:Cancelled: Huck Finn Jubilee Experience
DESCRIPTION:This event has been cancelled due to COVID-19. \nCome\, let’s be friends. Let’s sing together. Dance. Feel all the feels and pick until our hearts are full!  For just one weekend let’s be free. Let’s unplug from the stresses of everyday life and recharge our kindred spirits. \nAt Huck Finn\, we create a memorable experience for both adults and children alike. We’re a festival steeped in tradition. We provide a safe space to come together and enjoy music that lights a fire within us. Art that inspires us to create and express. A place to introduce children to authentic roots\, music\, and communal family. We aspire to be your child’s first music festival. A gathering they will eventually bring their grandchildren to. We want all who attend to leave feeling more connected\, more unified and more grateful than when they arrived. \nLocated in one of Southern California’s largest and most beautiful regional parks\, the Huck Finn Jubilee celebrates our connection to nature and each other through the shared experience of music. This two day lineup of traditional and progressive Bluegrass bands brings together music lovers from all walks of life and binds us together in a community: a community that celebrates a genre of music steeped in the traditions of the past\, and brings it forward to be enjoyed for generations to come. \nThis is Huck Finn! \nFor more information\, visit https://huckfinn.com/
URL:https://parks.sbcounty.gov/event/huck-finn-jubilee-experience/2020-09-25/
LOCATION:Cucamonga-Guasti\, 800 N. Archibald Avenue\, Ontario\, CA\, 91764\, United States
CATEGORIES:Special Events
ATTACH;FMTTYPE=image/png:https://parks.sbcounty.gov/wp-content/uploads/sites/34/2020/02/Guasti-Huck-Finn-Jubilee-Graphic-021420-e1582312883773.png
ORGANIZER;CN="Huck Finn":MAILTO:info@huckfinn.com
END:VEVENT
BEGIN:VEVENT
DTSTART;TZID=America/Los_Angeles:20200926T090000
DTEND;TZID=America/Los_Angeles:20200926T170000
DTSTAMP:20260425T080159
CREATED:20200124T205656Z
LAST-MODIFIED:20200805T161850Z
UID:10001577-1601110800-1601139600@parks.sbcounty.gov
SUMMARY:Postponed: Calico Days to May 8\, 2021
DESCRIPTION:Due to the pandemic\, this event has been rescheduled to May 8-9\, 2021. \nCelebrating the rich history of California’s Silver Rush Ghost Town events are held to commemorate Calico’s mining past. A weekend of entertainment includes such festivities as a Miner’s Triathlon and Burro Race and Costume Contest.
URL:https://parks.sbcounty.gov/event/calico-days/
LOCATION:Calico Ghost Town\, 36600 Ghost Town Road\, Yermo\, CA\, 92398\, United States
ATTACH;FMTTYPE=image/jpeg:https://parks.sbcounty.gov/wp-content/uploads/sites/34/2020/01/Calico-Days-1-e1580775441645.jpg
ORGANIZER;CN="Regional Parks":MAILTO:events@parks.sbcounty.gov
END:VEVENT
BEGIN:VEVENT
DTSTART;TZID=America/Los_Angeles:20200926T160000
DTEND;TZID=America/Los_Angeles:20200926T230000
DTSTAMP:20260425T080159
CREATED:20200214T173534Z
LAST-MODIFIED:20200720T182904Z
UID:10001607-1601136000-1601161200@parks.sbcounty.gov
SUMMARY:Cancelled: Huck Finn Jubilee Experience
DESCRIPTION:This event has been cancelled due to COVID-19. \nCome\, let’s be friends. Let’s sing together. Dance. Feel all the feels and pick until our hearts are full!  For just one weekend let’s be free. Let’s unplug from the stresses of everyday life and recharge our kindred spirits. \nAt Huck Finn\, we create a memorable experience for both adults and children alike. We’re a festival steeped in tradition. We provide a safe space to come together and enjoy music that lights a fire within us. Art that inspires us to create and express. A place to introduce children to authentic roots\, music\, and communal family. We aspire to be your child’s first music festival. A gathering they will eventually bring their grandchildren to. We want all who attend to leave feeling more connected\, more unified and more grateful than when they arrived. \nLocated in one of Southern California’s largest and most beautiful regional parks\, the Huck Finn Jubilee celebrates our connection to nature and each other through the shared experience of music. This two day lineup of traditional and progressive Bluegrass bands brings together music lovers from all walks of life and binds us together in a community: a community that celebrates a genre of music steeped in the traditions of the past\, and brings it forward to be enjoyed for generations to come. \nThis is Huck Finn! \nFor more information\, visit https://huckfinn.com/
URL:https://parks.sbcounty.gov/event/huck-finn-jubilee-experience/2020-09-26/
LOCATION:Cucamonga-Guasti\, 800 N. Archibald Avenue\, Ontario\, CA\, 91764\, United States
CATEGORIES:Special Events
ATTACH;FMTTYPE=image/png:https://parks.sbcounty.gov/wp-content/uploads/sites/34/2020/02/Guasti-Huck-Finn-Jubilee-Graphic-021420-e1582312883773.png
ORGANIZER;CN="Huck Finn":MAILTO:info@huckfinn.com
END:VEVENT
BEGIN:VEVENT
DTSTART;TZID=America/Los_Angeles:20200927T090000
DTEND;TZID=America/Los_Angeles:20200927T170000
DTSTAMP:20260425T080159
CREATED:20200124T210051Z
LAST-MODIFIED:20200805T162015Z
UID:10001580-1601197200-1601226000@parks.sbcounty.gov
SUMMARY:Postponed: Calico Days to May 9\, 2021
DESCRIPTION:Due to the pandemic\, this event has been rescheduled to May 8-9\, 2021. \nCelebrating the rich history of California’s Silver Rush Ghost Town events are held to commemorate Calico’s mining past. A weekend of entertainment includes such festivities as a Miner’s Triathlon and Burro Race and Costume Contest.
URL:https://parks.sbcounty.gov/event/calico-days-2/
LOCATION:Calico Ghost Town\, 36600 Ghost Town Road\, Yermo\, CA\, 92398\, United States
ATTACH;FMTTYPE=image/jpeg:https://parks.sbcounty.gov/wp-content/uploads/sites/34/2020/01/Calico-Days-2-e1580775363630.jpg
ORGANIZER;CN="Regional Parks":MAILTO:events@parks.sbcounty.gov
END:VEVENT
BEGIN:VEVENT
DTSTART;TZID=America/Los_Angeles:20200927T160000
DTEND;TZID=America/Los_Angeles:20200927T230000
DTSTAMP:20260425T080159
CREATED:20200214T173534Z
LAST-MODIFIED:20200720T182904Z
UID:10001610-1601222400-1601247600@parks.sbcounty.gov
SUMMARY:Cancelled: Huck Finn Jubilee Experience
DESCRIPTION:This event has been cancelled due to COVID-19. \nCome\, let’s be friends. Let’s sing together. Dance. Feel all the feels and pick until our hearts are full!  For just one weekend let’s be free. Let’s unplug from the stresses of everyday life and recharge our kindred spirits. \nAt Huck Finn\, we create a memorable experience for both adults and children alike. We’re a festival steeped in tradition. We provide a safe space to come together and enjoy music that lights a fire within us. Art that inspires us to create and express. A place to introduce children to authentic roots\, music\, and communal family. We aspire to be your child’s first music festival. A gathering they will eventually bring their grandchildren to. We want all who attend to leave feeling more connected\, more unified and more grateful than when they arrived. \nLocated in one of Southern California’s largest and most beautiful regional parks\, the Huck Finn Jubilee celebrates our connection to nature and each other through the shared experience of music. This two day lineup of traditional and progressive Bluegrass bands brings together music lovers from all walks of life and binds us together in a community: a community that celebrates a genre of music steeped in the traditions of the past\, and brings it forward to be enjoyed for generations to come. \nThis is Huck Finn! \nFor more information\, visit https://huckfinn.com/
URL:https://parks.sbcounty.gov/event/huck-finn-jubilee-experience/2020-09-27/
LOCATION:Cucamonga-Guasti\, 800 N. Archibald Avenue\, Ontario\, CA\, 91764\, United States
CATEGORIES:Special Events
ATTACH;FMTTYPE=image/png:https://parks.sbcounty.gov/wp-content/uploads/sites/34/2020/02/Guasti-Huck-Finn-Jubilee-Graphic-021420-e1582312883773.png
ORGANIZER;CN="Huck Finn":MAILTO:info@huckfinn.com
END:VEVENT
END:VCALENDAR