BEGIN:VCALENDAR
VERSION:2.0
PRODID:-//Parks - ECPv6.15.14//NONSGML v1.0//EN
CALSCALE:GREGORIAN
METHOD:PUBLISH
X-WR-CALNAME:Parks
X-ORIGINAL-URL:https://parks.sbcounty.gov
X-WR-CALDESC:Events for Parks
REFRESH-INTERVAL;VALUE=DURATION:PT1H
X-Robots-Tag:noindex
X-PUBLISHED-TTL:PT1H
BEGIN:VTIMEZONE
TZID:America/Los_Angeles
BEGIN:DAYLIGHT
TZOFFSETFROM:-0800
TZOFFSETTO:-0700
TZNAME:PDT
DTSTART:20200308T100000
END:DAYLIGHT
BEGIN:STANDARD
TZOFFSETFROM:-0700
TZOFFSETTO:-0800
TZNAME:PST
DTSTART:20201101T090000
END:STANDARD
BEGIN:DAYLIGHT
TZOFFSETFROM:-0800
TZOFFSETTO:-0700
TZNAME:PDT
DTSTART:20210314T100000
END:DAYLIGHT
BEGIN:STANDARD
TZOFFSETFROM:-0700
TZOFFSETTO:-0800
TZNAME:PST
DTSTART:20211107T090000
END:STANDARD
BEGIN:DAYLIGHT
TZOFFSETFROM:-0800
TZOFFSETTO:-0700
TZNAME:PDT
DTSTART:20220313T100000
END:DAYLIGHT
BEGIN:STANDARD
TZOFFSETFROM:-0700
TZOFFSETTO:-0800
TZNAME:PST
DTSTART:20221106T090000
END:STANDARD
END:VTIMEZONE
BEGIN:VEVENT
DTSTART;TZID=America/Los_Angeles:20210515T100000
DTEND;TZID=America/Los_Angeles:20210515T120000
DTSTAMP:20260424T073045
CREATED:20210507T214821Z
LAST-MODIFIED:20210514T234039Z
UID:10001934-1621072800-1621080000@parks.sbcounty.gov
SUMMARY:Virtual Community Workshop: Santa Ana River Trail
DESCRIPTION:We would like your input on future amenities for the Santa Ana River Trail & Pkwy. \nJoin us by phone at 1-415-655-0002\, meeting number 92869894 or via computer at https://sbcounty.webex.com/meet/Beahta.Davis. \n\nTAKE SANTA ANA RIVER TRAIL SURVEY\nTAKE CUCAMONGA-GUASTI & GLEN HELEN PARK SURVEY 
URL:https://parks.sbcounty.gov/event/virtual-community-workshop-santa-ana-river-trail/
LOCATION:Santa Ana River Trail & Pkwy
CATEGORIES:Workshop
ATTACH;FMTTYPE=image/png:https://parks.sbcounty.gov/wp-content/uploads/sites/34/2021/05/Community-Flyer-Final-050721.png
ORGANIZER;CN="Regional Parks":MAILTO:events@parks.sbcounty.gov
END:VEVENT
BEGIN:VEVENT
DTSTART;TZID=America/Los_Angeles:20210519T180000
DTEND;TZID=America/Los_Angeles:20210519T193000
DTSTAMP:20260424T073045
CREATED:20210507T215732Z
LAST-MODIFIED:20210514T234114Z
UID:10001937-1621447200-1621452600@parks.sbcounty.gov
SUMMARY:Virtual Community Workshop: Cucamonga-Guasti
DESCRIPTION:We would like your input on future amenities for Cucamonga-Guasti regional park. \nJoin us by phone at 1-415-655-0002\, meeting number 92869894 or via computer at https://sbcounty.webex.com/meet/Beahta.Davis. \n\nTAKE SANTA ANA RIVER TRAIL SURVEY\nTAKE CUCAMONGA-GUASTI & GLEN HELEN PARK SURVEY 
URL:https://parks.sbcounty.gov/event/virtual-community-workshop/
LOCATION:Cucamonga-Guasti\, 800 N. Archibald Avenue\, Ontario\, CA\, 91764\, United States
CATEGORIES:Workshop
ATTACH;FMTTYPE=image/png:https://parks.sbcounty.gov/wp-content/uploads/sites/34/2021/05/Community-Flyer-Final-050721.png
ORGANIZER;CN="Regional Parks":MAILTO:events@parks.sbcounty.gov
END:VEVENT
BEGIN:VEVENT
DTSTART;TZID=America/Los_Angeles:20210526T180000
DTEND;TZID=America/Los_Angeles:20210526T193000
DTSTAMP:20260424T073045
CREATED:20210507T215935Z
LAST-MODIFIED:20210514T234138Z
UID:10001940-1622052000-1622057400@parks.sbcounty.gov
SUMMARY:Virtual Community Workshop: Glen Helen
DESCRIPTION:We would like your input on future amenities for Glen Helen regional park. \nJoin us by phone at 1-415-655-0002\, meeting number 92869894 or via computer at https://sbcounty.webex.com/meet/Beahta.Davis. \n\nTAKE SANTA ANA RIVER TRAIL SURVEY\nTAKE CUCAMONGA-GUASTI & GLEN HELEN PARK SURVEY 
URL:https://parks.sbcounty.gov/event/virtual-community-workshop-2/
LOCATION:Glen Helen Regional Park\, 2555 Glen Helen Parkway\, San Bernardino\, CA\, 92407\, United States
CATEGORIES:Workshop
ATTACH;FMTTYPE=image/png:https://parks.sbcounty.gov/wp-content/uploads/sites/34/2021/05/Community-Flyer-Final-050721.png
ORGANIZER;CN="Regional Parks":MAILTO:events@parks.sbcounty.gov
END:VEVENT
END:VCALENDAR