BEGIN:VCALENDAR
VERSION:2.0
PRODID:-//Parks - ECPv6.15.14//NONSGML v1.0//EN
CALSCALE:GREGORIAN
METHOD:PUBLISH
X-WR-CALNAME:Parks
X-ORIGINAL-URL:https://parks.sbcounty.gov
X-WR-CALDESC:Events for Parks
REFRESH-INTERVAL;VALUE=DURATION:PT1H
X-Robots-Tag:noindex
X-PUBLISHED-TTL:PT1H
BEGIN:VTIMEZONE
TZID:America/Los_Angeles
BEGIN:DAYLIGHT
TZOFFSETFROM:-0800
TZOFFSETTO:-0700
TZNAME:PDT
DTSTART:20230312T100000
END:DAYLIGHT
BEGIN:STANDARD
TZOFFSETFROM:-0700
TZOFFSETTO:-0800
TZNAME:PST
DTSTART:20231105T090000
END:STANDARD
BEGIN:DAYLIGHT
TZOFFSETFROM:-0800
TZOFFSETTO:-0700
TZNAME:PDT
DTSTART:20240310T100000
END:DAYLIGHT
BEGIN:STANDARD
TZOFFSETFROM:-0700
TZOFFSETTO:-0800
TZNAME:PST
DTSTART:20241103T090000
END:STANDARD
BEGIN:DAYLIGHT
TZOFFSETFROM:-0800
TZOFFSETTO:-0700
TZNAME:PDT
DTSTART:20250309T100000
END:DAYLIGHT
BEGIN:STANDARD
TZOFFSETFROM:-0700
TZOFFSETTO:-0800
TZNAME:PST
DTSTART:20251102T090000
END:STANDARD
END:VTIMEZONE
BEGIN:VEVENT
DTSTART;TZID=America/Los_Angeles:20240801T100000
DTEND;TZID=America/Los_Angeles:20240801T160000
DTSTAMP:20260420T175040
CREATED:20240614T230342Z
LAST-MODIFIED:20240614T230342Z
UID:10003384-1722506400-1722528000@parks.sbcounty.gov
SUMMARY:Swim at Yucaipa
DESCRIPTION:
URL:https://parks.sbcounty.gov/event/swim-at-yucaipa-12/2024-08-01/
LOCATION:Yucaipa Regional Park\, 33900 Oak Glen Road\, Yucaipa\, CA\, 92399\, United States
CATEGORIES:Yucaipa Pool
ATTACH;FMTTYPE=image/png:https://parks.sbcounty.gov/wp-content/uploads/sites/34/2024/05/Yucaipa-Pool-1.png
ORGANIZER;CN="Parks General Inbox":MAILTO:parks@parks.sbcounty.gov
END:VEVENT
BEGIN:VEVENT
DTSTART;TZID=America/Los_Angeles:20240802T100000
DTEND;TZID=America/Los_Angeles:20240802T160000
DTSTAMP:20260420T175040
CREATED:20240614T230342Z
LAST-MODIFIED:20240614T230342Z
UID:10003387-1722592800-1722614400@parks.sbcounty.gov
SUMMARY:Swim at Yucaipa
DESCRIPTION:
URL:https://parks.sbcounty.gov/event/swim-at-yucaipa-12/2024-08-02/
LOCATION:Yucaipa Regional Park\, 33900 Oak Glen Road\, Yucaipa\, CA\, 92399\, United States
CATEGORIES:Yucaipa Pool
ATTACH;FMTTYPE=image/png:https://parks.sbcounty.gov/wp-content/uploads/sites/34/2024/05/Yucaipa-Pool-1.png
ORGANIZER;CN="Parks General Inbox":MAILTO:parks@parks.sbcounty.gov
END:VEVENT
BEGIN:VEVENT
DTSTART;TZID=America/Los_Angeles:20240803T100000
DTEND;TZID=America/Los_Angeles:20240803T160000
DTSTAMP:20260420T175040
CREATED:20240614T230342Z
LAST-MODIFIED:20240614T230342Z
UID:10003390-1722679200-1722700800@parks.sbcounty.gov
SUMMARY:Swim at Yucaipa
DESCRIPTION:
URL:https://parks.sbcounty.gov/event/swim-at-yucaipa-12/2024-08-03/
LOCATION:Yucaipa Regional Park\, 33900 Oak Glen Road\, Yucaipa\, CA\, 92399\, United States
CATEGORIES:Yucaipa Pool
ATTACH;FMTTYPE=image/png:https://parks.sbcounty.gov/wp-content/uploads/sites/34/2024/05/Yucaipa-Pool-1.png
ORGANIZER;CN="Parks General Inbox":MAILTO:parks@parks.sbcounty.gov
END:VEVENT
BEGIN:VEVENT
DTSTART;TZID=America/Los_Angeles:20240804T100000
DTEND;TZID=America/Los_Angeles:20240804T160000
DTSTAMP:20260420T175040
CREATED:20240614T230342Z
LAST-MODIFIED:20240614T230342Z
UID:10003393-1722765600-1722787200@parks.sbcounty.gov
SUMMARY:Swim at Yucaipa
DESCRIPTION:
URL:https://parks.sbcounty.gov/event/swim-at-yucaipa-12/2024-08-04/
LOCATION:Yucaipa Regional Park\, 33900 Oak Glen Road\, Yucaipa\, CA\, 92399\, United States
CATEGORIES:Yucaipa Pool
ATTACH;FMTTYPE=image/png:https://parks.sbcounty.gov/wp-content/uploads/sites/34/2024/05/Yucaipa-Pool-1.png
ORGANIZER;CN="Parks General Inbox":MAILTO:parks@parks.sbcounty.gov
END:VEVENT
BEGIN:VEVENT
DTSTART;TZID=America/Los_Angeles:20240810T100000
DTEND;TZID=America/Los_Angeles:20240810T160000
DTSTAMP:20260420T175040
CREATED:20240614T230711Z
LAST-MODIFIED:20240614T234833Z
UID:10003402-1723284000-1723305600@parks.sbcounty.gov
SUMMARY:Swim at Yucaipa
DESCRIPTION:
URL:https://parks.sbcounty.gov/event/swim-at-yucaipa-13/2024-08-10/
LOCATION:Yucaipa Regional Park\, 33900 Oak Glen Road\, Yucaipa\, CA\, 92399\, United States
CATEGORIES:Yucaipa Pool
ATTACH;FMTTYPE=image/png:https://parks.sbcounty.gov/wp-content/uploads/sites/34/2024/05/Yucaipa-Pool-1.png
ORGANIZER;CN="Parks General Inbox":MAILTO:parks@parks.sbcounty.gov
END:VEVENT
BEGIN:VEVENT
DTSTART;TZID=America/Los_Angeles:20240811T100000
DTEND;TZID=America/Los_Angeles:20240811T160000
DTSTAMP:20260420T175040
CREATED:20240614T230711Z
LAST-MODIFIED:20240614T234833Z
UID:10003423-1723370400-1723392000@parks.sbcounty.gov
SUMMARY:Swim at Yucaipa
DESCRIPTION:
URL:https://parks.sbcounty.gov/event/swim-at-yucaipa-13/2024-08-11/
LOCATION:Yucaipa Regional Park\, 33900 Oak Glen Road\, Yucaipa\, CA\, 92399\, United States
CATEGORIES:Yucaipa Pool
ATTACH;FMTTYPE=image/png:https://parks.sbcounty.gov/wp-content/uploads/sites/34/2024/05/Yucaipa-Pool-1.png
ORGANIZER;CN="Parks General Inbox":MAILTO:parks@parks.sbcounty.gov
END:VEVENT
BEGIN:VEVENT
DTSTART;TZID=America/Los_Angeles:20240817T100000
DTEND;TZID=America/Los_Angeles:20240817T160000
DTSTAMP:20260420T175040
CREATED:20240614T235818Z
LAST-MODIFIED:20240614T235818Z
UID:10003447-1723888800-1723910400@parks.sbcounty.gov
SUMMARY:Swim at Yucaipa
DESCRIPTION:
URL:https://parks.sbcounty.gov/event/swim-at-yucaipa-14/2024-08-17/
LOCATION:Yucaipa Regional Park\, 33900 Oak Glen Road\, Yucaipa\, CA\, 92399\, United States
CATEGORIES:Yucaipa Pool
ATTACH;FMTTYPE=image/png:https://parks.sbcounty.gov/wp-content/uploads/sites/34/2024/05/Yucaipa-Pool-1.png
ORGANIZER;CN="Parks General Inbox":MAILTO:parks@parks.sbcounty.gov
END:VEVENT
BEGIN:VEVENT
DTSTART;TZID=America/Los_Angeles:20240818T100000
DTEND;TZID=America/Los_Angeles:20240818T160000
DTSTAMP:20260420T175040
CREATED:20240614T235818Z
LAST-MODIFIED:20240614T235818Z
UID:10003450-1723975200-1723996800@parks.sbcounty.gov
SUMMARY:Swim at Yucaipa
DESCRIPTION:
URL:https://parks.sbcounty.gov/event/swim-at-yucaipa-14/2024-08-18/
LOCATION:Yucaipa Regional Park\, 33900 Oak Glen Road\, Yucaipa\, CA\, 92399\, United States
CATEGORIES:Yucaipa Pool
ATTACH;FMTTYPE=image/png:https://parks.sbcounty.gov/wp-content/uploads/sites/34/2024/05/Yucaipa-Pool-1.png
ORGANIZER;CN="Parks General Inbox":MAILTO:parks@parks.sbcounty.gov
END:VEVENT
BEGIN:VEVENT
DTSTART;TZID=America/Los_Angeles:20240824T100000
DTEND;TZID=America/Los_Angeles:20240824T160000
DTSTAMP:20260420T175040
CREATED:20240614T230959Z
LAST-MODIFIED:20240614T230959Z
UID:10003417-1724493600-1724515200@parks.sbcounty.gov
SUMMARY:Swim at Yucaipa
DESCRIPTION:
URL:https://parks.sbcounty.gov/event/swim-at-yucaipa-15/2024-08-24/
LOCATION:Yucaipa Regional Park\, 33900 Oak Glen Road\, Yucaipa\, CA\, 92399\, United States
CATEGORIES:Yucaipa Pool
ATTACH;FMTTYPE=image/png:https://parks.sbcounty.gov/wp-content/uploads/sites/34/2024/05/Yucaipa-Pool-1.png
ORGANIZER;CN="Parks General Inbox":MAILTO:parks@parks.sbcounty.gov
END:VEVENT
BEGIN:VEVENT
DTSTART;TZID=America/Los_Angeles:20240825T100000
DTEND;TZID=America/Los_Angeles:20240825T160000
DTSTAMP:20260420T175040
CREATED:20240614T230959Z
LAST-MODIFIED:20240614T230959Z
UID:10003420-1724580000-1724601600@parks.sbcounty.gov
SUMMARY:Swim at Yucaipa
DESCRIPTION:
URL:https://parks.sbcounty.gov/event/swim-at-yucaipa-15/2024-08-25/
LOCATION:Yucaipa Regional Park\, 33900 Oak Glen Road\, Yucaipa\, CA\, 92399\, United States
CATEGORIES:Yucaipa Pool
ATTACH;FMTTYPE=image/png:https://parks.sbcounty.gov/wp-content/uploads/sites/34/2024/05/Yucaipa-Pool-1.png
ORGANIZER;CN="Parks General Inbox":MAILTO:parks@parks.sbcounty.gov
END:VEVENT
END:VCALENDAR