BEGIN:VCALENDAR
VERSION:2.0
PRODID:-//Parks - ECPv6.15.14//NONSGML v1.0//EN
CALSCALE:GREGORIAN
METHOD:PUBLISH
X-ORIGINAL-URL:https://parks.sbcounty.gov
X-WR-CALDESC:Events for Parks
REFRESH-INTERVAL;VALUE=DURATION:PT1H
X-Robots-Tag:noindex
X-PUBLISHED-TTL:PT1H
BEGIN:VTIMEZONE
TZID:America/Los_Angeles
BEGIN:DAYLIGHT
TZOFFSETFROM:-0800
TZOFFSETTO:-0700
TZNAME:PDT
DTSTART:20250309T100000
END:DAYLIGHT
BEGIN:STANDARD
TZOFFSETFROM:-0700
TZOFFSETTO:-0800
TZNAME:PST
DTSTART:20251102T090000
END:STANDARD
BEGIN:DAYLIGHT
TZOFFSETFROM:-0800
TZOFFSETTO:-0700
TZNAME:PDT
DTSTART:20260308T100000
END:DAYLIGHT
BEGIN:STANDARD
TZOFFSETFROM:-0700
TZOFFSETTO:-0800
TZNAME:PST
DTSTART:20261101T090000
END:STANDARD
BEGIN:DAYLIGHT
TZOFFSETFROM:-0800
TZOFFSETTO:-0700
TZNAME:PDT
DTSTART:20270314T100000
END:DAYLIGHT
BEGIN:STANDARD
TZOFFSETFROM:-0700
TZOFFSETTO:-0800
TZNAME:PST
DTSTART:20271107T090000
END:STANDARD
END:VTIMEZONE
BEGIN:VEVENT
DTSTART;TZID=America/Los_Angeles:20260207T103000
DTEND;TZID=America/Los_Angeles:20260207T120000
DTSTAMP:20260424T190627
CREATED:20260126T180435Z
LAST-MODIFIED:20260126T180435Z
UID:10006419-1770460200-1770465600@parks.sbcounty.gov
SUMMARY:Valentine's Day Crafts at Yucaipa
DESCRIPTION:Join Regional Parks on Saturday\, Feb. 7 at Yucaipa Regional Park from 10:30 a.m. to 12 p.m. for a hands-on activity making adorable Valentine’s Day cards or other sweet-themed decorations for that special someone. \nWhether you’re crafting for a friend\, a family member\, or just for fun\, we’ve got plenty of materials and inspiration to help your imagination bloom. All supplies are provided while they last. \nThis activity is perfect for families\, kids\, and anyone who enjoys a little heartfelt crafting in an outdoor setting. All ages are welcome. Pets are also welcome! \nCome spend the day with us and enjoy our beautiful lakes\, playgrounds and other amenities. Pack a lunch or come fishing\, both Glen Helen and Yucaipa offer plenty of grills\, picnic shelters\, walking or biking paths and green open spaces to play ball. \nAdmission is $15 per vehicle and free for those camping with us. Yucaipa is open daily from 7:30 a.m. to 5 p.m. \nFollow parks on Facebook and Instagram to stay connected with the latest park news and events.
URL:https://parks.sbcounty.gov/event/valentines-day-crafts-at-yucaipa/
LOCATION:Yucaipa Regional Park\, 33900 Oak Glen Road\, Yucaipa\, CA\, 92399\, United States
CATEGORIES:Activities
ATTACH;FMTTYPE=image/jpeg:https://parks.sbcounty.gov/wp-content/uploads/sites/34/2026/01/Website-Feature-Image-Valentines-Day-Crafts-012626.jpg
ORGANIZER;CN="Dominique Hernandez":MAILTO:dominique.hernandez@parks.sbcounty.gov
END:VEVENT
BEGIN:VEVENT
DTSTART;TZID=America/Los_Angeles:20260221T080000
DTEND;TZID=America/Los_Angeles:20260221T110000
DTSTAMP:20260424T190627
CREATED:20260209T231015Z
LAST-MODIFIED:20260210T165445Z
UID:10006426-1771660800-1771671600@parks.sbcounty.gov
SUMMARY:REGISTRATION CLOSED! Youth Trout Derby at Yucaipa
DESCRIPTION:EVENT UPDATE: Due to an overwhelming response\, we have met capacity and registration is now closed. We will be hosting another trout derby for all ages on March 7\, at Mojave Narrows Regional Park. We will post the details soon! Thank you and hope to see you at the Parks! \nJoin Regional Parks\, the Yucaipa Valley Lions Club & the California Fish & Wildlife for our youth derby for kids ages 4-15. Poles and bait  will be available. Volunteers will be on-site to assist youth. All youth must be accompanied by an adult or guardian.  \n\nCheck-in begins at 8 a.m.\nPrizes will be awarded at 11 a.m.\nEntry fee is $15 per vehicle (up to 6 youth per vehicle).\n\nWHAT TO BRING \n\nSunscreen\nSnacks\nA hat\nChairs for seating.\nFishing poles will be available; however\, we strongly recommend bringing your own\, as supplies are limited.\nComfortable shoes (waterproof or water resistant would be best).\nReusable water bottle.\nA bag for any caught fish.\nFood and drinks will be available for purchase during the event.
URL:https://parks.sbcounty.gov/event/youth-trout-derby-at-yucaipa/
LOCATION:Yucaipa Regional Park\, 33900 Oak Glen Road\, Yucaipa\, CA\, 92399\, United States
CATEGORIES:Activities,Annual Event,Fishing
ATTACH;FMTTYPE=image/jpeg:https://parks.sbcounty.gov/wp-content/uploads/sites/34/2026/02/2026-Yucaipa-Trout-Derby-for-Kids-Registration-Closed-Website-Feature-Image-021026.jpg
ORGANIZER;CN="Dominique Hernandez":MAILTO:dominique.hernandez@parks.sbcounty.gov
END:VEVENT
END:VCALENDAR