BEGIN:VCALENDAR
VERSION:2.0
PRODID:-//Parks - ECPv6.15.14//NONSGML v1.0//EN
CALSCALE:GREGORIAN
METHOD:PUBLISH
X-WR-CALNAME:Parks
X-ORIGINAL-URL:https://parks.sbcounty.gov
X-WR-CALDESC:Events for Parks
REFRESH-INTERVAL;VALUE=DURATION:PT1H
X-Robots-Tag:noindex
X-PUBLISHED-TTL:PT1H
BEGIN:VTIMEZONE
TZID:America/Los_Angeles
BEGIN:DAYLIGHT
TZOFFSETFROM:-0800
TZOFFSETTO:-0700
TZNAME:PDT
DTSTART:20250309T100000
END:DAYLIGHT
BEGIN:STANDARD
TZOFFSETFROM:-0700
TZOFFSETTO:-0800
TZNAME:PST
DTSTART:20251102T090000
END:STANDARD
BEGIN:DAYLIGHT
TZOFFSETFROM:-0800
TZOFFSETTO:-0700
TZNAME:PDT
DTSTART:20260308T100000
END:DAYLIGHT
BEGIN:STANDARD
TZOFFSETFROM:-0700
TZOFFSETTO:-0800
TZNAME:PST
DTSTART:20261101T090000
END:STANDARD
BEGIN:DAYLIGHT
TZOFFSETFROM:-0800
TZOFFSETTO:-0700
TZNAME:PDT
DTSTART:20270314T100000
END:DAYLIGHT
BEGIN:STANDARD
TZOFFSETFROM:-0700
TZOFFSETTO:-0800
TZNAME:PST
DTSTART:20271107T090000
END:STANDARD
END:VTIMEZONE
BEGIN:VEVENT
DTSTART;TZID=America/Los_Angeles:20260314T140000
DTEND;TZID=America/Los_Angeles:20260314T153000
DTSTAMP:20260424T134733
CREATED:20260311T204451Z
LAST-MODIFIED:20260311T231638Z
UID:10006444-1773496800-1773502200@parks.sbcounty.gov
SUMMARY:Bear Necessities at Glen Helen
DESCRIPTION:Join us at Yucaipa Regional Park on Saturday\, March 14\, from 2-3:30 p.m. as we explore some “beary” important safety tips and tricks when a bear is nearby and how identify the different types of bears native to our region.\n\n\n\nForget about your worries and your strife when you learn some “paws-itively” wild facts about bears native to North America. We will also talk just how to respect to our furry wildlife neighbors.\n\nIt’s a fun way to learn about bear biology and just how necessary the conservation is when recreating outdoors. Plus\, we will conduct a field experiment. Join us!\n\n\n\nAdmission is $15 per vehicle.All ages are welcome\, including leashed pets. All supplies will be provided while they last.\n\n\n\nPark hours are 7:30 a.m. to 6:30 p.m.\n\nBring the whole family\, pack a lunch and explore the great outdoors before or after the activity.
URL:https://parks.sbcounty.gov/event/bear-necessities-at-glen-helen-2/
LOCATION:Glen Helen Regional Park\, 2555 Glen Helen Parkway\, San Bernardino\, CA\, 92407\, United States
CATEGORIES:Activities
ATTACH;FMTTYPE=image/jpeg:https://parks.sbcounty.gov/wp-content/uploads/sites/34/2025/10/Bear-Necessities-Website-Feature-Image-102225.jpg
ORGANIZER;CN="Dominique Hernandez":MAILTO:dominique.hernandez@parks.sbcounty.gov
END:VEVENT
BEGIN:VEVENT
DTSTART;TZID=America/Los_Angeles:20260328T080000
DTEND;TZID=America/Los_Angeles:20260328T130000
DTSTAMP:20260424T134733
CREATED:20260302T234133Z
LAST-MODIFIED:20260311T204533Z
UID:10006435-1774684800-1774702800@parks.sbcounty.gov
SUMMARY:Registration Closed: Fishing with Supervisor Baca\, Jr. at Glen Helen
DESCRIPTION:EVENT UPDATE: We have reached capacity on registrations. Thank you for your interest. We hope to see you next year!\n\nRegional Parks along with Fifth District Supervisor Joe Baca\, Jr. invites youth ages 7-16 the opportunity to connect with nature and learn how to fish on Saturday\, March 28\, from 9 a.m. to 1 p.m. at Glen Helen Regional Park. Space is limited and early registration is encouraged. \n\n\n \n\n\nREGISTER CLOSED\n\n\n\n\n\nThe annual event has grown in participation and impact each year\, offering children hands-on fishing experiences — from identifying different fish species and selecting bait\, to casting lines and learning how to clean and prepare their catch.\n\n\n \n\n\nCheck-in begins at 8 a.m. Vendors will be on-site and free popcorn will be available while supplies last. Every participant will receive a free t-shirt. Please provide shirt size(s) when registering.\n\n\n \n\n\nThe event will also provide free continental breakfast and lunch for participants and their parents or guardians. Fishing supplies will be provided and volunteers will be available to guide participants.\n\n\n \n\n\nThe event is sponsored by Fifth District Supervisor Joe Baca\, Jr.\, and the San Bernardino County Regional Parks\, Children and Family Services and Probation departments.
URL:https://parks.sbcounty.gov/event/fishing-with-supervisor-baca-jr-at-glen-helen/
LOCATION:Glen Helen Regional Park\, 2555 Glen Helen Parkway\, San Bernardino\, CA\, 92407\, United States
CATEGORIES:Annual Event,Fishing
ATTACH;FMTTYPE=image/jpeg:https://parks.sbcounty.gov/wp-content/uploads/sites/34/2026/03/Closed-Website-Feature-Image-Fishing-with-Supervisor-Baca-030226.jpg
ORGANIZER;CN="Dominique Hernandez":MAILTO:dominique.hernandez@parks.sbcounty.gov
END:VEVENT
END:VCALENDAR