BEGIN:VCALENDAR
VERSION:2.0
PRODID:-//Parks - ECPv6.15.14//NONSGML v1.0//EN
CALSCALE:GREGORIAN
METHOD:PUBLISH
X-WR-CALNAME:Parks
X-ORIGINAL-URL:https://parks.sbcounty.gov
X-WR-CALDESC:Events for Parks
REFRESH-INTERVAL;VALUE=DURATION:PT1H
X-Robots-Tag:noindex
X-PUBLISHED-TTL:PT1H
BEGIN:VTIMEZONE
TZID:America/Los_Angeles
BEGIN:DAYLIGHT
TZOFFSETFROM:-0800
TZOFFSETTO:-0700
TZNAME:PDT
DTSTART:20220313T100000
END:DAYLIGHT
BEGIN:STANDARD
TZOFFSETFROM:-0700
TZOFFSETTO:-0800
TZNAME:PST
DTSTART:20221106T090000
END:STANDARD
BEGIN:DAYLIGHT
TZOFFSETFROM:-0800
TZOFFSETTO:-0700
TZNAME:PDT
DTSTART:20230312T100000
END:DAYLIGHT
BEGIN:STANDARD
TZOFFSETFROM:-0700
TZOFFSETTO:-0800
TZNAME:PST
DTSTART:20231105T090000
END:STANDARD
BEGIN:DAYLIGHT
TZOFFSETFROM:-0800
TZOFFSETTO:-0700
TZNAME:PDT
DTSTART:20240310T100000
END:DAYLIGHT
BEGIN:STANDARD
TZOFFSETFROM:-0700
TZOFFSETTO:-0800
TZNAME:PST
DTSTART:20241103T090000
END:STANDARD
END:VTIMEZONE
BEGIN:VEVENT
DTSTART;TZID=America/Los_Angeles:20230812T063000
DTEND;TZID=America/Los_Angeles:20230812T100000
DTSTAMP:20260423T171344
CREATED:20230726T161900Z
LAST-MODIFIED:20230726T161900Z
UID:10002876-1691821800-1691834400@parks.sbcounty.gov
SUMMARY:Running Through the Pines 5k & 10K at Lake Gregory
DESCRIPTION:This will be the 42nd Run Through the Pines. It will be sponsored by the Lake Gregory Company and you guessed it\, the Rim of the World Recreation and Park District. Save the date and please follow us on our Run Through The Pines Facebook and Instagram pages. The Run Through the Pines is a San Bernardino Rim Mountain Community Event and is one of the longest “running” runs in Southern California (the first one was in 1979). It features a 10K and 5K run (or walk) around Lake Gregory and is brought on by community support from sponsor\, vendors\, and volunteers from all over the mountain. \nRunners and walkers can enjoy a semi-paved roadway around Lake Gregory which passes scenic mountain and lake views. The run is at a 4\,720 feet elevation\, which makes it a perfect little challenge for mountain locals and especially those folks down the hill. Race day staging is at The Lake Gregory Company. We encourage participants of all levels\, children in strollers\, pets on a leash\, and especially teams/groups. \n Additional Info \nMusic\, water stations\, chip timing and computerized race results\, course patrolled by emergency communications\, event t-shirts\, custom trophies for 1st place winners in age categories\, 5K and 10K overall winner trophies\, custom event medals\, post-race refreshments\, and FRESH COOL MOUNTAIN AIR! Medals & T-shirts Notice: All runners that pre-register before July 1st will receive a medal and t-shirt. We cannot guarantee participation medals or t-shirts for day of registration runners. \nOnline Registration and course maps can be viewed here runsignup.com/RunThroughthePines \nEvent Survey can be viewed here www.rim-rec.org/2023-08-12-run-through-the-pines-lake-gregory-crestline-ca \n Event Details \nDate: August 12\, 2023 \nTime: 6:30 a.m. Check-in \nLocation: 24640 San Moritz Drive\, Crestline\, CA 92325
URL:https://parks.sbcounty.gov/event/running-through-the-pines-5k-10k-at-lake-gregory/
LOCATION:San Moritz Lodge\, 24640 San Moritz Drive\, Crestline\, CA\, 92325\, United States
CATEGORIES:Activities,Concessionaire Event,Lake Gregory,Lake Gregory Recreation Company,San Moritz Lodge
ATTACH;FMTTYPE=image/png:https://parks.sbcounty.gov/wp-content/uploads/sites/34/2023/07/Lake-Gregory-5k-10K-Run-Feature-Image-072623.png
ORGANIZER;CN="Lake Gregroy Recreation Company":MAILTO:info@lakegregory.com
END:VEVENT
END:VCALENDAR