BEGIN:VCALENDAR
VERSION:2.0
PRODID:-//Parks - ECPv6.15.14//NONSGML v1.0//EN
CALSCALE:GREGORIAN
METHOD:PUBLISH
X-ORIGINAL-URL:https://parks.sbcounty.gov
X-WR-CALDESC:Events for Parks
REFRESH-INTERVAL;VALUE=DURATION:PT1H
X-Robots-Tag:noindex
X-PUBLISHED-TTL:PT1H
BEGIN:VTIMEZONE
TZID:America/Los_Angeles
BEGIN:DAYLIGHT
TZOFFSETFROM:-0800
TZOFFSETTO:-0700
TZNAME:PDT
DTSTART:20230312T100000
END:DAYLIGHT
BEGIN:STANDARD
TZOFFSETFROM:-0700
TZOFFSETTO:-0800
TZNAME:PST
DTSTART:20231105T090000
END:STANDARD
BEGIN:DAYLIGHT
TZOFFSETFROM:-0800
TZOFFSETTO:-0700
TZNAME:PDT
DTSTART:20240310T100000
END:DAYLIGHT
BEGIN:STANDARD
TZOFFSETFROM:-0700
TZOFFSETTO:-0800
TZNAME:PST
DTSTART:20241103T090000
END:STANDARD
BEGIN:DAYLIGHT
TZOFFSETFROM:-0800
TZOFFSETTO:-0700
TZNAME:PDT
DTSTART:20250309T100000
END:DAYLIGHT
BEGIN:STANDARD
TZOFFSETFROM:-0700
TZOFFSETTO:-0800
TZNAME:PST
DTSTART:20251102T090000
END:STANDARD
END:VTIMEZONE
BEGIN:VEVENT
DTSTART;TZID=America/Los_Angeles:20240703T120000
DTEND;TZID=America/Los_Angeles:20240703T150000
DTSTAMP:20260421T063721
CREATED:20240625T181851Z
LAST-MODIFIED:20240626T182134Z
UID:10003517-1720008000-1720018800@parks.sbcounty.gov
SUMMARY:Bubble Bonanza at Glen Helen
DESCRIPTION:Join us for as we get creative and go mad with bubbles at Glen Helen Regional Park. All ages are welcome! Free with park admission of $10 per vehicle. Load up the kids\, pack a picnic and come out to experience some family fun with bubbles. Leashed pets are welcome too! Free for those camping with us. All supplies are provided while they last. 
URL:https://parks.sbcounty.gov/event/bubble-bonanza-at-glen-helen/
LOCATION:Glen Helen Regional Park\, 2555 Glen Helen Parkway\, San Bernardino\, CA\, 92407\, United States
CATEGORIES:Activities
ATTACH;FMTTYPE=image/png:https://parks.sbcounty.gov/wp-content/uploads/sites/34/2024/06/New-Glen-Helen-Bubbles-July-3-1.png
ORGANIZER;CN="Parks General Inbox":MAILTO:parks@parks.sbcounty.gov
END:VEVENT
BEGIN:VEVENT
DTSTART;TZID=America/Los_Angeles:20240703T100000
DTEND;TZID=America/Los_Angeles:20240703T160000
DTSTAMP:20260421T063721
CREATED:20240614T223435Z
LAST-MODIFIED:20240614T223828Z
UID:10003255-1720000800-1720022400@parks.sbcounty.gov
SUMMARY:Swim at Glen Helen
DESCRIPTION:
URL:https://parks.sbcounty.gov/event/swim-at-glen-helen-5/2024-07-03/
LOCATION:Glen Helen Regional Park\, 2555 Glen Helen Parkway\, San Bernardino\, CA\, 92407\, United States
CATEGORIES:Glen Helen Pool
ATTACH;FMTTYPE=image/png:https://parks.sbcounty.gov/wp-content/uploads/sites/34/2024/05/Glen-Helen-Swim-Complex-1.png
ORGANIZER;CN="Parks General Inbox":MAILTO:parks@parks.sbcounty.gov
END:VEVENT
BEGIN:VEVENT
DTSTART;TZID=America/Los_Angeles:20240702T100000
DTEND;TZID=America/Los_Angeles:20240702T160000
DTSTAMP:20260421T063721
CREATED:20240614T223435Z
LAST-MODIFIED:20240614T223828Z
UID:10003252-1719914400-1719936000@parks.sbcounty.gov
SUMMARY:Swim at Glen Helen
DESCRIPTION:
URL:https://parks.sbcounty.gov/event/swim-at-glen-helen-5/2024-07-02/
LOCATION:Glen Helen Regional Park\, 2555 Glen Helen Parkway\, San Bernardino\, CA\, 92407\, United States
CATEGORIES:Glen Helen Pool
ATTACH;FMTTYPE=image/png:https://parks.sbcounty.gov/wp-content/uploads/sites/34/2024/05/Glen-Helen-Swim-Complex-1.png
ORGANIZER;CN="Parks General Inbox":MAILTO:parks@parks.sbcounty.gov
END:VEVENT
BEGIN:VEVENT
DTSTART;TZID=America/Los_Angeles:20240630T100000
DTEND;TZID=America/Los_Angeles:20240630T160000
DTSTAMP:20260421T063721
CREATED:20240519T064346Z
LAST-MODIFIED:20240520T035033Z
UID:10003156-1719741600-1719763200@parks.sbcounty.gov
SUMMARY:Swim at Glen Helen
DESCRIPTION:
URL:https://parks.sbcounty.gov/event/swim-at-glen-helen-4/2024-06-30/
LOCATION:Glen Helen Regional Park\, 2555 Glen Helen Parkway\, San Bernardino\, CA\, 92407\, United States
CATEGORIES:Glen Helen Pool
ATTACH;FMTTYPE=image/png:https://parks.sbcounty.gov/wp-content/uploads/sites/34/2024/05/Glen-Helen-Swim-Complex-1.png
ORGANIZER;CN="Parks General Inbox":MAILTO:parks@parks.sbcounty.gov
END:VEVENT
BEGIN:VEVENT
DTSTART;TZID=America/Los_Angeles:20240629T100000
DTEND;TZID=America/Los_Angeles:20240629T160000
DTSTAMP:20260421T063721
CREATED:20240519T064346Z
LAST-MODIFIED:20240520T035033Z
UID:10003153-1719655200-1719676800@parks.sbcounty.gov
SUMMARY:Swim at Glen Helen
DESCRIPTION:
URL:https://parks.sbcounty.gov/event/swim-at-glen-helen-4/2024-06-29/
LOCATION:Glen Helen Regional Park\, 2555 Glen Helen Parkway\, San Bernardino\, CA\, 92407\, United States
CATEGORIES:Glen Helen Pool
ATTACH;FMTTYPE=image/png:https://parks.sbcounty.gov/wp-content/uploads/sites/34/2024/05/Glen-Helen-Swim-Complex-1.png
ORGANIZER;CN="Parks General Inbox":MAILTO:parks@parks.sbcounty.gov
END:VEVENT
BEGIN:VEVENT
DTSTART;TZID=America/Los_Angeles:20240628T100000
DTEND;TZID=America/Los_Angeles:20240628T160000
DTSTAMP:20260421T063721
CREATED:20240519T064346Z
LAST-MODIFIED:20240520T035033Z
UID:10003150-1719568800-1719590400@parks.sbcounty.gov
SUMMARY:Swim at Glen Helen
DESCRIPTION:
URL:https://parks.sbcounty.gov/event/swim-at-glen-helen-4/2024-06-28/
LOCATION:Glen Helen Regional Park\, 2555 Glen Helen Parkway\, San Bernardino\, CA\, 92407\, United States
CATEGORIES:Glen Helen Pool
ATTACH;FMTTYPE=image/png:https://parks.sbcounty.gov/wp-content/uploads/sites/34/2024/05/Glen-Helen-Swim-Complex-1.png
ORGANIZER;CN="Parks General Inbox":MAILTO:parks@parks.sbcounty.gov
END:VEVENT
BEGIN:VEVENT
DTSTART;TZID=America/Los_Angeles:20240627T100000
DTEND;TZID=America/Los_Angeles:20240627T160000
DTSTAMP:20260421T063721
CREATED:20240519T064346Z
LAST-MODIFIED:20240520T035033Z
UID:10003147-1719482400-1719504000@parks.sbcounty.gov
SUMMARY:Swim at Glen Helen
DESCRIPTION:
URL:https://parks.sbcounty.gov/event/swim-at-glen-helen-4/2024-06-27/
LOCATION:Glen Helen Regional Park\, 2555 Glen Helen Parkway\, San Bernardino\, CA\, 92407\, United States
CATEGORIES:Glen Helen Pool
ATTACH;FMTTYPE=image/png:https://parks.sbcounty.gov/wp-content/uploads/sites/34/2024/05/Glen-Helen-Swim-Complex-1.png
ORGANIZER;CN="Parks General Inbox":MAILTO:parks@parks.sbcounty.gov
END:VEVENT
BEGIN:VEVENT
DTSTART;TZID=America/Los_Angeles:20240626T100000
DTEND;TZID=America/Los_Angeles:20240626T160000
DTSTAMP:20260421T063721
CREATED:20240519T064346Z
LAST-MODIFIED:20240520T035033Z
UID:10003144-1719396000-1719417600@parks.sbcounty.gov
SUMMARY:Swim at Glen Helen
DESCRIPTION:
URL:https://parks.sbcounty.gov/event/swim-at-glen-helen-4/2024-06-26/
LOCATION:Glen Helen Regional Park\, 2555 Glen Helen Parkway\, San Bernardino\, CA\, 92407\, United States
CATEGORIES:Glen Helen Pool
ATTACH;FMTTYPE=image/png:https://parks.sbcounty.gov/wp-content/uploads/sites/34/2024/05/Glen-Helen-Swim-Complex-1.png
ORGANIZER;CN="Parks General Inbox":MAILTO:parks@parks.sbcounty.gov
END:VEVENT
BEGIN:VEVENT
DTSTART;TZID=America/Los_Angeles:20240625T100000
DTEND;TZID=America/Los_Angeles:20240625T160000
DTSTAMP:20260421T063721
CREATED:20240519T064346Z
LAST-MODIFIED:20240520T035033Z
UID:10003141-1719309600-1719331200@parks.sbcounty.gov
SUMMARY:Swim at Glen Helen
DESCRIPTION:
URL:https://parks.sbcounty.gov/event/swim-at-glen-helen-4/2024-06-25/
LOCATION:Glen Helen Regional Park\, 2555 Glen Helen Parkway\, San Bernardino\, CA\, 92407\, United States
CATEGORIES:Glen Helen Pool
ATTACH;FMTTYPE=image/png:https://parks.sbcounty.gov/wp-content/uploads/sites/34/2024/05/Glen-Helen-Swim-Complex-1.png
ORGANIZER;CN="Parks General Inbox":MAILTO:parks@parks.sbcounty.gov
END:VEVENT
BEGIN:VEVENT
DTSTART;TZID=America/Los_Angeles:20240623T100000
DTEND;TZID=America/Los_Angeles:20240623T160000
DTSTAMP:20260421T063721
CREATED:20240519T064346Z
LAST-MODIFIED:20240520T035033Z
UID:10003138-1719136800-1719158400@parks.sbcounty.gov
SUMMARY:Swim at Glen Helen
DESCRIPTION:
URL:https://parks.sbcounty.gov/event/swim-at-glen-helen-4/2024-06-23/
LOCATION:Glen Helen Regional Park\, 2555 Glen Helen Parkway\, San Bernardino\, CA\, 92407\, United States
CATEGORIES:Glen Helen Pool
ATTACH;FMTTYPE=image/png:https://parks.sbcounty.gov/wp-content/uploads/sites/34/2024/05/Glen-Helen-Swim-Complex-1.png
ORGANIZER;CN="Parks General Inbox":MAILTO:parks@parks.sbcounty.gov
END:VEVENT
BEGIN:VEVENT
DTSTART;TZID=America/Los_Angeles:20240622T100000
DTEND;TZID=America/Los_Angeles:20240622T160000
DTSTAMP:20260421T063721
CREATED:20240519T064346Z
LAST-MODIFIED:20240520T035033Z
UID:10003135-1719050400-1719072000@parks.sbcounty.gov
SUMMARY:Swim at Glen Helen
DESCRIPTION:
URL:https://parks.sbcounty.gov/event/swim-at-glen-helen-4/2024-06-22/
LOCATION:Glen Helen Regional Park\, 2555 Glen Helen Parkway\, San Bernardino\, CA\, 92407\, United States
CATEGORIES:Glen Helen Pool
ATTACH;FMTTYPE=image/png:https://parks.sbcounty.gov/wp-content/uploads/sites/34/2024/05/Glen-Helen-Swim-Complex-1.png
ORGANIZER;CN="Parks General Inbox":MAILTO:parks@parks.sbcounty.gov
END:VEVENT
BEGIN:VEVENT
DTSTART;TZID=America/Los_Angeles:20240621T100000
DTEND;TZID=America/Los_Angeles:20240621T160000
DTSTAMP:20260421T063721
CREATED:20240519T064346Z
LAST-MODIFIED:20240520T035033Z
UID:10003132-1718964000-1718985600@parks.sbcounty.gov
SUMMARY:Swim at Glen Helen
DESCRIPTION:
URL:https://parks.sbcounty.gov/event/swim-at-glen-helen-4/2024-06-21/
LOCATION:Glen Helen Regional Park\, 2555 Glen Helen Parkway\, San Bernardino\, CA\, 92407\, United States
CATEGORIES:Glen Helen Pool
ATTACH;FMTTYPE=image/png:https://parks.sbcounty.gov/wp-content/uploads/sites/34/2024/05/Glen-Helen-Swim-Complex-1.png
ORGANIZER;CN="Parks General Inbox":MAILTO:parks@parks.sbcounty.gov
END:VEVENT
BEGIN:VEVENT
DTSTART;TZID=America/Los_Angeles:20240620T100000
DTEND;TZID=America/Los_Angeles:20240620T160000
DTSTAMP:20260421T063721
CREATED:20240519T064346Z
LAST-MODIFIED:20240520T035033Z
UID:10003129-1718877600-1718899200@parks.sbcounty.gov
SUMMARY:Swim at Glen Helen
DESCRIPTION:
URL:https://parks.sbcounty.gov/event/swim-at-glen-helen-4/2024-06-20/
LOCATION:Glen Helen Regional Park\, 2555 Glen Helen Parkway\, San Bernardino\, CA\, 92407\, United States
CATEGORIES:Glen Helen Pool
ATTACH;FMTTYPE=image/png:https://parks.sbcounty.gov/wp-content/uploads/sites/34/2024/05/Glen-Helen-Swim-Complex-1.png
ORGANIZER;CN="Parks General Inbox":MAILTO:parks@parks.sbcounty.gov
END:VEVENT
BEGIN:VEVENT
DTSTART;TZID=America/Los_Angeles:20240619T100000
DTEND;TZID=America/Los_Angeles:20240619T160000
DTSTAMP:20260421T063721
CREATED:20240519T064346Z
LAST-MODIFIED:20240520T035033Z
UID:10003126-1718791200-1718812800@parks.sbcounty.gov
SUMMARY:Swim at Glen Helen
DESCRIPTION:
URL:https://parks.sbcounty.gov/event/swim-at-glen-helen-4/2024-06-19/
LOCATION:Glen Helen Regional Park\, 2555 Glen Helen Parkway\, San Bernardino\, CA\, 92407\, United States
CATEGORIES:Glen Helen Pool
ATTACH;FMTTYPE=image/png:https://parks.sbcounty.gov/wp-content/uploads/sites/34/2024/05/Glen-Helen-Swim-Complex-1.png
ORGANIZER;CN="Parks General Inbox":MAILTO:parks@parks.sbcounty.gov
END:VEVENT
BEGIN:VEVENT
DTSTART;TZID=America/Los_Angeles:20240618T100000
DTEND;TZID=America/Los_Angeles:20240618T160000
DTSTAMP:20260421T063721
CREATED:20240519T064346Z
LAST-MODIFIED:20240520T035033Z
UID:10003123-1718704800-1718726400@parks.sbcounty.gov
SUMMARY:Swim at Glen Helen
DESCRIPTION:
URL:https://parks.sbcounty.gov/event/swim-at-glen-helen-4/2024-06-18/
LOCATION:Glen Helen Regional Park\, 2555 Glen Helen Parkway\, San Bernardino\, CA\, 92407\, United States
CATEGORIES:Glen Helen Pool
ATTACH;FMTTYPE=image/png:https://parks.sbcounty.gov/wp-content/uploads/sites/34/2024/05/Glen-Helen-Swim-Complex-1.png
ORGANIZER;CN="Parks General Inbox":MAILTO:parks@parks.sbcounty.gov
END:VEVENT
BEGIN:VEVENT
DTSTART;TZID=America/Los_Angeles:20240616T100000
DTEND;TZID=America/Los_Angeles:20240616T160000
DTSTAMP:20260421T063721
CREATED:20240519T064346Z
LAST-MODIFIED:20240520T035033Z
UID:10003120-1718532000-1718553600@parks.sbcounty.gov
SUMMARY:Swim at Glen Helen
DESCRIPTION:
URL:https://parks.sbcounty.gov/event/swim-at-glen-helen-4/2024-06-16/
LOCATION:Glen Helen Regional Park\, 2555 Glen Helen Parkway\, San Bernardino\, CA\, 92407\, United States
CATEGORIES:Glen Helen Pool
ATTACH;FMTTYPE=image/png:https://parks.sbcounty.gov/wp-content/uploads/sites/34/2024/05/Glen-Helen-Swim-Complex-1.png
ORGANIZER;CN="Parks General Inbox":MAILTO:parks@parks.sbcounty.gov
END:VEVENT
BEGIN:VEVENT
DTSTART;TZID=America/Los_Angeles:20240615T100000
DTEND;TZID=America/Los_Angeles:20240615T160000
DTSTAMP:20260421T063721
CREATED:20240519T064346Z
LAST-MODIFIED:20240520T035033Z
UID:10003117-1718445600-1718467200@parks.sbcounty.gov
SUMMARY:Swim at Glen Helen
DESCRIPTION:
URL:https://parks.sbcounty.gov/event/swim-at-glen-helen-4/2024-06-15/
LOCATION:Glen Helen Regional Park\, 2555 Glen Helen Parkway\, San Bernardino\, CA\, 92407\, United States
CATEGORIES:Glen Helen Pool
ATTACH;FMTTYPE=image/png:https://parks.sbcounty.gov/wp-content/uploads/sites/34/2024/05/Glen-Helen-Swim-Complex-1.png
ORGANIZER;CN="Parks General Inbox":MAILTO:parks@parks.sbcounty.gov
END:VEVENT
BEGIN:VEVENT
DTSTART;TZID=America/Los_Angeles:20240614T100000
DTEND;TZID=America/Los_Angeles:20240614T160000
DTSTAMP:20260421T063721
CREATED:20240519T064346Z
LAST-MODIFIED:20240520T035033Z
UID:10003114-1718359200-1718380800@parks.sbcounty.gov
SUMMARY:Swim at Glen Helen
DESCRIPTION:
URL:https://parks.sbcounty.gov/event/swim-at-glen-helen-4/2024-06-14/
LOCATION:Glen Helen Regional Park\, 2555 Glen Helen Parkway\, San Bernardino\, CA\, 92407\, United States
CATEGORIES:Glen Helen Pool
ATTACH;FMTTYPE=image/png:https://parks.sbcounty.gov/wp-content/uploads/sites/34/2024/05/Glen-Helen-Swim-Complex-1.png
ORGANIZER;CN="Parks General Inbox":MAILTO:parks@parks.sbcounty.gov
END:VEVENT
BEGIN:VEVENT
DTSTART;TZID=America/Los_Angeles:20240613T100000
DTEND;TZID=America/Los_Angeles:20240613T160000
DTSTAMP:20260421T063721
CREATED:20240519T064346Z
LAST-MODIFIED:20240520T035033Z
UID:10003111-1718272800-1718294400@parks.sbcounty.gov
SUMMARY:Swim at Glen Helen
DESCRIPTION:
URL:https://parks.sbcounty.gov/event/swim-at-glen-helen-4/2024-06-13/
LOCATION:Glen Helen Regional Park\, 2555 Glen Helen Parkway\, San Bernardino\, CA\, 92407\, United States
CATEGORIES:Glen Helen Pool
ATTACH;FMTTYPE=image/png:https://parks.sbcounty.gov/wp-content/uploads/sites/34/2024/05/Glen-Helen-Swim-Complex-1.png
ORGANIZER;CN="Parks General Inbox":MAILTO:parks@parks.sbcounty.gov
END:VEVENT
BEGIN:VEVENT
DTSTART;TZID=America/Los_Angeles:20240612T100000
DTEND;TZID=America/Los_Angeles:20240612T160000
DTSTAMP:20260421T063721
CREATED:20240519T064346Z
LAST-MODIFIED:20240520T035033Z
UID:10003108-1718186400-1718208000@parks.sbcounty.gov
SUMMARY:Swim at Glen Helen
DESCRIPTION:
URL:https://parks.sbcounty.gov/event/swim-at-glen-helen-4/2024-06-12/
LOCATION:Glen Helen Regional Park\, 2555 Glen Helen Parkway\, San Bernardino\, CA\, 92407\, United States
CATEGORIES:Glen Helen Pool
ATTACH;FMTTYPE=image/png:https://parks.sbcounty.gov/wp-content/uploads/sites/34/2024/05/Glen-Helen-Swim-Complex-1.png
ORGANIZER;CN="Parks General Inbox":MAILTO:parks@parks.sbcounty.gov
END:VEVENT
BEGIN:VEVENT
DTSTART;TZID=America/Los_Angeles:20240611T100000
DTEND;TZID=America/Los_Angeles:20240611T160000
DTSTAMP:20260421T063721
CREATED:20240519T064346Z
LAST-MODIFIED:20240520T035033Z
UID:10003105-1718100000-1718121600@parks.sbcounty.gov
SUMMARY:Swim at Glen Helen
DESCRIPTION:
URL:https://parks.sbcounty.gov/event/swim-at-glen-helen-4/2024-06-11/
LOCATION:Glen Helen Regional Park\, 2555 Glen Helen Parkway\, San Bernardino\, CA\, 92407\, United States
CATEGORIES:Glen Helen Pool
ATTACH;FMTTYPE=image/png:https://parks.sbcounty.gov/wp-content/uploads/sites/34/2024/05/Glen-Helen-Swim-Complex-1.png
ORGANIZER;CN="Parks General Inbox":MAILTO:parks@parks.sbcounty.gov
END:VEVENT
BEGIN:VEVENT
DTSTART;TZID=America/Los_Angeles:20240611T100000
DTEND;TZID=America/Los_Angeles:20240611T130000
DTSTAMP:20260421T063721
CREATED:20240610T220152Z
LAST-MODIFIED:20240610T220152Z
UID:10003234-1718100000-1718110800@parks.sbcounty.gov
SUMMARY:Comic Book Art at Glen Helen
DESCRIPTION:Join us at Glen Helen Regional Park tomorrow\, Tuesday\, June 11 from 10 a.m. to 1 p.m. for Comic Book Art. All supplies will be provided while they last. All ages are welcome! Free with $10 park admission. Free for those camping with us. Pack a picnic and bring the whole family! If you are swimming with us\, take a break and join us at the small lake. We will be handing out plenty of giveaways as well.
URL:https://parks.sbcounty.gov/event/comic-book-art-at-glen-helen/
LOCATION:Glen Helen Regional Park\, 2555 Glen Helen Parkway\, San Bernardino\, CA\, 92407\, United States
CATEGORIES:Activities
ATTACH;FMTTYPE=image/png:https://parks.sbcounty.gov/wp-content/uploads/sites/34/2024/06/Website-Feature-Image-Comic-Book-Art-061024.png
END:VEVENT
BEGIN:VEVENT
DTSTART;TZID=America/Los_Angeles:20240609T100000
DTEND;TZID=America/Los_Angeles:20240609T160000
DTSTAMP:20260421T063721
CREATED:20240519T064346Z
LAST-MODIFIED:20240520T035033Z
UID:10003102-1717927200-1717948800@parks.sbcounty.gov
SUMMARY:Swim at Glen Helen
DESCRIPTION:
URL:https://parks.sbcounty.gov/event/swim-at-glen-helen-4/2024-06-09/
LOCATION:Glen Helen Regional Park\, 2555 Glen Helen Parkway\, San Bernardino\, CA\, 92407\, United States
CATEGORIES:Glen Helen Pool
ATTACH;FMTTYPE=image/png:https://parks.sbcounty.gov/wp-content/uploads/sites/34/2024/05/Glen-Helen-Swim-Complex-1.png
ORGANIZER;CN="Parks General Inbox":MAILTO:parks@parks.sbcounty.gov
END:VEVENT
BEGIN:VEVENT
DTSTART;TZID=America/Los_Angeles:20240608T100000
DTEND;TZID=America/Los_Angeles:20240608T160000
DTSTAMP:20260421T063721
CREATED:20240519T064346Z
LAST-MODIFIED:20240520T035033Z
UID:10003099-1717840800-1717862400@parks.sbcounty.gov
SUMMARY:Swim at Glen Helen
DESCRIPTION:
URL:https://parks.sbcounty.gov/event/swim-at-glen-helen-4/2024-06-08/
LOCATION:Glen Helen Regional Park\, 2555 Glen Helen Parkway\, San Bernardino\, CA\, 92407\, United States
CATEGORIES:Glen Helen Pool
ATTACH;FMTTYPE=image/png:https://parks.sbcounty.gov/wp-content/uploads/sites/34/2024/05/Glen-Helen-Swim-Complex-1.png
ORGANIZER;CN="Parks General Inbox":MAILTO:parks@parks.sbcounty.gov
END:VEVENT
BEGIN:VEVENT
DTSTART;TZID=America/Los_Angeles:20240602T100000
DTEND;TZID=America/Los_Angeles:20240602T160000
DTSTAMP:20260421T063721
CREATED:20240519T064346Z
LAST-MODIFIED:20240520T035033Z
UID:10003096-1717322400-1717344000@parks.sbcounty.gov
SUMMARY:Swim at Glen Helen
DESCRIPTION:
URL:https://parks.sbcounty.gov/event/swim-at-glen-helen-4/2024-06-02/
LOCATION:Glen Helen Regional Park\, 2555 Glen Helen Parkway\, San Bernardino\, CA\, 92407\, United States
CATEGORIES:Glen Helen Pool
ATTACH;FMTTYPE=image/png:https://parks.sbcounty.gov/wp-content/uploads/sites/34/2024/05/Glen-Helen-Swim-Complex-1.png
ORGANIZER;CN="Parks General Inbox":MAILTO:parks@parks.sbcounty.gov
END:VEVENT
BEGIN:VEVENT
DTSTART;TZID=America/Los_Angeles:20240601T100000
DTEND;TZID=America/Los_Angeles:20240601T160000
DTSTAMP:20260421T063721
CREATED:20240519T064346Z
LAST-MODIFIED:20240520T035033Z
UID:10003093-1717236000-1717257600@parks.sbcounty.gov
SUMMARY:Swim at Glen Helen
DESCRIPTION:
URL:https://parks.sbcounty.gov/event/swim-at-glen-helen-4/2024-06-01/
LOCATION:Glen Helen Regional Park\, 2555 Glen Helen Parkway\, San Bernardino\, CA\, 92407\, United States
CATEGORIES:Glen Helen Pool
ATTACH;FMTTYPE=image/png:https://parks.sbcounty.gov/wp-content/uploads/sites/34/2024/05/Glen-Helen-Swim-Complex-1.png
ORGANIZER;CN="Parks General Inbox":MAILTO:parks@parks.sbcounty.gov
END:VEVENT
BEGIN:VEVENT
DTSTART;TZID=America/Los_Angeles:20240527T100000
DTEND;TZID=America/Los_Angeles:20240527T160000
DTSTAMP:20260421T063721
CREATED:20240519T063705Z
LAST-MODIFIED:20240520T034945Z
UID:10003084-1716804000-1716825600@parks.sbcounty.gov
SUMMARY:Swim at Glen Helen
DESCRIPTION:
URL:https://parks.sbcounty.gov/event/swim-at-glen-helen-3/
LOCATION:Glen Helen Regional Park\, 2555 Glen Helen Parkway\, San Bernardino\, CA\, 92407\, United States
CATEGORIES:Glen Helen Pool
ATTACH;FMTTYPE=image/png:https://parks.sbcounty.gov/wp-content/uploads/sites/34/2024/05/Glen-Helen-Swim-Complex-1.png
ORGANIZER;CN="Parks General Inbox":MAILTO:parks@parks.sbcounty.gov
END:VEVENT
BEGIN:VEVENT
DTSTART;TZID=America/Los_Angeles:20240526T100000
DTEND;TZID=America/Los_Angeles:20240526T160000
DTSTAMP:20260421T063721
CREATED:20240519T063614Z
LAST-MODIFIED:20240520T034905Z
UID:10003081-1716717600-1716739200@parks.sbcounty.gov
SUMMARY:Swim at Glen Helen
DESCRIPTION:
URL:https://parks.sbcounty.gov/event/swim-at-glen-helen-2/
LOCATION:Glen Helen Regional Park\, 2555 Glen Helen Parkway\, San Bernardino\, CA\, 92407\, United States
CATEGORIES:Glen Helen Pool
ATTACH;FMTTYPE=image/png:https://parks.sbcounty.gov/wp-content/uploads/sites/34/2024/05/Glen-Helen-Swim-Complex-1.png
ORGANIZER;CN="Parks General Inbox":MAILTO:parks@parks.sbcounty.gov
END:VEVENT
BEGIN:VEVENT
DTSTART;TZID=America/Los_Angeles:20240525T100000
DTEND;TZID=America/Los_Angeles:20240525T160000
DTSTAMP:20260421T063721
CREATED:20240519T061229Z
LAST-MODIFIED:20240520T034822Z
UID:10003075-1716631200-1716652800@parks.sbcounty.gov
SUMMARY:Swim at Glen Helen
DESCRIPTION:Swim season begins.
URL:https://parks.sbcounty.gov/event/swim-at-glen-helen/
LOCATION:Glen Helen Regional Park\, 2555 Glen Helen Parkway\, San Bernardino\, CA\, 92407\, United States
CATEGORIES:Glen Helen Pool
ATTACH;FMTTYPE=image/png:https://parks.sbcounty.gov/wp-content/uploads/sites/34/2024/05/Glen-Helen-Swim-Complex-1.png
ORGANIZER;CN="Parks General Inbox":MAILTO:parks@parks.sbcounty.gov
END:VEVENT
BEGIN:VEVENT
DTSTART;TZID=America/Los_Angeles:20240524T150000
DTEND;TZID=America/Los_Angeles:20240524T210000
DTSTAMP:20260421T063721
CREATED:20240425T183153Z
LAST-MODIFIED:20240523T201531Z
UID:10003041-1716562800-1716584400@parks.sbcounty.gov
SUMMARY:Glen Helen Ribbon-Cutting Ceremony & Community Event
DESCRIPTION:Regional Parks is excited to announce we will be having a ribbon-cutting ceremony at Glen Helen Regional Park on Friday\, May 24\, from 3 p.m. to 9 p.m. and we want to invite you to join us and our County Board of Supervisors in recognition of the completion of several new park projects\, such as our new waterslides\, rodeo-themed splashpad\, new restrooms\, island bridge\, picnic shelters and boat dock. Free park admission begins at 3 p.m. Stick around for family fun night with games\, activities\, food trucks\, music and the movie\, Migration.  Bring your own chairs and/or snacks. Free popcorn\, while supplies last. *Food truck prices apply. Admission into Glen Helen is free after 3 p.m. \nNIGHT FISHING: For this event only\, the lakes will be open until 9 p.m. when the park closes. Our first catfish stocking is Thursday\, May 23. Bring the family and fish or enjoy our other park activities. Park fishing permit and license is required. \nSchedule of Events \n\nRibbon-Cutting Ceremony: 3-3:30 PM\nSwim Complex Activities: 3:30-6 PM (limited space available\, first come\, first served basis. Must be onsite by 3:30 p.m.)\nPre-Movie Activities: 6-7:30 PM\nMovie in the Park: 7:30-9 PM
URL:https://parks.sbcounty.gov/event/glen-helen-ribbon-cutting-ceremony-community-event/
LOCATION:Glen Helen Regional Park\, 2555 Glen Helen Parkway\, San Bernardino\, CA\, 92407\, United States
CATEGORIES:Community Event,Ribbon Cutting
ATTACH;FMTTYPE=image/png:https://parks.sbcounty.gov/wp-content/uploads/sites/34/2024/04/Website-Glen-Helen-Ribbon-Cutting-Feature-Image-042424.png
END:VEVENT
END:VCALENDAR