BEGIN:VCALENDAR
VERSION:2.0
PRODID:-//Parks - ECPv6.15.14//NONSGML v1.0//EN
CALSCALE:GREGORIAN
METHOD:PUBLISH
X-WR-CALNAME:Parks
X-ORIGINAL-URL:https://parks.sbcounty.gov
X-WR-CALDESC:Events for Parks
REFRESH-INTERVAL;VALUE=DURATION:PT1H
X-Robots-Tag:noindex
X-PUBLISHED-TTL:PT1H
BEGIN:VTIMEZONE
TZID:America/Los_Angeles
BEGIN:DAYLIGHT
TZOFFSETFROM:-0800
TZOFFSETTO:-0700
TZNAME:PDT
DTSTART:20210314T100000
END:DAYLIGHT
BEGIN:STANDARD
TZOFFSETFROM:-0700
TZOFFSETTO:-0800
TZNAME:PST
DTSTART:20211107T090000
END:STANDARD
BEGIN:DAYLIGHT
TZOFFSETFROM:-0800
TZOFFSETTO:-0700
TZNAME:PDT
DTSTART:20220313T100000
END:DAYLIGHT
BEGIN:STANDARD
TZOFFSETFROM:-0700
TZOFFSETTO:-0800
TZNAME:PST
DTSTART:20221106T090000
END:STANDARD
BEGIN:DAYLIGHT
TZOFFSETFROM:-0800
TZOFFSETTO:-0700
TZNAME:PDT
DTSTART:20230312T100000
END:DAYLIGHT
BEGIN:STANDARD
TZOFFSETFROM:-0700
TZOFFSETTO:-0800
TZNAME:PST
DTSTART:20231105T090000
END:STANDARD
BEGIN:DAYLIGHT
TZOFFSETFROM:-0800
TZOFFSETTO:-0700
TZNAME:PDT
DTSTART:20240310T100000
END:DAYLIGHT
BEGIN:STANDARD
TZOFFSETFROM:-0700
TZOFFSETTO:-0800
TZNAME:PST
DTSTART:20241103T090000
END:STANDARD
BEGIN:DAYLIGHT
TZOFFSETFROM:-0800
TZOFFSETTO:-0700
TZNAME:PDT
DTSTART:20250309T100000
END:DAYLIGHT
BEGIN:STANDARD
TZOFFSETFROM:-0700
TZOFFSETTO:-0800
TZNAME:PST
DTSTART:20251102T090000
END:STANDARD
BEGIN:DAYLIGHT
TZOFFSETFROM:-0800
TZOFFSETTO:-0700
TZNAME:PDT
DTSTART:20260308T100000
END:DAYLIGHT
BEGIN:STANDARD
TZOFFSETFROM:-0700
TZOFFSETTO:-0800
TZNAME:PST
DTSTART:20261101T090000
END:STANDARD
BEGIN:DAYLIGHT
TZOFFSETFROM:-0800
TZOFFSETTO:-0700
TZNAME:PDT
DTSTART:20270314T100000
END:DAYLIGHT
BEGIN:STANDARD
TZOFFSETFROM:-0700
TZOFFSETTO:-0800
TZNAME:PST
DTSTART:20271107T090000
END:STANDARD
END:VTIMEZONE
BEGIN:VEVENT
DTSTART;TZID=America/Los_Angeles:20260120T133000
DTEND;TZID=America/Los_Angeles:20260120T143000
DTSTAMP:20260421T201120
CREATED:20250915T183252Z
LAST-MODIFIED:20260115T214355Z
UID:10005148-1768915800-1768919400@parks.sbcounty.gov
SUMMARY:Fish & Game Commission Meeting
DESCRIPTION:View meeting agenda.
URL:https://parks.sbcounty.gov/event/fish-game-commission-meeting-3/
LOCATION:Regional Parks Admin Office Conference Room\, 268 W. Hospitality Lane\, 3rd FL\, San Bernardino\, 92408\, United States
CATEGORIES:Fish & Game Commission Meeting
ATTACH;FMTTYPE=image/jpeg:https://parks.sbcounty.gov/wp-content/uploads/sites/34/2025/09/Website-Feature-Image-Fish-Game-Commission-Meeting-091525.jpg
ORGANIZER;CN="Heather%C2%A0Placencia":MAILTO:heather.placencia@parks.sbcounty.gov
END:VEVENT
BEGIN:VEVENT
DTSTART;TZID=America/Los_Angeles:20260114T143000
DTEND;TZID=America/Los_Angeles:20260114T153000
DTSTAMP:20260421T201120
CREATED:20251227T005358Z
LAST-MODIFIED:20251227T005458Z
UID:10006367-1768401000-1768404600@parks.sbcounty.gov
SUMMARY:Parks Advisory Commission Meeting
DESCRIPTION:View agenda.
URL:https://parks.sbcounty.gov/event/parks-advisory-commission-meeting-2/
LOCATION:Regional Parks Admin Office Conference Room\, 268 W. Hospitality Lane\, 3rd FL\, San Bernardino\, 92408\, United States
CATEGORIES:Park Advisory Commission Meeting
ATTACH;FMTTYPE=image/png:https://parks.sbcounty.gov/wp-content/uploads/sites/34/2022/07/Park-Advisory-Commission-Meeting.png
ORGANIZER;CN="Heather%C2%A0Placencia":MAILTO:heather.placencia@parks.sbcounty.gov
END:VEVENT
BEGIN:VEVENT
DTSTART;TZID=America/Los_Angeles:20251210T080000
DTEND;TZID=America/Los_Angeles:20251210T170000
DTSTAMP:20260421T201120
CREATED:20250915T175848Z
LAST-MODIFIED:20250915T175848Z
UID:10005139-1765353600-1765386000@parks.sbcounty.gov
SUMMARY:Park Advisory Commission Meeting
DESCRIPTION:Meeting agenda to follow.
URL:https://parks.sbcounty.gov/event/park-advisory-commission-meeting-17/
LOCATION:Regional Parks Admin Office Conference Room\, 268 W. Hospitality Lane\, 3rd FL\, San Bernardino\, 92408\, United States
CATEGORIES:Park Advisory Commission Meeting
ATTACH;FMTTYPE=image/png:https://parks.sbcounty.gov/wp-content/uploads/sites/34/2022/07/Park-Advisory-Commission-Meeting.png
ORGANIZER;CN="Heather%C2%A0Placencia":MAILTO:heather.placencia@parks.sbcounty.gov
END:VEVENT
BEGIN:VEVENT
DTSTART;TZID=America/Los_Angeles:20251118T133000
DTEND;TZID=America/Los_Angeles:20251118T143000
DTSTAMP:20260421T201120
CREATED:20250915T183137Z
LAST-MODIFIED:20251117T220943Z
UID:10005145-1763472600-1763476200@parks.sbcounty.gov
SUMMARY:Fish & Game Commission Meeting
DESCRIPTION:View agenda.
URL:https://parks.sbcounty.gov/event/fish-game-commission-meeting-2/
LOCATION:Regional Parks Admin Office Conference Room\, 268 W. Hospitality Lane\, 3rd FL\, San Bernardino\, 92408\, United States
CATEGORIES:Fish & Game Commission Meeting
ATTACH;FMTTYPE=image/jpeg:https://parks.sbcounty.gov/wp-content/uploads/sites/34/2025/09/Website-Feature-Image-Fish-Game-Commission-Meeting-091525.jpg
ORGANIZER;CN="Heather%C2%A0Placencia":MAILTO:heather.placencia@parks.sbcounty.gov
END:VEVENT
BEGIN:VEVENT
DTSTART;TZID=America/Los_Angeles:20251112T143000
DTEND;TZID=America/Los_Angeles:20251112T153000
DTSTAMP:20260421T201120
CREATED:20250915T175747Z
LAST-MODIFIED:20251106T235554Z
UID:10005136-1762957800-1762961400@parks.sbcounty.gov
SUMMARY:Park Advisory Commission Meeting
DESCRIPTION:View meeting agenda.
URL:https://parks.sbcounty.gov/event/park-advisory-commission-meeting-16/
LOCATION:Regional Parks Admin Office Conference Room\, 268 W. Hospitality Lane\, 3rd FL\, San Bernardino\, 92408\, United States
CATEGORIES:Park Advisory Commission Meeting
ATTACH;FMTTYPE=image/png:https://parks.sbcounty.gov/wp-content/uploads/sites/34/2022/07/Park-Advisory-Commission-Meeting.png
ORGANIZER;CN="Heather%C2%A0Placencia":MAILTO:heather.placencia@parks.sbcounty.gov
END:VEVENT
BEGIN:VEVENT
DTSTART;TZID=America/Los_Angeles:20251008T143000
DTEND;TZID=America/Los_Angeles:20251008T153000
DTSTAMP:20260421T201120
CREATED:20250915T175447Z
LAST-MODIFIED:20251002T221115Z
UID:10005133-1759933800-1759937400@parks.sbcounty.gov
SUMMARY:Park Advisory Commission Meeting
DESCRIPTION:View meeting agenda.
URL:https://parks.sbcounty.gov/event/parks-advisory-commission-meeting/
LOCATION:Regional Parks Admin Office Conference Room\, 268 W. Hospitality Lane\, 3rd FL\, San Bernardino\, 92408\, United States
CATEGORIES:Park Advisory Commission Meeting
ATTACH;FMTTYPE=image/png:https://parks.sbcounty.gov/wp-content/uploads/sites/34/2022/07/Park-Advisory-Commission-Meeting.png
ORGANIZER;CN="Heather%C2%A0Placencia":MAILTO:heather.placencia@parks.sbcounty.gov
END:VEVENT
BEGIN:VEVENT
DTSTART;TZID=America/Los_Angeles:20250916T133000
DTEND;TZID=America/Los_Angeles:20250916T143000
DTSTAMP:20260421T201120
CREATED:20250915T182816Z
LAST-MODIFIED:20250915T182816Z
UID:10005142-1758029400-1758033000@parks.sbcounty.gov
SUMMARY:Fish & Game Commission Meeting
DESCRIPTION:View the Fish & Game Commission meeting agenda.
URL:https://parks.sbcounty.gov/event/fish-game-commission-meeting/
LOCATION:Regional Parks Admin Office Conference Room\, 268 W. Hospitality Lane\, 3rd FL\, San Bernardino\, 92408\, United States
CATEGORIES:Fish & Game Commission Meeting
ATTACH;FMTTYPE=image/jpeg:https://parks.sbcounty.gov/wp-content/uploads/sites/34/2025/09/Website-Feature-Image-Fish-Game-Commission-Meeting-091525.jpg
ORGANIZER;CN="Heather%C2%A0Placencia":MAILTO:heather.placencia@parks.sbcounty.gov
END:VEVENT
BEGIN:VEVENT
DTSTART;TZID=America/Los_Angeles:20241211T143000
DTEND;TZID=America/Los_Angeles:20241211T153000
DTSTAMP:20260421T201120
CREATED:20240508T153908Z
LAST-MODIFIED:20240508T153908Z
UID:10003068-1733927400-1733931000@parks.sbcounty.gov
SUMMARY:Park Advisory Commission Meeting
DESCRIPTION:The San Bernardino County Regional Parks Advisory Commission was established on May 20\, 1969 by a board resolution. The seven-member commission provides a citizen body responsible to communities and the people of San Bernardino County to recommend policy regarding the development and operation of a well-balanced system of Regional Parks. \nMeetings of the Parks Advisory Commission meets monthly at 2:30 PM in the Regional Parks Conference Room.
URL:https://parks.sbcounty.gov/event/park-advisory-commission-meeting-15/
LOCATION:Regional Parks Admin Office Conference Room\, 268 W. Hospitality Lane\, 3rd FL\, San Bernardino\, 92408\, United States
CATEGORIES:Park Advisory Commission Meeting
ATTACH;FMTTYPE=image/png:https://parks.sbcounty.gov/wp-content/uploads/sites/34/2022/07/Park-Advisory-Commission-Meeting.png
ORGANIZER;CN="Heather%C2%A0Placencia":MAILTO:heather.placencia@parks.sbcounty.gov
END:VEVENT
BEGIN:VEVENT
DTSTART;TZID=America/Los_Angeles:20241113T143000
DTEND;TZID=America/Los_Angeles:20241113T153000
DTSTAMP:20260421T201120
CREATED:20240508T153812Z
LAST-MODIFIED:20240508T153812Z
UID:10003065-1731508200-1731511800@parks.sbcounty.gov
SUMMARY:Park Advisory Commission Meeting
DESCRIPTION:The San Bernardino County Regional Parks Advisory Commission was established on May 20\, 1969 by a board resolution. The seven-member commission provides a citizen body responsible to communities and the people of San Bernardino County to recommend policy regarding the development and operation of a well-balanced system of Regional Parks. \nMeetings of the Parks Advisory Commission meets monthly at 2:30 PM in the Regional Parks Conference Room.
URL:https://parks.sbcounty.gov/event/park-advisory-commission-meeting-14/
LOCATION:Regional Parks Admin Office Conference Room\, 268 W. Hospitality Lane\, 3rd FL\, San Bernardino\, 92408\, United States
CATEGORIES:Park Advisory Commission Meeting
ATTACH;FMTTYPE=image/png:https://parks.sbcounty.gov/wp-content/uploads/sites/34/2022/07/Park-Advisory-Commission-Meeting.png
ORGANIZER;CN="Heather%C2%A0Placencia":MAILTO:heather.placencia@parks.sbcounty.gov
END:VEVENT
BEGIN:VEVENT
DTSTART;TZID=America/Los_Angeles:20241009T143000
DTEND;TZID=America/Los_Angeles:20241009T153000
DTSTAMP:20260421T201120
CREATED:20240508T153711Z
LAST-MODIFIED:20240508T153711Z
UID:10003062-1728484200-1728487800@parks.sbcounty.gov
SUMMARY:Park Advisory Commission Meeting
DESCRIPTION:The San Bernardino County Regional Parks Advisory Commission was established on May 20\, 1969 by a board resolution. The seven-member commission provides a citizen body responsible to communities and the people of San Bernardino County to recommend policy regarding the development and operation of a well-balanced system of Regional Parks. \nMeetings of the Parks Advisory Commission meets monthly at 2:30 PM in the Regional Parks Conference Room.
URL:https://parks.sbcounty.gov/event/park-advisory-commission-meeting-13/
LOCATION:Regional Parks Admin Office Conference Room\, 268 W. Hospitality Lane\, 3rd FL\, San Bernardino\, 92408\, United States
CATEGORIES:Park Advisory Commission Meeting
ATTACH;FMTTYPE=image/png:https://parks.sbcounty.gov/wp-content/uploads/sites/34/2022/07/Park-Advisory-Commission-Meeting.png
ORGANIZER;CN="Heather%C2%A0Placencia":MAILTO:heather.placencia@parks.sbcounty.gov
END:VEVENT
BEGIN:VEVENT
DTSTART;TZID=America/Los_Angeles:20240911T143000
DTEND;TZID=America/Los_Angeles:20240911T153000
DTSTAMP:20260421T201120
CREATED:20240508T153614Z
LAST-MODIFIED:20240508T153614Z
UID:10003059-1726065000-1726068600@parks.sbcounty.gov
SUMMARY:Park Advisory Commission Meeting
DESCRIPTION:The San Bernardino County Regional Parks Advisory Commission was established on May 20\, 1969 by a board resolution. The seven-member commission provides a citizen body responsible to communities and the people of San Bernardino County to recommend policy regarding the development and operation of a well-balanced system of Regional Parks. \nMeetings of the Parks Advisory Commission meets monthly at 2:30 PM in the Regional Parks Conference Room.
URL:https://parks.sbcounty.gov/event/park-advisory-commission-meeting-12/
LOCATION:Regional Parks Admin Office Conference Room\, 268 W. Hospitality Lane\, 3rd FL\, San Bernardino\, 92408\, United States
CATEGORIES:Park Advisory Commission Meeting
ATTACH;FMTTYPE=image/png:https://parks.sbcounty.gov/wp-content/uploads/sites/34/2022/07/Park-Advisory-Commission-Meeting.png
ORGANIZER;CN="Heather%C2%A0Placencia":MAILTO:heather.placencia@parks.sbcounty.gov
END:VEVENT
BEGIN:VEVENT
DTSTART;TZID=America/Los_Angeles:20240814T143000
DTEND;TZID=America/Los_Angeles:20240814T153000
DTSTAMP:20260421T201120
CREATED:20240508T153516Z
LAST-MODIFIED:20240508T153516Z
UID:10003056-1723645800-1723649400@parks.sbcounty.gov
SUMMARY:Park Advisory Commission Meeting
DESCRIPTION:The San Bernardino County Regional Parks Advisory Commission was established on May 20\, 1969 by a board resolution. The seven-member commission provides a citizen body responsible to communities and the people of San Bernardino County to recommend policy regarding the development and operation of a well-balanced system of Regional Parks. \nMeetings of the Parks Advisory Commission meets monthly at 2:30 PM in the Regional Parks Conference Room.
URL:https://parks.sbcounty.gov/event/park-advisory-commission-meeting-11/
LOCATION:Regional Parks Admin Office Conference Room\, 268 W. Hospitality Lane\, 3rd FL\, San Bernardino\, 92408\, United States
CATEGORIES:Park Advisory Commission Meeting
ATTACH;FMTTYPE=image/png:https://parks.sbcounty.gov/wp-content/uploads/sites/34/2022/07/Park-Advisory-Commission-Meeting.png
ORGANIZER;CN="Heather%C2%A0Placencia":MAILTO:heather.placencia@parks.sbcounty.gov
END:VEVENT
BEGIN:VEVENT
DTSTART;TZID=America/Los_Angeles:20240718T130000
DTEND;TZID=America/Los_Angeles:20240718T140000
DTSTAMP:20260421T201120
CREATED:20240712T000551Z
LAST-MODIFIED:20240713T070329Z
UID:10003557-1721307600-1721311200@parks.sbcounty.gov
SUMMARY:Electronic Dance Music Task Force Meeting
DESCRIPTION:Click here for the meeting agenda.
URL:https://parks.sbcounty.gov/event/electronic-dance-music-task-force-meeting-3/
LOCATION:Regional Parks Admin Office Conference Room\, 268 W. Hospitality Lane\, 3rd FL\, San Bernardino\, 92408\, United States
CATEGORIES:EDM Meeting
ATTACH;FMTTYPE=image/png:https://parks.sbcounty.gov/wp-content/uploads/sites/34/2022/09/Electronic-Dance-Music-Task-Force-Meeting.png
ORGANIZER;CN="Heather%C2%A0Placencia":MAILTO:heather.placencia@parks.sbcounty.gov
END:VEVENT
BEGIN:VEVENT
DTSTART;TZID=America/Los_Angeles:20240710T143000
DTEND;TZID=America/Los_Angeles:20240710T153000
DTSTAMP:20260421T201120
CREATED:20240508T153412Z
LAST-MODIFIED:20240508T153412Z
UID:10003053-1720621800-1720625400@parks.sbcounty.gov
SUMMARY:Park Advisory Commission Meeting
DESCRIPTION:The San Bernardino County Regional Parks Advisory Commission was established on May 20\, 1969 by a board resolution. The seven-member commission provides a citizen body responsible to communities and the people of San Bernardino County to recommend policy regarding the development and operation of a well-balanced system of Regional Parks. \nMeetings of the Parks Advisory Commission meets monthly at 2:30 PM in the Regional Parks Conference Room.
URL:https://parks.sbcounty.gov/event/park-advisory-commission-meeting-10/
LOCATION:Regional Parks Admin Office Conference Room\, 268 W. Hospitality Lane\, 3rd FL\, San Bernardino\, 92408\, United States
CATEGORIES:Park Advisory Commission Meeting
ATTACH;FMTTYPE=image/png:https://parks.sbcounty.gov/wp-content/uploads/sites/34/2022/07/Park-Advisory-Commission-Meeting.png
ORGANIZER;CN="Heather%C2%A0Placencia":MAILTO:heather.placencia@parks.sbcounty.gov
END:VEVENT
BEGIN:VEVENT
DTSTART;TZID=America/Los_Angeles:20240612T143000
DTEND;TZID=America/Los_Angeles:20240612T153000
DTSTAMP:20260421T201120
CREATED:20240508T153258Z
LAST-MODIFIED:20240508T153258Z
UID:10003050-1718202600-1718206200@parks.sbcounty.gov
SUMMARY:Park Advisory Commission Meeting
DESCRIPTION:The San Bernardino County Regional Parks Advisory Commission was established on May 20\, 1969 by a board resolution. The seven-member commission provides a citizen body responsible to communities and the people of San Bernardino County to recommend policy regarding the development and operation of a well-balanced system of Regional Parks. \nMeetings of the Parks Advisory Commission meets monthly at 2:30 PM in the Regional Parks Conference Room.
URL:https://parks.sbcounty.gov/event/park-advisory-commission-meeting-9/
LOCATION:Regional Parks Admin Office Conference Room\, 268 W. Hospitality Lane\, 3rd FL\, San Bernardino\, 92408\, United States
CATEGORIES:Park Advisory Commission Meeting
ATTACH;FMTTYPE=image/png:https://parks.sbcounty.gov/wp-content/uploads/sites/34/2022/07/Park-Advisory-Commission-Meeting.png
ORGANIZER;CN="Heather%C2%A0Placencia":MAILTO:heather.placencia@parks.sbcounty.gov
END:VEVENT
BEGIN:VEVENT
DTSTART;TZID=America/Los_Angeles:20240508T143000
DTEND;TZID=America/Los_Angeles:20240508T153000
DTSTAMP:20260421T201120
CREATED:20240508T152954Z
LAST-MODIFIED:20240508T153127Z
UID:10003047-1715178600-1715182200@parks.sbcounty.gov
SUMMARY:Park Advisory Commission Meeting
DESCRIPTION:The San Bernardino County Regional Parks Advisory Commission was established on May 20\, 1969 by a board resolution. The seven-member commission provides a citizen body responsible to communities and the people of San Bernardino County to recommend policy regarding the development and operation of a well-balanced system of Regional Parks. \nMeetings of the Parks Advisory Commission meets monthly at 2:30 PM in the Regional Parks Conference Room. \nView Meeting Agenda
URL:https://parks.sbcounty.gov/event/park-advisory-commission-meeting-8/
LOCATION:Regional Parks Admin Office Conference Room\, 268 W. Hospitality Lane\, 3rd FL\, San Bernardino\, 92408\, United States
CATEGORIES:Park Advisory Commission Meeting
ATTACH;FMTTYPE=image/png:https://parks.sbcounty.gov/wp-content/uploads/sites/34/2022/07/Park-Advisory-Commission-Meeting.png
ORGANIZER;CN="Heather%C2%A0Placencia":MAILTO:heather.placencia@parks.sbcounty.gov
END:VEVENT
BEGIN:VEVENT
DTSTART;TZID=America/Los_Angeles:20240410T143000
DTEND;TZID=America/Los_Angeles:20240410T153000
DTSTAMP:20260421T201120
CREATED:20240404T234104Z
LAST-MODIFIED:20240404T234104Z
UID:10003010-1712759400-1712763000@parks.sbcounty.gov
SUMMARY:Park Advisory Commission Meeting
DESCRIPTION:
URL:https://parks.sbcounty.gov/event/park-advisory-commission-meeting-7/
LOCATION:Regional Parks Admin Office Conference Room\, 268 W. Hospitality Lane\, 3rd FL\, San Bernardino\, 92408\, United States
CATEGORIES:Park Advisory Commission Meeting
ATTACH;FMTTYPE=image/png:https://parks.sbcounty.gov/wp-content/uploads/sites/34/2022/07/Park-Advisory-Commission-Meeting.png
ORGANIZER;CN="Heather%C2%A0Placencia":MAILTO:heather.placencia@parks.sbcounty.gov
END:VEVENT
BEGIN:VEVENT
DTSTART;TZID=America/Los_Angeles:20230809T143000
DTEND;TZID=America/Los_Angeles:20230809T153000
DTSTAMP:20260421T201120
CREATED:20230807T202219Z
LAST-MODIFIED:20230807T202219Z
UID:10002885-1691591400-1691595000@parks.sbcounty.gov
SUMMARY:Park Advisory Commission Meeting
DESCRIPTION:The Park Advisory Commission meets once a month. The San Bernardino County Regional Parks Advisory Commission was established on May 20\, 1969 by a board resolution. The seven-member commission provides a citizen body responsible to communities and the people of San Bernardino County to recommend policy regarding the development and operation of a well-balanced system of Regional Parks. \nAGENDA \n\nAdvisory agenda August 9 2023
URL:https://parks.sbcounty.gov/event/park-advisory-commission-meeting-6/
LOCATION:Regional Parks Admin Office Conference Room\, 268 W. Hospitality Lane\, 3rd FL\, San Bernardino\, 92408\, United States
CATEGORIES:Park Advisory Commission Meeting
ATTACH;FMTTYPE=image/png:https://parks.sbcounty.gov/wp-content/uploads/sites/34/2022/07/Park-Advisory-Commission-Meeting.png
ORGANIZER;CN="Heather%C2%A0Placencia":MAILTO:heather.placencia@parks.sbcounty.gov
END:VEVENT
BEGIN:VEVENT
DTSTART;TZID=America/Los_Angeles:20221214T143000
DTEND;TZID=America/Los_Angeles:20221214T153000
DTSTAMP:20260421T201120
CREATED:20220714T224717Z
LAST-MODIFIED:20221109T191415Z
UID:10002195-1671028200-1671031800@parks.sbcounty.gov
SUMMARY:Park Advisory Commission Meeting
DESCRIPTION:Agenda to follow.
URL:https://parks.sbcounty.gov/event/park-advisory-commission-meeting-5/
LOCATION:Regional Parks Admin Office Conference Room\, 268 W. Hospitality Lane\, 3rd FL\, San Bernardino\, 92408\, United States
CATEGORIES:Park Advisory Commission Meeting
ATTACH;FMTTYPE=image/png:https://parks.sbcounty.gov/wp-content/uploads/sites/34/2022/07/Park-Advisory-Commission-Meeting.png
ORGANIZER;CN="Heather%C2%A0Placencia":MAILTO:heather.placencia@parks.sbcounty.gov
END:VEVENT
END:VCALENDAR