BEGIN:VCALENDAR
VERSION:2.0
PRODID:-//Parks - ECPv6.15.14//NONSGML v1.0//EN
CALSCALE:GREGORIAN
METHOD:PUBLISH
X-WR-CALNAME:Parks
X-ORIGINAL-URL:https://parks.sbcounty.gov
X-WR-CALDESC:Events for Parks
REFRESH-INTERVAL;VALUE=DURATION:PT1H
X-Robots-Tag:noindex
X-PUBLISHED-TTL:PT1H
BEGIN:VTIMEZONE
TZID:America/Los_Angeles
BEGIN:DAYLIGHT
TZOFFSETFROM:-0800
TZOFFSETTO:-0700
TZNAME:PDT
DTSTART:20250309T100000
END:DAYLIGHT
BEGIN:STANDARD
TZOFFSETFROM:-0700
TZOFFSETTO:-0800
TZNAME:PST
DTSTART:20251102T090000
END:STANDARD
BEGIN:DAYLIGHT
TZOFFSETFROM:-0800
TZOFFSETTO:-0700
TZNAME:PDT
DTSTART:20260308T100000
END:DAYLIGHT
BEGIN:STANDARD
TZOFFSETFROM:-0700
TZOFFSETTO:-0800
TZNAME:PST
DTSTART:20261101T090000
END:STANDARD
BEGIN:DAYLIGHT
TZOFFSETFROM:-0800
TZOFFSETTO:-0700
TZNAME:PDT
DTSTART:20270314T100000
END:DAYLIGHT
BEGIN:STANDARD
TZOFFSETFROM:-0700
TZOFFSETTO:-0800
TZNAME:PST
DTSTART:20271107T090000
END:STANDARD
END:VTIMEZONE
BEGIN:VEVENT
DTSTART;TZID=America/Los_Angeles:20260212T120000
DTEND;TZID=America/Los_Angeles:20260212T130000
DTSTAMP:20260422T051448
CREATED:20260130T001025Z
LAST-MODIFIED:20260130T001054Z
UID:10006423-1770897600-1770901200@parks.sbcounty.gov
SUMMARY:Santa Ana River Trail Ribbon-Cutting
DESCRIPTION:Join Regional Parks along with Board of Supervisors Chairman and Third District Supervisor Dawn Rowe and Vice Chair and Fifth District Supervisor Joe Baca\, Jr. on Thursday\, Feb. 12\, from 12-1 p.m. to celebrate the completion of the SART Phase III with a ribbon-cutting ceremony and first official ride out onto the trail afterwards. \nThe completion of Phase III represents significant progress in advancing the SART project\, which will eventually result in a complete path from the National Forest boundary in Mentone to the Pacific Ocean in Huntington Beach. \nWith the completion of Phase III\, 11 miles of trail now makes it possible to walk or bicycle along the river from a spot north of California Street\, through all of San Bernardino and Colton\, and nearly to the western end of Riverside. \n“Regional Parks is excited to complete this section of the Santa Ana River Trail bringing us 3.8 miles closer to the mountain crest. This will increase recreational opportunities for our users to bike\, hike\, walk or use as a means of alternate transportation that provides them a safe road of travel away from road traffic\,” said Beahta Davis\, director of Regional Parks. \nRegional Parks is responsible for the creation\, operation and maintenance of the eventual 22 miles of trail within the county when Phase IV is completed. \nCeremony Details \n\nLocation and parking: The ceremony will take place at the trail section behind the California Employment Development Department Tax Division Building\, 658 E. Brier Dr. in San Bernardino. There is no public parking at ribbon-cutting location. Parking and shuttles will be available at 268 W. Hospitality Lane in San Bernardino near the Hall of Records building parking lot.\nBike ride out: Trail enthusiasts are welcome to join us for the official bike ride after the ceremony. Riders who want to join us for the bike ride after the ceremony must ride out to the ceremony location on their bikes. We cannot transport any bikes on the shuttles.\nArrive early: The ceremony location is about 10 minutes via shuttle from the parking lot at 268 W. Hospitality Lane. Allow travel time to the ceremony.\n\nFor more information on SART and Regional Parks\, visit parks.sbcounty.gov.
URL:https://parks.sbcounty.gov/event/santa-ana-river-trail-ribbon-cutting/
LOCATION:SART Phase III Ribbon-Cutting\, 658 E. Brier Dr.\, San Bernardino\, CA\, 92415\, United States
CATEGORIES:Ribbon Cutting
ATTACH;FMTTYPE=image/jpeg:https://parks.sbcounty.gov/wp-content/uploads/sites/34/2026/01/SART-Ribbon-Cutting-Website-Feature-Image-012926.jpg
ORGANIZER;CN="Heather%C2%A0Placencia":MAILTO:heather.placencia@parks.sbcounty.gov
END:VEVENT
END:VCALENDAR